BEGIN:VCALENDAR
VERSION:2.0
PRODID:-//Business and Professional Women Austria - ECPv6.15.20//NONSGML v1.0//EN
CALSCALE:GREGORIAN
METHOD:PUBLISH
X-WR-CALNAME:Business and Professional Women Austria
X-ORIGINAL-URL:https://bpw.at
X-WR-CALDESC:Veranstaltungen für Business and Professional Women Austria
REFRESH-INTERVAL;VALUE=DURATION:PT1H
X-Robots-Tag:noindex
X-PUBLISHED-TTL:PT1H
BEGIN:VTIMEZONE
TZID:Europe/Berlin
BEGIN:DAYLIGHT
TZOFFSETFROM:+0100
TZOFFSETTO:+0200
TZNAME:CEST
DTSTART:20180325T010000
END:DAYLIGHT
BEGIN:STANDARD
TZOFFSETFROM:+0200
TZOFFSETTO:+0100
TZNAME:CET
DTSTART:20181028T010000
END:STANDARD
BEGIN:DAYLIGHT
TZOFFSETFROM:+0100
TZOFFSETTO:+0200
TZNAME:CEST
DTSTART:20190331T010000
END:DAYLIGHT
BEGIN:STANDARD
TZOFFSETFROM:+0200
TZOFFSETTO:+0100
TZNAME:CET
DTSTART:20191027T010000
END:STANDARD
BEGIN:DAYLIGHT
TZOFFSETFROM:+0100
TZOFFSETTO:+0200
TZNAME:CEST
DTSTART:20200329T010000
END:DAYLIGHT
BEGIN:STANDARD
TZOFFSETFROM:+0200
TZOFFSETTO:+0100
TZNAME:CET
DTSTART:20201025T010000
END:STANDARD
END:VTIMEZONE
BEGIN:VTIMEZONE
TZID:Europe/Vienna
BEGIN:DAYLIGHT
TZOFFSETFROM:+0100
TZOFFSETTO:+0200
TZNAME:CEST
DTSTART:20180325T010000
END:DAYLIGHT
BEGIN:STANDARD
TZOFFSETFROM:+0200
TZOFFSETTO:+0100
TZNAME:CET
DTSTART:20181028T010000
END:STANDARD
BEGIN:DAYLIGHT
TZOFFSETFROM:+0100
TZOFFSETTO:+0200
TZNAME:CEST
DTSTART:20190331T010000
END:DAYLIGHT
BEGIN:STANDARD
TZOFFSETFROM:+0200
TZOFFSETTO:+0100
TZNAME:CET
DTSTART:20191027T010000
END:STANDARD
BEGIN:DAYLIGHT
TZOFFSETFROM:+0100
TZOFFSETTO:+0200
TZNAME:CEST
DTSTART:20200329T010000
END:DAYLIGHT
BEGIN:STANDARD
TZOFFSETFROM:+0200
TZOFFSETTO:+0100
TZNAME:CET
DTSTART:20201025T010000
END:STANDARD
END:VTIMEZONE
BEGIN:VEVENT
DTSTART;TZID=Europe/Berlin:20190810T110000
DTEND;TZID=Europe/Berlin:20190810T130000
DTSTAMP:20260422T041151
CREATED:20190409T101654Z
LAST-MODIFIED:20190412T135903Z
UID:10000605-1565434800-1565442000@bpw.at
SUMMARY:Breakfast bei BPW Salzkammergut
DESCRIPTION:Datum: Samstag\, 10. August 2019 – 11:00\nBPW Club: Salzkammergut\nOrt: Landhotel Eichingerbauer\, St. Lorenz
URL:https://bpw.at/event/breakfast-bei-bpw-salzkammergut/
LOCATION:Landhotel Eichingerbauer\, Eich 34\, Mondsee\, Salzburg\, 5310\, Österreich
CATEGORIES:Salzkammergut
END:VEVENT
BEGIN:VEVENT
DTSTART;VALUE=DATE:20190830
DTEND;VALUE=DATE:20190902
DTSTAMP:20260422T041151
CREATED:20191031T111723Z
LAST-MODIFIED:20191031T113402Z
UID:10000752-1567123200-1567382399@bpw.at
SUMMARY:BPW Wien-International Workshop
DESCRIPTION:BPW Wien-International \nWorkshop \n30.08.-01.19.2019: \nKrems (Hotel Steigenberger)
URL:https://bpw.at/event/bpw-wien-international-workshop-2/
LOCATION:Krems\, Hotel Steigenberger\, Krems\, Österreich
CATEGORIES:ehem. Wien-International
END:VEVENT
BEGIN:VEVENT
DTSTART;TZID=Europe/Vienna:20190830T180000
DTEND;TZID=Europe/Vienna:20190830T220000
DTSTAMP:20260422T041151
CREATED:20190718T123801Z
LAST-MODIFIED:20190718T123801Z
UID:10000731-1567188000-1567202400@bpw.at
SUMMARY:„Afterwork Drink“ im Restaurant „Deck 47“ am Baggersee in Innsbruck
DESCRIPTION:Liebe BPW\,\nwir laden dich herzlich ein zu unserem nächsten „Afterwork Drink“ \nWann?\nFreitag\, 30.08.2019 \nWo?\nab 18:00 im Restaurant „Deck 47“\nam Baggersee in Innsbruck \nKommst du schon um 18:00 Uhr oder hast du erst später Zeit?\nBeim Afterwork Drink kommt und geht jede BPW\, wann sie will!\nKomm auf einen Drink vorbei oder verbringe den ganzen Abend mit uns!\nBeim Netzwerken können wir uns besser kennen lernen und\nnützliche Kontakte knüpfen.\nAlle BPW haben viele interessante Seiten\, entdecke sie! \n Wir freuen uns auf dich! \nDer Vorstand vom BPW Club Tirol:\nMonika und Olga\, Nataliya und Eva\, Andrea und Anni\nkooptiert: Silvia und Sylvia
URL:https://bpw.at/event/afterwork-drink-im-restaurant-deck-47-am-baggersee-in-innsbruck/
LOCATION:Restaurant „Deck 47“ am Baggersee in Innsbruck\, Archenweg 62\, Innsbruck\, 6020\, Österreich
CATEGORIES:Tirol
ORGANIZER;CN="BPW Club Tirol":MAILTO:office-tirol@bpw.at
END:VEVENT
BEGIN:VEVENT
DTSTART;TZID=Europe/Berlin:20190904T183000
DTEND;TZID=Europe/Berlin:20190904T230000
DTSTAMP:20260422T041151
CREATED:20190409T102051Z
LAST-MODIFIED:20190412T135848Z
UID:10000610-1567621800-1567638000@bpw.at
SUMMARY:Clubabend / Der ökologische Fußabdruck / Karin Juriga
DESCRIPTION:Datum: Mittwoch\, 4. September 2019 – 18:30\nBPW Club: Salzkammergut\nOrt: Landhotel Eichingerbauer\, St. Lorenz
URL:https://bpw.at/event/clubabend-der-oekologische-fussabdruck-karin-juriga/
LOCATION:Landhotel Eichingerbauer\, Eich 34\, Mondsee\, Salzburg\, 5310\, Österreich
CATEGORIES:Salzkammergut
END:VEVENT
BEGIN:VEVENT
DTSTART;TZID=Europe/Vienna:20190910T180000
DTEND;TZID=Europe/Vienna:20190910T220000
DTSTAMP:20260422T041151
CREATED:20190522T085429Z
LAST-MODIFIED:20190905T205833Z
UID:10000701-1568138400-1568152800@bpw.at
SUMMARY:BPW Salzburg Clubabend "European Forum Alpbach – 2019" mit Dr. iur Maria Ganauser
DESCRIPTION:European Forum Alpbach – 2019 \nUnternehmer aus dem In- und Ausland\, Persönlichkeiten aus Politik und Forschung\, sowie Verfechter von neuen Ideen traten in den freien Dialog\, der Generationen und Ideologien überschreitet. Wie vertragen sich die menschlichen Wünsche nach Freiheit und Sicherheit? Die Welt ist im Umbruch – wo steht da Europa? Wird es zwischen den Blöcken USA und China noch Luft zum Atmen haben? \nIch brenne darauf\, Euch einen Überblick über meine Erfahrungen und Erkenntnisse bei diesem tollen Symposium in Alpbach zu geben. \nKeine Sorge – es gibt Grund zu Optimismus! Nur Optimisten bringen etwas weiter! \n  \nDr. iur Maria Ganauser \nVernetzung ab: 18:00 Uhr Vortragsbeginn: 19:30 Uhr \nBPW´s: gratis  Gästebeitrag: €  15\,– \nWährend und nach der Veranstaltung wird fotografiert. Die Fotos werden auf unserer Homepage www.bpw.at/salzburg veröffentlicht und in unserem Gästebuch eingeklebt und sind als Erinnerung und Nachlese gedacht. Mit der Teilnahme am Clubabend erklärt Ihr Euch damit einverstanden.
URL:https://bpw.at/event/clubabend-5/
LOCATION:Salzburg Airport W. A. Mozart\, Restaurant Jedermann\, Innsbrucker Bundesstr. 95\, Salzburg\, Salzburg\, 5020\, Österreich
CATEGORIES:Salzburg
ATTACH;FMTTYPE=image/jpeg:https://bpw.at/wp/wp-content/uploads/2019/05/20190828_134522.jpg
ORGANIZER;CN="BPW Club Salzburg":MAILTO:salzburg@bpw.at
END:VEVENT
BEGIN:VEVENT
DTSTART;TZID=Europe/Vienna:20190910T180000
DTEND;TZID=Europe/Vienna:20190910T233000
DTSTAMP:20260422T041151
CREATED:20190819T055541Z
LAST-MODIFIED:20190819T055541Z
UID:10000747-1568138400-1568158200@bpw.at
SUMMARY:Wir für uns Abend - Members only
DESCRIPTION:Der Clubabend am 10.09.2019 steht ganz im Zeichen der Zukunft von BPW Wels-Hausruck und ist deshalb nur für die Mitglieder offen. \nDer ursprünglich geplante und im Folder angekündigte “Working Mum Talk” wird zu einem anderen Zeitpunkt statt finden.
URL:https://bpw.at/event/wir-fuer-uns-abend-members-only/
LOCATION:Parkhotel Stroissmüller\, Badstraße 2\, Bad Schallerbach\, Oberösterreich\, 4701\, Österreich
CATEGORIES:Linz-Wels
END:VEVENT
BEGIN:VEVENT
DTSTART;VALUE=DATE:20190918
DTEND;VALUE=DATE:20190919
DTSTAMP:20260422T041151
CREATED:20190612T203342Z
LAST-MODIFIED:20201227T230341Z
UID:10000714-1568764800-1568851199@bpw.at
SUMMARY:Rückblick - Clubabend September 2019 - Spielbank Lindau
DESCRIPTION:Ladys-Night in der Spielbank in Lindau – und Mitglieder und Interessentinnen von BPW Vorarlberg waren dabei. Es war erstaunlich wenig los und wir waren die VIPs des Abend. Neben einer Spieleinführung nur für unsere Gruppe gab es Gutscheine für Essen und Trinken und natürlich einige Gratisjetons. Wir konnten viel ausprobieren\, einige haben gewonnen\, andere haben kleine Beträge verloren. \nFazit: Lustig war es\, auch absolute Spielbankmuffel – wie die Autorin – fanden ausreichend Ablenkung. \nP.S.: Fotos gibt es diesmal keine\, so wurde es in der Gruppe vereinbart!
URL:https://bpw.at/event/bpw-vorarlberg-clubabend-september-2019/
CATEGORIES:Vorarlberg,Vorarlberg Impressionen und Berichte
ATTACH;FMTTYPE=image/jpeg:https://bpw.at/wp/wp-content/uploads/2019/06/bpw_vorarlberg_spielbank_lindau_2019.jpg
ORGANIZER;CN="BPW Club Vorarlberg":MAILTO:vorarlberg@bpw.at
END:VEVENT
BEGIN:VEVENT
DTSTART;TZID=Europe/Vienna:20190918T183000
DTEND;TZID=Europe/Vienna:20190918T183000
DTSTAMP:20260422T041151
CREATED:20190910T205919Z
LAST-MODIFIED:20190910T205919Z
UID:10000640-1568831400-1568831400@bpw.at
SUMMARY:BPW Clubabend in Kufstein
DESCRIPTION:Einladung zum Clubabend\nam Mittwoch\, 18. September 2019 in Kufstein\n\n\nWorkshop mit Mag.a Dusica Tepic\n“Ziele schneller und leichter erreichen – viel mehr Energie durch einfache Techniken!”\nFrauen haben manchmal das Gefühl\, sich selbst im Weg zu stehen… \nÄrgerst du dich manchmal darüber\, dass du bestimmte Dinge in einer besonderen Situation nicht so gelöst hast\, wie du sie hättest lösen können? \nOder es fällt dir in einem Gespräch nichts Passendes ein. Dabei kannst du doch sonst ganz toll argumentieren!\nIn diesem Workshop übst du\, wie du es mit einfachen Techniken schaffst\, deine Ziele erfolgreich zu verfolgen. Deine Ängste werden verschwinden und du erfährst\, warum es so enorm wichtig ist\, an sich selbst zu glauben! \nDu lernst\, wie mit klaren Zielen\, unterstützenden Netzwerken\, guten Gewohnheiten\, Gelassenheit und vor allem einem starken Willen deine Wünsche reale Wirklichkeit werden! \nUnd das Selbstbewusstsein… das entsteht dann wie von selbst. \n  \nAnkommen: 18:30 Uhr\nBeginn um: 19:00 Uhr\nOrt: Hotel Alpenrose\, Weissachstraße 47\, Kufstein \n  \nMag.a Dusica Tepic \nist Klinische- und Gesundheitspsychologin\nmit Schwerpunkten in den Bereichen: \nPersönlichkeitsbildung\, Kinder-\, Jugend- und Familienpsychologie\,\nPaar- und Sexualpsychologie sowie videounterstützte Beratung und Traumabehandlung mit Brainspotting\nwww.beziehungskultur.com \n  \nDer Interessentinnen-Beitrag beträgt € 15\,- \nUm Anmeldung bis spätestens 16.09.2019\nunter office-tirol@bpw.at wird gebeten. \nWir freuen uns auf einen spannenden und bereichernden Abend\nund auf ein Wiedersehen mit dir! \nDer Vorstand vom BPW Club Tirol:\nMonika und Olga\, Nataliya und Eva\, Andrea und Anni\nkooptiert: Silvia und Sylvia
URL:https://bpw.at/event/bpw-clubabend-in-kufstein/
LOCATION:Kufstein\, Tirol\, Österreich
CATEGORIES:Tirol
ATTACH;FMTTYPE=image/jpeg:https://bpw.at/wp/wp-content/uploads/2019/09/BPW-Club-Tirol-Power-Frau.jpg
ORGANIZER;CN="BPW Club Tirol":MAILTO:office-tirol@bpw.at
END:VEVENT
END:VCALENDAR