BEGIN:VCALENDAR
VERSION:2.0
PRODID:-//Business and Professional Women Austria - ECPv6.15.20//NONSGML v1.0//EN
CALSCALE:GREGORIAN
METHOD:PUBLISH
X-WR-CALNAME:Business and Professional Women Austria
X-ORIGINAL-URL:https://bpw.at
X-WR-CALDESC:Veranstaltungen für Business and Professional Women Austria
REFRESH-INTERVAL;VALUE=DURATION:PT1H
X-Robots-Tag:noindex
X-PUBLISHED-TTL:PT1H
BEGIN:VTIMEZONE
TZID:Europe/Vienna
BEGIN:DAYLIGHT
TZOFFSETFROM:+0100
TZOFFSETTO:+0200
TZNAME:CEST
DTSTART:20210328T010000
END:DAYLIGHT
BEGIN:STANDARD
TZOFFSETFROM:+0200
TZOFFSETTO:+0100
TZNAME:CET
DTSTART:20211031T010000
END:STANDARD
BEGIN:DAYLIGHT
TZOFFSETFROM:+0100
TZOFFSETTO:+0200
TZNAME:CEST
DTSTART:20220327T010000
END:DAYLIGHT
BEGIN:STANDARD
TZOFFSETFROM:+0200
TZOFFSETTO:+0100
TZNAME:CET
DTSTART:20221030T010000
END:STANDARD
BEGIN:DAYLIGHT
TZOFFSETFROM:+0100
TZOFFSETTO:+0200
TZNAME:CEST
DTSTART:20230326T010000
END:DAYLIGHT
BEGIN:STANDARD
TZOFFSETFROM:+0200
TZOFFSETTO:+0100
TZNAME:CET
DTSTART:20231029T010000
END:STANDARD
END:VTIMEZONE
BEGIN:VEVENT
DTSTART;TZID=Europe/Vienna:20220707T183000
DTEND;TZID=Europe/Vienna:20220707T230000
DTSTAMP:20260421T013735
CREATED:20220116T183542Z
LAST-MODIFIED:20220704T144730Z
UID:10000843-1657218600-1657234800@bpw.at
SUMMARY:Clubabend Wels-Hausruck Follow-Up "Workshop Vereinbarkeit"
DESCRIPTION:Da unser Workshop “Vereinbarkeit” im Mai so viele Inhalte hervorgebracht hat\, wollen wir uns noch einmal zusammen setzen und die wichtigsten Punkte für einen Termin bei LR Christine Haberlander heraus arbeiten! \nHerzlich Willkommen sind auch alle\, die beim ersten Workshop nicht dabei waren. \nWir treffen uns in Linz beim “Josef” in der Landstraße! Wir beginnen um 19.00 Uhr \n(verbindliche) Anmeldung bitte gleich hier über die Homepage! \nGäste – Damen wie Herren\, herzlich Willkommen! \n 
URL:https://bpw.at/event/clubabend-wels-hausruck-wir-finden-einen-neuen-namen/
LOCATION:Josef\, Landstraße 49\, Linz\, Oberösterreich\, 4020
CATEGORIES:Linz-Wels
END:VEVENT
BEGIN:VEVENT
DTSTART;TZID=Europe/Vienna:20220712T180000
DTEND;TZID=Europe/Vienna:20220712T220000
DTSTAMP:20260421T013735
CREATED:20220523T121530Z
LAST-MODIFIED:20220630T053750Z
UID:10001034-1657648800-1657663200@bpw.at
SUMMARY:Wir für uns
DESCRIPTION:Wann:\nDienstag\, 12.07.2022\nab 18:00 Uhr Vernetzung\n19:30 Uhr Beginn \nWo:\nFlughafenrestaurant „Das Wolfgang“\n5020 Salzburg Airport \n  \nWährend und nach der Veranstaltung wird fotografiert. Die Fotos werden auf unserer Homepage www.bpw.at/salzburg veröffentlicht und in unserem Gästebuch eingeklebt und sind als Erinnerung und Nachlese gedacht. Mit der Teilnahme am Clubabend erklärt Ihr Euch damit einverstanden.
URL:https://bpw.at/event/wir-fuer-uns-2/
LOCATION:Salzburg Airport\, Terminal 1 Panorama Restaurant “Das Wolfgang”\, Innsbrucker Bundestraße 95\, Salzburg\, 5020\, Österreich
CATEGORIES:Salzburg
ATTACH;FMTTYPE=image/jpeg:https://bpw.at/wp/wp-content/uploads/2022/05/Teaser_Juli-2022.jpg
ORGANIZER;CN="BPW Club Salzburg":MAILTO:salzburg@bpw.at
END:VEVENT
BEGIN:VEVENT
DTSTART;TZID=Europe/Vienna:20220715T180000
DTEND;TZID=Europe/Vienna:20220715T210000
DTSTAMP:20260421T013735
CREATED:20220531T083629Z
LAST-MODIFIED:20220609T084934Z
UID:10000871-1657908000-1657918800@bpw.at
SUMMARY:Clubabend Tirol - After Work Drink🍸🌻🍷
DESCRIPTION:BPW Club Tirol – After Work Drink🍸🌻🍷\n \nFreitag 15. Juli 2022 in Innsbruck ab 18:00 Uhr \nOrt: Dachterrasse vom “The Penz Hotel” in Innsbruck\, Adolf Pichler Platz \nEintritt: frei \nSei beim After Work Drink dabei und bringe deine Freundinnen mit. Bleibe nach Lust und Laune einfach eine Stunde oder den ganzen Abend. \nKein Programm. Kein Vortrag. Einfach in lockerer Runde miteinander Zeit verbringen und sich über berufliche Ziele\, Erfahrungen aus dem Arbeitsalltag und vieles mehr austauschen. \nBei schönem Wetter ist für uns draußen auf der Dachterrasse ein Tisch reserviert. Sollte es zu kalt sein oder regnen\, dann findet ihr uns innen\, gleich links beim Eingangsbereich von der Bar „The 5th Floor“ bei der gemütlichen Couch. 🌻🥂
URL:https://bpw.at/event/clubabend-tirol-after-work-drink%f0%9f%8d%b8%f0%9f%8c%bb%f0%9f%8d%b7/
LOCATION:Hotel Penz Dachterrasse und Bar 5th Floor\, Adolf Pichler Platz\, Innsbruck\, Tirol\, 6020
CATEGORIES:Tirol
ATTACH;FMTTYPE=image/jpeg:https://bpw.at/wp/wp-content/uploads/2022/05/Hotel-Penz-Dachterrasse-1.jpg
ORGANIZER;CN="BPW Club Tirol":MAILTO:office-tirol@bpw.at
END:VEVENT
BEGIN:VEVENT
DTSTART;TZID=Europe/Vienna:20220722T170000
DTEND;TZID=Europe/Vienna:20220722T210000
DTSTAMP:20260421T013735
CREATED:20220707T081306Z
LAST-MODIFIED:20220716T113014Z
UID:10000878-1658509200-1658523600@bpw.at
SUMMARY:BPW Salzkammergut on tour im Juli
DESCRIPTION:Einladung\nin das Handwerkhaus in Bad Goisern\nam Freitag\, 22. Juli 2022\, 17.00 Uhr\nBesuch des Handwerkhauses Bad Goisern\ninkl. Führung mit Margit Bergmair\nLiebe BPW Freundin\, \nsehr lange habe ich es nicht geschafft\, zu Treffen zu kommen. Die Termine scheinen für mich unmöglich.\nMittlerweile kenne ich kaum noch jemanden – so viele neue BPWs gibt’s in unserem Club. \nDaher möchte ich Euch gern zu einem Besuch im Handwerkhaus Salzkammergut nach Bad Goisern einladen.\nDie neue Meistersommer-Ausstellung wurde am Freitag\, 24.6. eröffnet. \nWir treffen uns am 22. Juli um 17:00 im Hof ​​von\nNeuwildenstein beim Eingang zum Handwerkhaus. \n  \nWer Zeit und Lust hat\, kann gerne schon früher kommen und unser\nGeschäft im Handwerkhaus besuchen… \nIch mache eine kleine Führung durch die aktuelle Ausstellung\nDauer ca. 45 Minuten.\nUm ca. 18:30 Uhr gehen wir gemeinsam ins Café Maislinger auf einen netten Ausklang des Treffens. \nIch freue mich auf Eure Anmeldungen bis 13.7. – Damit alle gut sehen und hören können\,  ist die Personenanzahl für die Führung auf\nca. 15 Personen begrenzt. \nHerzliche sommerliche Grüße aus Goisern\,\nMargit Bergmair \nWir Frauen vom Vorstand des BPW Salzkammergut freuen uns sehr über diese Einladung von Margit und hoffen auf eine rege Teilnahme. \n>> Flyer Meistersommer zum Download
URL:https://bpw.at/event/bpw-salzkammergut-on-tour-im-juli/
LOCATION:Neuwildenstein – Bad Goisern\, Obere Marktstraße 1\, Bad Goisern am Hallstättersee\, Oberösterreich\, 4822
CATEGORIES:Salzkammergut
ATTACH;FMTTYPE=image/jpeg:https://bpw.at/wp/wp-content/uploads/2022/01/BPW_Salzkammergut_VA_Header_Sommer_Clubabend.jpg
END:VEVENT
BEGIN:VEVENT
DTSTART;VALUE=DATE:20220723
DTEND;VALUE=DATE:20220724
DTSTAMP:20260421T013735
CREATED:20211202T205436Z
LAST-MODIFIED:20220720T062357Z
UID:10000818-1658534400-1658620799@bpw.at
SUMMARY:Abgesagt - BPW eClub Clubausflug Juli 2022 - Arosa
DESCRIPTION:Leider müssen wir den Termin vom 2.7. auf den 23.7. verschieben.  \nDie Eckdaten:\nAbfahrt Bregenz 6:44 / Dornbirn 7:00 mit der S1 nach Feldkirch\, Night-Jet bis Sargans\, IR nach Chur und dann mit der Arosa-Bahn nach Arosa (Ankunft 10:09)\, Spaziergang durch Arosa\, gemeinsames Mittagessen. Gegen 14 Uhr mit der Arosa-Bahn nach Chur\, Stadtbesichtigung in Chur und gegen 17 Uhr Rückfahrt mit dem Zug nach Vorarlberg. \nDie Kosten für das Ticket Buchs – Arosa – Buchs belaufen sich auf 54 SFR (Vollpreis)\, Bregenz – Buchs – Bregenz auf 19\,70 Vollpreis (VVV Tageskarte Vollpreis). Bis zu 4 Kinder kann ich innerhalb Vorarlbergs auf mein Klimaticket kostenlos mitnehmen. \nWir ersuche dich\, dich und deine Begleitung (gerne auch Kinder) verbindlich bis 15. Juni anzumelden\, damit wir die weitere Planung vorantreiben können.
URL:https://bpw.at/event/bpw-eclub-clubausflug-juli-2022-arosa/
LOCATION:Arosa\, Schweiz
CATEGORIES:Vorarlberg
ATTACH;FMTTYPE=image/jpeg:https://bpw.at/wp/wp-content/uploads/2020/12/bpw-vorarlberg-clubausflug-arosa-juli-2021.jpg
ORGANIZER;CN="BPW Club Vorarlberg":MAILTO:vorarlberg@bpw.at
END:VEVENT
BEGIN:VEVENT
DTSTART;TZID=Europe/Vienna:20220803T190000
DTEND;TZID=Europe/Vienna:20220803T210000
DTSTAMP:20260421T013735
CREATED:20220128T084842Z
LAST-MODIFIED:20221114T132135Z
UID:10001003-1659553200-1659560400@bpw.at
SUMMARY:D-A-CH BPW Spezial: Interkultureller Stammtisch
DESCRIPTION:Die Taskforce ‘YoungBPWonline’ lädt alle weltoffenen BPW Mitglieder aus der DACH Region herzlich ein\, den „BPW Interkulturellen Stammtisch“ beizuwohnen und mit inspirierenden Frauen aus aller Welt zu netzwerken! \nDer Stammtisch richtet sich insbesondere an BPW Clubfrauen\, die \n\nihre persönliche interkulturelle Kompetenz aufbauen möchten\,\nsich für die Themen Internationalität und Interkulturalitätbegeistern\,\nim internationalen Kontext bzw. mit internationalen Teams arbeiten\,\ninternationalen Wurzeln haben und dadurch über wertvolle interkulturelle Erfahrungen verfügen.\n\nWir treffen uns jeden ersten Mittwoch im Monat via Zoom zu einer moderierten Runde und tauschen uns über Themen aus\, wie zB: \n\nCultural Awareness\, Biografie\nHerausforderungen im Job und Alltag\, glückliche oder kritische Vorfälle im interkulturellen Kontext\,\nBerufliche Erfahrungen im In- und Ausland\, Personal Branding und Mehrwert auf dem deutschen Arbeitsmarkt\,\nVorurteile\, Stereotypisierung\, Racial Profiling\, kulturelle Unterschiede und Gemeinsamkeiten\, Life-hacks und vieles mehr!\n\nDiese ‚BPW Spezial‘ Einladung erhalten alle Clubfrauen aus: BPW Germany\, BPW Schweiz und BPW Austria. Der Austausch findet zurzeit in deutscher Sprache statt. Geplant werden demnächst Sessions auf Englisch und somit die Ausweitung des BPW Stammtisches auf europäische Ebene. \nSchau vorbei und erhalte wertvolle Impulse\, wir freuen uns auf Dich! \n*** !! ZOOM DATEN für alle Sitzungen!! *** \nJeden ersten Mittwoch im Monat\, jeweils um 19 Uhr via Zoom –> zum direkten Einstieg hier klicken \nBeschreibung\, Zoom-Link\, Zoom-Daten als pdf herunterladen: DACH BPW-Spezial: Interkultureller Stammtisch \n  \nTermine 2022 im Überblick: 02. Feb\, 02. Mrz\, 06. Apr\, 04. Mai\, 01. Juni\, 06. Juli. 03. Aug. 07. Sep\, 05. Okt.\, 02. Nov\, 07 Dez. \nBei Fragen bitte Marcia Delgado kontaktieren.  young-bpw-online@bpw-germany.de \n#proudtobeBPW #BPWonline #BPWintercultural #DiversityBPW \nPS: Es handelt sich um eine Veranstaltung exklusiv für BPW Mitglieder!
URL:https://bpw.at/event/d-a-ch-bpw-spezial-interkultureller-stammtisch/2022-08-03/
CATEGORIES:Young BPW
ATTACH;FMTTYPE=image/jpeg:https://bpw.at/wp/wp-content/uploads/2022/01/Beitragsbild_Interkultureller_Stammtisch_DACH.jpg
END:VEVENT
BEGIN:VEVENT
DTSTART;TZID=Europe/Vienna:20220804T180000
DTEND;TZID=Europe/Vienna:20220804T230000
DTSTAMP:20260421T013735
CREATED:20220715T120513Z
LAST-MODIFIED:20220715T120541Z
UID:10000881-1659636000-1659654000@bpw.at
SUMMARY:BPW Villach - Kirchtagsuppe!
DESCRIPTION:Nach 2 Jahre Pause möchten wir euch wieder herzlich zu unserem BPW Kirchtog-Supp’n-Essen am Donnerstag\, den 4. August 2022 einladen.\n \nOrt:  in der Stauber’s Stadtschenke \nAdresse: Nikolaigasse 14\, Villach (neben dem Kongress Center)\nBeginn:  18:00 Uhr\n \nWir freuen uns darauf\, mit euch einen entspannten\, fröhlichen Netzwerk-Abend zu verbringen!\nAuch Kinder und Partner sind herzlich willkommen.\n \nBITTE um An/Abmeldung bis spätestens Montag\, den 1. August 2022 bei unserer BPW Villach-Schriftführerin Alya Khoury-Miles per Email: alya.khoury.miles@gmail.com\n\nAusblick 2022 BPW Villach\n\n– September Clubabend – Thema Frauenarmut – BPW-Villach\n– Oktober Clubabend – gemeinsam mit FiW  – BPW-Villach\n– November Clubabend: BPW-Villach Beitrag zum Empowerment-NOW!  Programm.\n\n\n\n\n\n\nBis dahin wünschen wir euch eine schöne Zeit!\n \nDas Vorstandsteam des BPW Club Villach\nMelanie\, Kristina\, Evelin\, Alya\, Ulrike\, Zheng.
URL:https://bpw.at/event/bpw-villach-kirchtagsuppe/
LOCATION:Stauber’s Stadtschenke Gastgarten\, Nikolaigasse 14\, Villach\, Kärnten
CATEGORIES:Villach
END:VEVENT
BEGIN:VEVENT
DTSTART;TZID=Europe/Vienna:20220805T180000
DTEND;TZID=Europe/Vienna:20220805T213000
DTSTAMP:20260421T013735
CREATED:20220610T082625Z
LAST-MODIFIED:20220610T082625Z
UID:10000877-1659722400-1659735000@bpw.at
SUMMARY:Clubabend Tirol – After Work Drink🍸🌻🍷
DESCRIPTION:CAVOS Griechisches Restaurant\, Kufstein\, Unterer Stadtplatz 9 \nAnkommen: ab 18:00 Uhr \nAnmeldung: office-tirol@bpw.at \nSei beim After Work Drink dabei und bringe deine Freundinnen mit. Bleibe nach Lust und Laune einfach eine Stunde oder den ganzen Abend… Kein Programm. Kein Vortrag. Einfach in lockerer Runde miteinander Zeit verbringen und sich über berufliche Ziele\, Erfahrungen aus dem Arbeitsalltag und vieles mehr austauschen… \nWir freuen uns auf eure Teilnahme!
URL:https://bpw.at/event/clubabend-tirol-after-work-drink%f0%9f%8d%b8%f0%9f%8c%bb%f0%9f%8d%b7-3/
LOCATION:CAVOS Griechisches Restaurant\, Kufstein\, Unterer Stadtplatz 9\, Unterer Stadtplatz 9\, Kufstein\, Tirol
CATEGORIES:Tirol
ATTACH;FMTTYPE=image/png:https://bpw.at/wp/wp-content/uploads/2022/06/After-Work-Drink-im-Cavos-Kufstein-2.png
ORGANIZER;CN="BPW Club Tirol":MAILTO:office-tirol@bpw.at
END:VEVENT
BEGIN:VEVENT
DTSTART;TZID=Europe/Vienna:20220806T090000
DTEND;TZID=Europe/Vienna:20220806T090000
DTSTAMP:20260421T013735
CREATED:20220720T111101Z
LAST-MODIFIED:20220720T111906Z
UID:10000882-1659776400-1659776400@bpw.at
SUMMARY:BPW Salzkammergut & BPW Salzburg on tour im August
DESCRIPTION:Liebe BPW Freundin\, \nwir freuen uns\, Euch – passend zum Sommer – die zweite Twini-Veranstaltung ankündigen zu dürfen. Im August findet ein gemeinsamer Brunch mit unserem Nachbarclub Salzburg statt. BPW Salzburg und BPW Salzkammergut sind on tour im Biergarten 13oxn in St. Lorenz am Mondsee: \nHerzliche Einladung zur Twini Club-Veranstaltung von\nBPW Salzburg und BPW Salzkammergut am Samstag\, 6. August 2022\nim Biergarten 13oxn am Kulturgut Höribach\, St. Lorenz am Mondsee  \n09:00 Uhr  Nordic Walking Runde mit Clubkollegin Margit Wachter\n10:00 Uhr  Eintreffen für alle\, die nicht walken wollen oder können \nGeschichtliches über den Biergarten 13oxn von Clubfreundin Emma Nilsson \nanschließend Brunchen und Netzwerken \nNordic Walking mit Mag. Margit Wachter\n \nBewegung in der Natur und Nordic Walking \nDer Aufenthalt und die Bewegung in der Natur bringen viele Vorteile mit sich\, die wir für unsere Gesundheit nutzen können. Regelmäßige Bewegung an der frischen Luft ist gesund und wirkt sich positiv auf Dich\, Deinen Körper und somit auf Dein Wohlbefinden aus. Noch größere gesundheitliche Effekte zeigen sich\, wenn der reine Aufenthalt in der Natur mit sportlicher Aktivität wie zum Beispiel Nordic Walking verbunden wird. Diese Sportart hat mit einer entsprechenden Technik auch einen hohen sportlichen Trainingseffekt. \nMitzubringen ist: \nBequeme funktionelle Kleidung und entsprechendes Schuhwerk \nNordic Walking Stöcke (wenn möglich keine Wanderstöcke) \nWährend der gemeinsamen Walkingrunde erhältst du kurze Tipps zur Verbesserung der Technik\, einfache Mobilisations- und Dehnungsübungen runden das Programm ab und Spiel und Spaß werden nicht zu kurz kommen. Nach unserer gemeinsamen aktiven Morgenrunde schmeckt das Frühstück noch viel besser. \nFür alle jene\, die nicht walken\, starten wir um 10:00 Uhr im Biergarten 13oxn: \nBiergarten 13oxn am Kulturgut Höribach\, St. Lorenz am Mondsee\n \nUnsere Clubfreundin Emma Nilsson von BPW Salzburg wird uns die Entstehung und Geschichte des Biergartens 13oxn näherbringen. \nFür unser leibliches Wohl sorgt unsere Clubkollegin Claudia Danner (www.myclaudstories.com). Sie verwöhnt uns mit einer feinen\, bunten Vielfalt an Herzhaftem und Süßem\, wie zB Minisalate im Glas \, Mini-Quiche oder auch Muffins und Törtchen. Das Catering kostet pro Person € 16\,00. \nDie Getränke sind direkt im Biergarten vorhanden und werden nach Verbrauch abgerechnet. \nMelde dich jetzt bis zum 1. August 2022 an. Beachte bitte\, dass sowohl für die Nordic-Walking-Runde als auch das Catering eine eigene Anmeldung erforderlich ist. \nWir freuen uns sehr auf ein gemeinsames Miteinander! \nEure BPW Club Vorstandsfrauen von\nSalzburg und Salzkammergut \n  \n*Während und nach der Veranstaltung werden Fotos gemacht. Diese werden auf unserer Homepage veröffentlicht und sind als Nachlese und Erinnerung gedacht. Mit der Teilnahme erklärt Ihr Euch damit einverstanden.
URL:https://bpw.at/event/clubabend-august-2022/
LOCATION:Kulturgut Höribach – Biergarten 13oxn\, Höribachhof 1\, Mondsee\, 5310\, Österreich
CATEGORIES:Salzburg,Salzkammergut
ATTACH;FMTTYPE=image/jpeg:https://bpw.at/wp/wp-content/uploads/2022/01/BPW_Salzkammergut_VA_Header_Sommer_Clubabend.jpg
END:VEVENT
BEGIN:VEVENT
DTSTART;TZID=Europe/Vienna:20220809T180000
DTEND;TZID=Europe/Vienna:20220809T220000
DTSTAMP:20260421T013735
CREATED:20220523T121813Z
LAST-MODIFIED:20220523T121813Z
UID:10000869-1660068000-1660082400@bpw.at
SUMMARY:BPW Club Salzburg\, August
DESCRIPTION:Wann:\nMittwoch\, 09.08.2022\nab 18:00 Uhr Vernetzung\n19:00 Uhr Vortragsbeginn \nWo:\nFlughafenrestaurant „Jedermann“\n5020 Salzburg Airport \n  \nBPW´s: gratis  Gästebeitrag: €  15\,– \nWährend und nach der Veranstaltung wird fotografiert. Die Fotos werden auf unserer Homepage www.bpw.at/salzburg veröffentlicht und in unserem Gästebuch eingeklebt und sind als Erinnerung und Nachlese gedacht. Mit der Teilnahme am Clubabend erklärt Ihr Euch damit einverstanden.
URL:https://bpw.at/event/bpw-club-salzburg-august/
LOCATION:Salzburg Airport W. A. Mozart\, Restaurant Jedermann\, Innsbrucker Bundesstr. 95\, Salzburg\, Salzburg\, 5020\, Österreich
CATEGORIES:Salzburg
ATTACH;FMTTYPE=image/jpeg:https://bpw.at/wp/wp-content/uploads/2022/05/Teaser-August-2022.jpg
ORGANIZER;CN="BPW Club Salzburg":MAILTO:salzburg@bpw.at
END:VEVENT
BEGIN:VEVENT
DTSTART;TZID=Europe/Vienna:20220817T180000
DTEND;TZID=Europe/Vienna:20220817T210000
DTSTAMP:20260421T013735
CREATED:20220728T092245Z
LAST-MODIFIED:20220804T183223Z
UID:10000884-1660759200-1660770000@bpw.at
SUMMARY:Club Tirol - BPW Frauen treffen das Netzwerk Business Ladies
DESCRIPTION:BPW Frauen treffen das Netzwerk Business Ladies zu einem vergnüglichen Spiele-Abend \nDu möchtest engagierte Frauen in einem ungewöhnlichen Rahmen kennenlernen? Dann bist du hier richtig! \nWir vom BPW Club Tirol folgen einer Einladung des Frauen-Netzwerkes “Business Ladies Tirol” zu einem Spiele-Abend. Eine ideale Möglichkeit\, um in vergnüglicher Atmosphäre engagierte Frauen kennenzulernen. \nAus organisatorischen Gründen bitten wir um verbindliche Rückmeldung bis 10.8.2022 per Mail an kontakt@business-ladies.org \nVeranstalter: Frauen Netzwerk Business Ladies Tirol \nOrt: SOHO 2\, im Seminarraum im 4.Stock\, Innsbruck\, Grabenweg 68 \nProgramm: Wir spielen das Cashflow Spiel von Robert T. Kiyosaki \n 
URL:https://bpw.at/event/club-tirol-bpw-frauen-treffen-das-netzwerk-business-ladies/
LOCATION:SOHO2 im 1.Stock\, Grabenweg 68\, Innsbruck\, 6020
CATEGORIES:Tirol
ATTACH;FMTTYPE=image/png:https://bpw.at/wp/wp-content/uploads/2022/07/Cashflow-Spiel-Robert-Kiyosaki.png
ORGANIZER;CN="BPW Club Tirol":MAILTO:office-tirol@bpw.at
END:VEVENT
BEGIN:VEVENT
DTSTART;TZID=Europe/Vienna:20220818T183000
DTEND;TZID=Europe/Vienna:20220818T183000
DTSTAMP:20260421T013735
CREATED:20211225T183916Z
LAST-MODIFIED:20220630T182419Z
UID:10000975-1660847400-1660847400@bpw.at
SUMMARY:Picknick im Burggarten
DESCRIPTION:Wir möchten Euch zum jährlichen Picknick im Burggarten einladen.\nTreffen\, Austauschen\, Kennenlernen\, Wiedersehen\, Essen\, Trinken\, Lachen! \nWir freuen uns auf euch\,  Anmeldung ausschließlich hier auf der Seite. \n 
URL:https://bpw.at/event/picknick-im-burggarten-2/
LOCATION:Burggarten Wien
CATEGORIES:Vienna Cosmopolitan
ATTACH;FMTTYPE=image/jpeg:https://bpw.at/wp/wp-content/uploads/2021/12/Picknick.jpg
ORGANIZER;CN="BPW Club Vienna Cosmopolitan":MAILTO:cosmopolitan@bpw.at
END:VEVENT
END:VCALENDAR