BEGIN:VCALENDAR
VERSION:2.0
PRODID:-//Business and Professional Women Austria - ECPv6.15.20//NONSGML v1.0//EN
CALSCALE:GREGORIAN
METHOD:PUBLISH
X-WR-CALNAME:Business and Professional Women Austria
X-ORIGINAL-URL:https://bpw.at
X-WR-CALDESC:Veranstaltungen für Business and Professional Women Austria
REFRESH-INTERVAL;VALUE=DURATION:PT1H
X-Robots-Tag:noindex
X-PUBLISHED-TTL:PT1H
BEGIN:VTIMEZONE
TZID:Europe/Vienna
BEGIN:DAYLIGHT
TZOFFSETFROM:+0100
TZOFFSETTO:+0200
TZNAME:CEST
DTSTART:20210328T010000
END:DAYLIGHT
BEGIN:STANDARD
TZOFFSETFROM:+0200
TZOFFSETTO:+0100
TZNAME:CET
DTSTART:20211031T010000
END:STANDARD
BEGIN:DAYLIGHT
TZOFFSETFROM:+0100
TZOFFSETTO:+0200
TZNAME:CEST
DTSTART:20220327T010000
END:DAYLIGHT
BEGIN:STANDARD
TZOFFSETFROM:+0200
TZOFFSETTO:+0100
TZNAME:CET
DTSTART:20221030T010000
END:STANDARD
BEGIN:DAYLIGHT
TZOFFSETFROM:+0100
TZOFFSETTO:+0200
TZNAME:CEST
DTSTART:20230326T010000
END:DAYLIGHT
BEGIN:STANDARD
TZOFFSETFROM:+0200
TZOFFSETTO:+0100
TZNAME:CET
DTSTART:20231029T010000
END:STANDARD
END:VTIMEZONE
BEGIN:VEVENT
DTSTART;TZID=Europe/Vienna:20221011T190000
DTEND;TZID=Europe/Vienna:20221011T203000
DTSTAMP:20260420T174851
CREATED:20220204T105834Z
LAST-MODIFIED:20220223T142253Z
UID:10001011-1665514800-1665520200@bpw.at
SUMMARY:Empowerment NOW! Online - Wo Regionalentwicklung draufsteht\, ist Gleichstellung drin
DESCRIPTION:Impulse & Live-Talk für Frauen und mit Frauen\nim Rahmen der Programmreihe “Empowerment now” – ONLINE\n– – – – – – – – – – – – – – – – – – – – – \nDas Projekt Zukunftswerkstatt Oberkärnten hat es sich zum Ziel gesetzt\, am Thema Gleichstellung in der Region zu arbeiten. Geleitet wurde das Vorhaben von der Vision\, Oberkärnten als äußerst attraktive Lebensregion zu positionieren\, in der Frauen* keine Nachteile im Zugang zu Beschäftigung\, Einkommen und Beteiligung erfahren müssen. \nDie Kärntner Landesrätin und Frauenreferentin Mag.a Sara Schaar stellt das Projekt vor und lädt zur Diskussion. \nWeitere Informationen zu LR Sara Schaar sind auf der Seite von “Meine Abgeordneten” zu finden. \n\nTeilnahme an der Veranstaltung ist kostenfrei. Anmeldung notwendig.\nZugangsdaten zum Zoom-Meeting werden am Tag des Vortrags per Mail verschickt.\n\n– – – – – – – – – – – – – – – – – – – – – \nWie der Abend verläuft –  wir werden aktiv sein! Nach 30 min Impulsreferat\, tauschen wir uns 30 min in Gruppen aus und fassen dann knapp 30 min gemeinsam zusammen. \nSo kann Empowerment funktionieren – Schwarm-Intelligenz sorgt für Weiterentwicklung und Perspektivenwechsel! Interaktion bringt uns voran.
URL:https://bpw.at/event/empowerment-now-oktober-22/
LOCATION:Online über Zoom\, Der Link für Zoom wird in der Anmeldebestätigung zugesandt
CATEGORIES:BPW Austria,Empowerment Online,Spittal an der Drau
ATTACH;FMTTYPE=image/jpeg:https://bpw.at/wp/wp-content/uploads/2022/02/20221011_Sara_Schaar_BPW_Spittal.jpg
END:VEVENT
BEGIN:VEVENT
DTSTART;TZID=Europe/Vienna:20221013T183000
DTEND;TZID=Europe/Vienna:20221013T200000
DTSTAMP:20260420T174851
CREATED:20220116T184051Z
LAST-MODIFIED:20221004T190817Z
UID:10000986-1665685800-1665691200@bpw.at
SUMMARY:Clubabend Wels-Hausruck "Diversity@IKEA"
DESCRIPTION:Wir treffen uns zum Talk zum Thema “Diversity und Gender Equality” bei IKEA! \nStore Managerin vom Einrichtungshaus Haid\, Ildiko Furjesova\, präsentiert uns aktuelle Projekte zum Thema Diversity und Equality und wird uns auch einen Einblick geben\, wie es europaweit aussieht. \nIm Anschluss können natürlich auch Fragen gestellt werden. \nAchtung\, die Veranstaltung ist auf Englisch! \nBeginn: 18:30 Uhr (come together ab 18:15 Uhr im Eingangsbereich) \nEnde: 20:00 Uhr \n(verbindliche) Anmeldung bitte direkt hier über die Homepage. \nGäste – Damen wie Herren\, herzlich Willkommen! \n 
URL:https://bpw.at/event/clubabend-wels-hausruck-diversity-firmenfuehrung/
LOCATION:IKEA Einrichtungshaus Haid\, Ikea-Platz 1\, Ansfelden\, 4053\, Österreich
CATEGORIES:Linz-Wels
END:VEVENT
BEGIN:VEVENT
DTSTART;TZID=Europe/Vienna:20221014T180000
DTEND;TZID=Europe/Vienna:20221014T210000
DTSTAMP:20260420T174851
CREATED:20220926T132608Z
LAST-MODIFIED:20220926T132608Z
UID:10001041-1665770400-1665781200@bpw.at
SUMMARY:BPW Tirol After Work Drink in Innsbruck🍸🌻🍷
DESCRIPTION:Sei beim After Work Drink dabei und bringe deine Freundinnen mit. Bleibe nach Lust und Laune einfach eine Stunde oder den ganzen Abend. \nKein Programm. Kein Vortrag. Einfach in lockerer Runde miteinander Zeit verbringen und sich über berufliche Ziele\, Erfahrungen aus dem Arbeitsalltag und vieles mehr austauschen. \n  \nBei schönem Wetter ist für uns draußen auf der Dachterrasse ein Tisch reserviert. Sollte es zu kalt sein oder regnen\, dann findet ihr uns innen\, gleich links beim Eingangsbereich von der Bar „The 5th Floor“ bei der gemütlichen Couch. 🌻🥂 \nwww.the-penz.com\n\n\n\n\n\n\n\n\n\n\n\n 
URL:https://bpw.at/event/bpw-tirol-after-work-drink-in-innsbruck%f0%9f%8d%b8%f0%9f%8c%bb%f0%9f%8d%b7/
LOCATION:Hotel Penz Dachterrasse und Bar 5th Floor\, Adolf Pichler Platz\, Innsbruck\, Tirol\, 6020
CATEGORIES:Tirol
ATTACH;FMTTYPE=image/jpeg:https://bpw.at/wp/wp-content/uploads/2022/05/Hotel-Penz-Dachterrasse-1.jpg
END:VEVENT
END:VCALENDAR