BEGIN:VCALENDAR
VERSION:2.0
PRODID:-//Business and Professional Women Austria - ECPv6.15.20//NONSGML v1.0//EN
CALSCALE:GREGORIAN
METHOD:PUBLISH
X-WR-CALNAME:Business and Professional Women Austria
X-ORIGINAL-URL:https://bpw.at
X-WR-CALDESC:Veranstaltungen für Business and Professional Women Austria
REFRESH-INTERVAL;VALUE=DURATION:PT1H
X-Robots-Tag:noindex
X-PUBLISHED-TTL:PT1H
BEGIN:VTIMEZONE
TZID:Europe/Vienna
BEGIN:DAYLIGHT
TZOFFSETFROM:+0100
TZOFFSETTO:+0200
TZNAME:CEST
DTSTART:20220327T010000
END:DAYLIGHT
BEGIN:STANDARD
TZOFFSETFROM:+0200
TZOFFSETTO:+0100
TZNAME:CET
DTSTART:20221030T010000
END:STANDARD
BEGIN:DAYLIGHT
TZOFFSETFROM:+0100
TZOFFSETTO:+0200
TZNAME:CEST
DTSTART:20230326T010000
END:DAYLIGHT
BEGIN:STANDARD
TZOFFSETFROM:+0200
TZOFFSETTO:+0100
TZNAME:CET
DTSTART:20231029T010000
END:STANDARD
BEGIN:DAYLIGHT
TZOFFSETFROM:+0100
TZOFFSETTO:+0200
TZNAME:CEST
DTSTART:20240331T010000
END:DAYLIGHT
BEGIN:STANDARD
TZOFFSETFROM:+0200
TZOFFSETTO:+0100
TZNAME:CET
DTSTART:20241027T010000
END:STANDARD
END:VTIMEZONE
BEGIN:VTIMEZONE
TZID:UTC
BEGIN:STANDARD
TZOFFSETFROM:+0000
TZOFFSETTO:+0000
TZNAME:UTC
DTSTART:20220101T000000
END:STANDARD
END:VTIMEZONE
BEGIN:VEVENT
DTSTART;TZID=Europe/Vienna:20230111T180000
DTEND;TZID=Europe/Vienna:20230111T220000
DTSTAMP:20260421T073908
CREATED:20230109T115529Z
LAST-MODIFIED:20230109T115529Z
UID:10000907-1673460000-1673474400@bpw.at
SUMMARY:Ideenschmiede EPD 2023
DESCRIPTION:Ideenschmiede zum Equal Pay Day 2023\n… eine super Gelegenheit\, unseren EPD neu zu planen\, Ideen zu entwickeln ….\n\n\n  \n\n\n  \nWann:\nMittwoch\, 09.11.2022\nab 18:00 Uhr Vernetzung\n19:30 Uhr Ideenschmiede \nWo:\nFlughafenrestaurant „Das Wolfgang“\n5020 Salzburg Airport \n  \nBPW´s: gratis  Gästebeitrag: €  15\,– \nWährend und nach der Veranstaltung wird fotografiert. Die Fotos werden auf unserer Homepage www.bpw.at/salzburg veröffentlicht und in unserem Gästebuch eingeklebt und sind als Erinnerung und Nachlese gedacht. Mit der Teilnahme am Clubabend erklärt Ihr Euch damit einverstanden.
URL:https://bpw.at/event/ideenschmiede-epd-2023/
LOCATION:Salzburg Airport\, Terminal 1 Panorama Restaurant “Das Wolfgang”\, Innsbrucker Bundestraße 95\, Salzburg\, 5020\, Österreich
CATEGORIES:Salzburg
ATTACH;FMTTYPE=image/jpeg:https://bpw.at/wp/wp-content/uploads/2023/01/Teaser_2_Jaennar_2023.jpg
ORGANIZER;CN="BPW Club Salzburg":MAILTO:salzburg@bpw.at
END:VEVENT
BEGIN:VEVENT
DTSTART;TZID=UTC:20230116T190000
DTEND;TZID=UTC:20230116T210000
DTSTAMP:20260421T073908
CREATED:20221011T082226Z
LAST-MODIFIED:20221011T083001Z
UID:10001049-1673895600-1673902800@bpw.at
SUMMARY:Onboarding Veranstaltung - Exklusiv für BPWs
DESCRIPTION:Liebe Clubfrauen\, \nunter dem Motto #Kräftebündeln #Gemeinsamstark möchten wir unsere (neuen) Clubfrauen einladen\, mehr über BPW zu erfahren (Geschichte\, Hintergründe)\, die zur Verfügung stehenden Tools (Homepage\, FB\, Linkedin\, Instagram) kennen zu lernen und vor allem sich überregional zu vernetzen und kennen zu lernen. \nWir freuen uns auf einen interaktiven Abend mit einem kurzen Vortrag rund um BPW\, einem regen Austausch und viele Fragen! \nWir bitten um Anmeldung via des angeführten Anmeldebuttons – der Zoom Link wird am Veranstaltungstag übermittelt. \nKomm an Board\, sei dabei!
URL:https://bpw.at/event/onboarding-veranstaltung-2301/
LOCATION:Online über Zoom\, Der Link für Zoom wird in der Anmeldebestätigung zugesandt
CATEGORIES:BPW Austria
ATTACH;FMTTYPE=image/jpeg:https://bpw.at/wp/wp-content/uploads/2022/03/header-onboarding-bpw-neue-mitglieder.jpg
ORGANIZER;CN="BPW Austria":MAILTO:bpw.austria@bpw.at
END:VEVENT
END:VCALENDAR