BEGIN:VCALENDAR
VERSION:2.0
PRODID:-//Business and Professional Women Austria - ECPv6.15.20//NONSGML v1.0//EN
CALSCALE:GREGORIAN
METHOD:PUBLISH
X-WR-CALNAME:Business and Professional Women Austria
X-ORIGINAL-URL:https://bpw.at
X-WR-CALDESC:Veranstaltungen für Business and Professional Women Austria
REFRESH-INTERVAL;VALUE=DURATION:PT1H
X-Robots-Tag:noindex
X-PUBLISHED-TTL:PT1H
BEGIN:VTIMEZONE
TZID:Europe/Vienna
BEGIN:DAYLIGHT
TZOFFSETFROM:+0100
TZOFFSETTO:+0200
TZNAME:CEST
DTSTART:20220327T010000
END:DAYLIGHT
BEGIN:STANDARD
TZOFFSETFROM:+0200
TZOFFSETTO:+0100
TZNAME:CET
DTSTART:20221030T010000
END:STANDARD
BEGIN:DAYLIGHT
TZOFFSETFROM:+0100
TZOFFSETTO:+0200
TZNAME:CEST
DTSTART:20230326T010000
END:DAYLIGHT
BEGIN:STANDARD
TZOFFSETFROM:+0200
TZOFFSETTO:+0100
TZNAME:CET
DTSTART:20231029T010000
END:STANDARD
BEGIN:DAYLIGHT
TZOFFSETFROM:+0100
TZOFFSETTO:+0200
TZNAME:CEST
DTSTART:20240331T010000
END:DAYLIGHT
BEGIN:STANDARD
TZOFFSETFROM:+0200
TZOFFSETTO:+0100
TZNAME:CET
DTSTART:20241027T010000
END:STANDARD
END:VTIMEZONE
BEGIN:VEVENT
DTSTART;TZID=Europe/Vienna:20230216T183000
DTEND;TZID=Europe/Vienna:20230216T200000
DTSTAMP:20260421T194912
CREATED:20230111T213821Z
LAST-MODIFIED:20230216T094808Z
UID:10001069-1676572200-1676577600@bpw.at
SUMMARY:Profiler Patricia Staniek - Manipulation
DESCRIPTION:Mein Wille geschehe- Macht\, Status und Manipulation im Business – entschlüsseln \n\n\n\nWir manipulieren und werden manipuliert. Manipulation und Machtgames sind ein Teil des Business-Lebens. Sie kosten Unternehmen Geld. Die Auswirkung trifft die Menschen. Menschen können in einem klaren und sicheren Rahmen Hochleistung bringen\, gefordert und gefördert werden. Manipulation und Machtgames tragen zu Frustration\, Dienst nach Vorschrift\, Ohnmacht\, Fluktuation und einer nicht zu unterschätzenden Spirale von Angst und Misstrauen bei. So bespielte Menschen sind nicht in der Lage Potenziale zu entfalten und hochleistungsorientiert zu arbeiten. \nBOSS-Types und Menschen mit psychopathischen oder narzisstischen Tendenzen machen anderen das Leben schwer. Entwickeln Sie den Psycho- Instinkt\, durchschauen Sie das Spiel und bleiben Sie handlungsaktiv! \nPatricia Staniek zeigt wie manipuliert wird und Manipulation auflöst\, warum Cappuccino wichtig ist\, wie man an die Verteidigungslinie geht\, ohne die Crimeline zu überschreiten und warum man gerade als Frau auf Macht und Status zugreifen soll. \nWillst du mehr über Patricia wissen\, Infos hier! \nPreis: Mitglieder kostenlos  | Gast 35€\,  Studentinnen 15€. \n 
URL:https://bpw.at/event/profiler-patricia-staniek/
LOCATION:Restaurant Zehnsechzig\, Barnabitengasse 5\, Wien\, 1060\, Österreich
CATEGORIES:Vienna Cosmopolitan
ATTACH;FMTTYPE=image/png:https://bpw.at/wp/wp-content/uploads/2023/01/MANIPULATION-UND-MACHT-AM-ARBEITSPLATZ-e1675539703548.png
ORGANIZER;CN="BPW Club Vienna Cosmopolitan":MAILTO:cosmopolitan@bpw.at
END:VEVENT
BEGIN:VEVENT
DTSTART;TZID=Europe/Vienna:20230223T180000
DTEND;TZID=Europe/Vienna:20230223T220000
DTSTAMP:20260421T194912
CREATED:20230217T114436Z
LAST-MODIFIED:20230217T114436Z
UID:10001078-1677175200-1677189600@bpw.at
SUMMARY:BPW Villach Clubabend u. Vortrag
DESCRIPTION:„Mein Leben als Kamerafrau“ \nUnsere BPW Kollegin Vera Polaschegg wird uns Einblicke in ihren ungewöhnlichen Werdegang\, ihre Arbeit als Kamerafrau und Fotografin geben und erzählen\, was alles dazu gehört\, die eigenen Träume zu verwirklichen. \nZUR PERSON: \nVera Polaschegg ist selbstständige Kamerafrau und Fotografin.  \nDie studierte Kommunikationswissenschaftlerin (mit Fächerkombination Ethnologie und Soziologie) hat als erste und bisher einzige Frau bei den Red Bull X Alps und beim Red Bull Dolomitenmann gefilmt. Die komplette Autodidaktin arbeitete u.a in Bangladesch\, Ruanda und arbeitet zur Zeit an ihrer ersten größeren Doku über verschiedene Lebensgeschichten von Kärntner Frauen.  \n Programm: \n18:00 Uhr: Get Together \n18:30 Uhr: Begrüßung und aktuelle Informationen\, u.a. zum Equal Pay Day \n18:45 Uhr: Vortrag von Vera Polaschegg \n19:30 Uhr: gemeinsames Abendessen \nBitte um verbindliche Anmeldung bis spätestens 20. Februar bei unserer Schriftführerin alya.khoury.miles@gmail.com \nWir freuen uns auf dich und einen inspirierenden und bildreichen Abend.
URL:https://bpw.at/event/bpw-villach-clubabend-u-vortrag/
LOCATION:VOCO Hotel Villach\, Europaplatz 1-2\, Villach\, Kärnten\, 9500\, Österreich
CATEGORIES:Villach
END:VEVENT
BEGIN:VEVENT
DTSTART;TZID=Europe/Vienna:20230223T183000
DTEND;TZID=Europe/Vienna:20230223T200000
DTSTAMP:20260421T194912
CREATED:20221206T122758Z
LAST-MODIFIED:20230113T142317Z
UID:10001061-1677177000-1677182400@bpw.at
SUMMARY:Generalversammlung BPW eClub mit Neuwahl des Vorstands - hybride Veranstaltung
DESCRIPTION:Die Neuwahl unseres Vorstands steht an und findet in der BuLu in Lustenau statt. Eine Teilnahme über Zoom ist auch möglich.
URL:https://bpw.at/event/generalversammlung-bpw-eclub-mit-neuwahl-des-vorstands/
LOCATION:Buchdruckerei Lustenau und Zoom\, Millennium Park 10\, Lustenau\, 6890
CATEGORIES:Vorarlberg
ATTACH;FMTTYPE=image/jpeg:https://bpw.at/wp/wp-content/uploads/2020/12/bpw-vorarlberg-do-it-anyway.jpg
ORGANIZER;CN="BPW Club Vorarlberg":MAILTO:vorarlberg@bpw.at
END:VEVENT
BEGIN:VEVENT
DTSTART;TZID=Europe/Vienna:20230308T180000
DTEND;TZID=Europe/Vienna:20230308T220000
DTSTAMP:20260421T194912
CREATED:20230228T104854Z
LAST-MODIFIED:20230228T121436Z
UID:10001074-1678298400-1678312800@bpw.at
SUMMARY:Komponistinnen?... Wirklich?
DESCRIPTION:Komponistinnen?… Wirklich?\nMehr als 35 Komponistinnen haben zwischen 1700 und 1900 absolut meisterhafte symphonische Werke geschrieben. Dennoch kommen Werke von Komponistinnen in den Konzertsälen der Welt bis zum heutigen Tag kaum bis gar nicht zur Aufführung. Das soll sich langfristig ändern.  \n\n\nWarum sind diese Komponistinnen unbekannt? Die Antwort auf diese Frage gibt unser Clubmitglied/unsere Clubfrau Silvia Spinnato\, Dirigentin des FSOA\, FEMALE SYMPHONIC ORCHESTRA AUSTRIA. \n\n\n  \nWann:\nMittwoch\, 08.03.2023\nab 18:00 Uhr Vernetzung\nab 19:30 Uhr Veranstaltung \n\n\nWo:\nFlughafenrestaurant „Das Wolfgang“\n5020 Salzburg Airport \n  \nWährend und nach der Veranstaltung wird fotografiert. Die Fotos werden auf unserer Homepage www.bpw.at/salzburg veröffentlicht und in unserem Gästebuch eingeklebt und sind als Erinnerung und Nachlese gedacht. Mit der Teilnahme am Clubabend erklärt Ihr Euch damit einverstanden.
URL:https://bpw.at/event/komponistinnen-wirklich/
LOCATION:Das Wolfgang\, Outdoor Lounge\, Salzburg Airport
CATEGORIES:Salzburg
ATTACH;FMTTYPE=image/jpeg:https://bpw.at/wp/wp-content/uploads/2023/02/Teaser_Maerz_2023_2.jpg
ORGANIZER;CN="BPW Club Salzburg":MAILTO:salzburg@bpw.at
END:VEVENT
BEGIN:VEVENT
DTSTART;TZID=Europe/Vienna:20230308T184500
DTEND;TZID=Europe/Vienna:20230308T230000
DTSTAMP:20260421T194912
CREATED:20221108T083515Z
LAST-MODIFIED:20230307T134103Z
UID:10001054-1678301100-1678316400@bpw.at
SUMMARY:Clubabend Wels-Hausruck "Selbstmarketing"
DESCRIPTION:IMPULSVORTRAG \nZu Trilogie Für Frauen \n„ICH bin EINZIGARTIG“  \nFreude am Selbstmarketing \nam 8.3.2023\, 19:00\, Get together ab 18:45 Uhr \nAMEDIA Hotel Linz\, Prinz-Eugenstr.12 \n„Ich verkaufe mich nicht gern selbst“ … \nKennst du diese Worte oder Gedanken? \nKennst du deine Stärken und deinen „Wert“? \nAnlässlich ihres 20jährigen Firmenjubiläums von „GoisernConsult“ ladet uns Dr.in Margit Bergmair-Ambach zu einer kleinen Expedition zur Marke „ICH“ ein. Mehr Klarheit über die eigenen Stärken und deine Einzigartigkeit erhöhen deine Selbstsicherheit. \nInhalt – Mein persönlicher USP \n\nMeine Stärken und Talente\nEntwicklung meines persönlichen Stärkenprofils\nWas mich einzigartig macht – der persönliche USP\n\nVortragende: DR.in Margit Bergmair-Ambach \n\nBeraterin  & Coach mit Leidenschaft\n\nExpertin für Gruppendynamik\, Führung\, Soziale Kompetenz \n\nModeration von Klein- und Großgruppen\n\nZertifiziere Anwenderin CAPTain Potenzialanalyse-Test \n\nCoaching indoor und outdoor in der inspirierenden Natur des Salzkammergutes\n\nVorträge zu „Auftreten & Wirkung“\, „Selbstmarketing“… \n\nExklusiv für Frauen: TRILOGIE für Frauen in 3 Modulen\n\nIch unterstütze und begleite Einzelpersonen und Teams bei ihren Herausforderungen und erarbeite gemeinsam mit meinen Kund*innen maßgeschneiderte und bedarfsorientierte Lösungen. \nDie Zusammenarbeit ist von gegenseitiger Wertschätzung\, Offenheit und einem flexiblen Arbeitsstil geprägt. \nEin humanistisches Weltbild sowie Ressourcen-  und Lösungsorientierung stehen im Zentrum meiner Arbeitsweise. \nGäste – Damen und Herren – herzlich Willkommen! \n(verbindliche) Anmeldung bitte hier über die Homepage! \nHinweis: Es gibt an diesem Abend keine Möglichkeit für ein gemeinsames Abendessen.
URL:https://bpw.at/event/clubabend-wels-hausruck-selbstmarketing/
LOCATION:AMEDIA Hotel Linz\, Prinz-Eugen-Straße 12\, Linz\, Oberösterreich\, 4020
CATEGORIES:Linz-Wels
END:VEVENT
END:VCALENDAR