BEGIN:VCALENDAR
VERSION:2.0
PRODID:-//Business and Professional Women Austria - ECPv6.15.20//NONSGML v1.0//EN
CALSCALE:GREGORIAN
METHOD:PUBLISH
X-WR-CALNAME:Business and Professional Women Austria
X-ORIGINAL-URL:https://bpw.at
X-WR-CALDESC:Veranstaltungen für Business and Professional Women Austria
REFRESH-INTERVAL;VALUE=DURATION:PT1H
X-Robots-Tag:noindex
X-PUBLISHED-TTL:PT1H
BEGIN:VTIMEZONE
TZID:Europe/Vienna
BEGIN:DAYLIGHT
TZOFFSETFROM:+0100
TZOFFSETTO:+0200
TZNAME:CEST
DTSTART:20220327T010000
END:DAYLIGHT
BEGIN:STANDARD
TZOFFSETFROM:+0200
TZOFFSETTO:+0100
TZNAME:CET
DTSTART:20221030T010000
END:STANDARD
BEGIN:DAYLIGHT
TZOFFSETFROM:+0100
TZOFFSETTO:+0200
TZNAME:CEST
DTSTART:20230326T010000
END:DAYLIGHT
BEGIN:STANDARD
TZOFFSETFROM:+0200
TZOFFSETTO:+0100
TZNAME:CET
DTSTART:20231029T010000
END:STANDARD
BEGIN:DAYLIGHT
TZOFFSETFROM:+0100
TZOFFSETTO:+0200
TZNAME:CEST
DTSTART:20240331T010000
END:DAYLIGHT
BEGIN:STANDARD
TZOFFSETFROM:+0200
TZOFFSETTO:+0100
TZNAME:CET
DTSTART:20241027T010000
END:STANDARD
END:VTIMEZONE
BEGIN:VTIMEZONE
TZID:UTC
BEGIN:STANDARD
TZOFFSETFROM:+0000
TZOFFSETTO:+0000
TZNAME:UTC
DTSTART:20220101T000000
END:STANDARD
END:VTIMEZONE
BEGIN:VEVENT
DTSTART;TZID=Europe/Vienna:20230927T183000
DTEND;TZID=Europe/Vienna:20230927T213000
DTSTAMP:20260420T174739
CREATED:20230702T094952Z
LAST-MODIFIED:20230824T071651Z
UID:10001115-1695839400-1695850200@bpw.at
SUMMARY:Clubabend Tirol mit Andrea Maria Planötscher 🌻
DESCRIPTION:Nach der langen Sommerpause freuen wir uns auf den nächsten BPW Clubabend! \nMittwoch\, 27.9.2023 ab 18:30 Uhr im ****Hotel Magdalena\, Grossriedstraße 23\, 6273 Ried im Zillertal \nWas erwartet euch? \n🌻Andrea Maria Planötscher wird uns Einblick in ihre Arbeit als Kunstmalerin geben und uns einige schöne Wandgemälde im Jugendstil zeigen. \n🌻Margareta Riedl wird uns von den Herausforderungen eines gehobenen Hotelbetriebes mit Spezialisierung auf Urlaub mit Hund berichten. Sie führt mit ihrem Partner Bernhard das 4 Sterne-Hotel bereits in dritter Generation und bietet auch vorzüglichen Komfort für die Gäste auf vier Pfoten. \n🌻Inklusive einem köstlichen Italienischen Buffet für EUR 25\,–\, zahlbar bar vor Ort \n🌻Hunde sind im Hundehotel Magdalena herzlich willkommen!  🐾🐾 \n🌻Weitere Details zum Hotel findet ihr hier: https://www.magdalena.at/ \nWir freuen uns über zahlreiche Anmeldungen! (siehe Button unten) 😊 \nFür Mitfahrgelegenheiten meldet euch bitte bei Eva. \nHerzliche Grüße von \nOlga\, Anni\, Andrea\, Eva und Monika\nDer Vorstand vom BPW Club Tirol
URL:https://bpw.at/event/clubabend-tirol-%f0%9f%8c%bb/
LOCATION:****Hotel Magdalena\,\, Grossriedstraße 23\, Ried im Zillertal\, Tirol\, 6273\, Österreich
CATEGORIES:Tirol
ATTACH;FMTTYPE=image/jpeg:https://bpw.at/wp/wp-content/uploads/2023/07/2023-09-27-Andrea-Planoetscher-und-Hundehotel-Magdalena-Kopie.jpg
END:VEVENT
BEGIN:VEVENT
DTSTART;TZID=Europe/Vienna:20230928T190000
DTEND;TZID=Europe/Vienna:20230928T203000
DTSTAMP:20260420T174739
CREATED:20230916T132136Z
LAST-MODIFIED:20230917T062210Z
UID:10001143-1695927600-1695933000@bpw.at
SUMMARY:Empowerment NOW! Online: Forschung braucht Diversität und Internationalität - SAL
DESCRIPTION:Eine Veranstaltung von BPW Austria gemeinsam mit dem BPW Club Villach \nSilicon Austria Labs GmbH (SAL) möchte als internationales Forschungszentrum besonders junge Forscherinnen gewinnen – denn Forschung braucht Diversität und Internationalität. Mehr als 300 Mitarbeiterinnen aus 40 Nationen arbeiten an den drei österreichischen Standorten Graz\, Linz und Villach. \nUnsere Referentinnen \nDr.in Christina Hirschl (SAL-Geschäftsführerin) ist seit Juni 2023 Geschäftsführerin des Forschungszentrums. Die promovierte Physikerin arbeitete ab 2010 als Projektmanagerin und später Bereichsleiterin bei der CTR Carinthian Tech Research AG. Nach dem Merger von CTR und SAL leitete sie den Forschungsbereich Sensors Systems und den SAL-Standort in Villach. \nDI.in Johanna Zikulnig und Dr.in Annalisa De Pastina forschen bei SAL in den Bereichen gedruckte Elektronik und Mikrosystemtechnik. Die Forscherinnen geben in ihrem Vortrag Einblicke in ihren Werdegang und ihre Tätigkeiten bei SAL. \nProgramm \n18:00 Uhr: Ankommen bei SAL\n18:15 Uhr: SAL-Führung\n19:00 Uhr: Empowerment NOW! Vortrag ONLINE \nDu kannst vor Ort oder ab 19:00 Uhr online dabei sein. Die Teilnahme an der Veranstaltung ist kostenfrei.\nAnmeldung notwendig. \nDie Anmeldung für die Online-Teilnahme findest du nachstehend. Die Zugangsdaten zum Zoom-Meeting werden bei der Anmeldung zum Vortrag per Mail zugeschickt. \nBITTE Anmeldung für Vor-Ort-Teilnahme bis spätestens (!) Mittwoch\, 20. September bei unserer BPW Villach Schriftführerin Alya Khoury-Miles per E-Mail: alya.khoury.miles @ gmail.com
URL:https://bpw.at/event/empowerment-now-online-forschung-braucht-diversitaet-und-internationalitaet-sal/
LOCATION:Online über Zoom\, Der Link für Zoom wird in der Anmeldebestätigung zugesandt
CATEGORIES:BPW Austria,Empowerment Online,Villach
ATTACH;FMTTYPE=image/jpeg:https://bpw.at/wp/wp-content/uploads/2023/09/HIRSCHL_Christina_SAL_Foto_Helge_Bauer.jpg
END:VEVENT
BEGIN:VEVENT
DTSTART;TZID=UTC:20231004T190000
DTEND;TZID=UTC:20231004T190000
DTSTAMP:20260420T174739
CREATED:20230118T200527Z
LAST-MODIFIED:20231114T155113Z
UID:10001071-1696446000-1696446000@bpw.at
SUMMARY:Onboarding Veranstaltung - Exklusiv für BPWs
DESCRIPTION:Liebe Clubfrauen\, \nunter dem Motto #Kräftebündeln #Gemeinsamstark möchten wir unsere (neuen) Clubfrauen einladen\, mehr über BPW zu erfahren (Geschichte\, Hintergründe)\, die zur Verfügung stehenden Tools (Homepage\, FB\, Linkedin\, Instagram) kennen zu lernen und vor allem sich überregional zu vernetzen und kennen zu lernen. \nWir freuen uns auf einen interaktiven Abend mit einem kurzen Vortrag rund um BPW\, einem regen Austausch und viele Fragen! \nWir bitten um Anmeldung via des angeführten Anmeldebuttons – der Zoom Link wird am Veranstaltungstag übermittelt. \nKomm an Board\, sei dabei!
URL:https://bpw.at/event/onboarding-veranstaltung-2310/
LOCATION:Online über Zoom\, Der Link für Zoom wird in der Anmeldebestätigung zugesandt
CATEGORIES:BPW Austria
ATTACH;FMTTYPE=image/jpeg:https://bpw.at/wp/wp-content/uploads/2022/03/header-onboarding-bpw-neue-mitglieder.jpg
ORGANIZER;CN="BPW Austria":MAILTO:bpw.austria@bpw.at
END:VEVENT
BEGIN:VEVENT
DTSTART;TZID=Europe/Vienna:20231005T180000
DTEND;TZID=Europe/Vienna:20231005T210000
DTSTAMP:20260420T174739
CREATED:20230925T134925Z
LAST-MODIFIED:20231002T075434Z
UID:10001144-1696528800-1696539600@bpw.at
SUMMARY:BPW Salzkammergut Clubabend im Oktober
DESCRIPTION:„Die Buchstaben sind mein Leben.“ \nWir freuen uns darauf\, in die Welt der Kalligrafie eintauchen zu dürfen. \n \nHerzliche Einladung zum BPW-Clubabend \nbeim Eichingerbauern \nam Donnerstag\, 5. Oktober 2023\nEich 34\, 5310 Mondsee \n 18.00 Uhr (gemeinsames Essen)\n19.30 Uhr (Vortrag) \nBPW-Clubabend KALLIGRAFIE\nAn diesem Abend wird uns Andrea Henriette Felber in die Welt der handschriftlichen Buchstaben und der Kalligrafie eintauchen lassen. Ihre Intention ist es\, zu zeigen\, welche Möglichkeiten es gibt\, mit 26 Buchstaben zu experimentieren und Neues zu kreieren. Dabei wird sie uns nicht nur theoretische Einblicke in die Kalligrafie gewähren\, sondern uns auch praktisch mit ihrer Kunst unterhalten. Sie wird eine Auswahl ihrer Kunstwerke dabei haben\, damit wir sie bestaunen und auch käuflich erwerben können. \n \nAndrea Henriette Felber erlernte jenen Beruf\, der für sie immer klar und ohne Zweifel ihre Berufung war: Schriftenmalerin. Inspiriert wurde sie von klein auf von ihrem Vater\, der eine Malerei und Beschriftungswerkstatt hatte\, sowie von ihrer Tante\, die Schriftenmalerin war. Aus dem Schreiben von Buchstaben\, Gestalten von Werbetafeln und Mischen von Farben entstand der Wunsch\, künstlerisch tätig zu werden. Deshalb besuchte sie Kalligrafie-Kurse und absolvierte die Ausbildung zur Kreativtrainerin. Heute teilt sie ihr Wissen und ihre Freude am schönen handschriftlichen Schreiben im Rahmen von Workshops mit anderen Menschen. \n \nSie ist überzeugt: Wer einmal die wunderbare\, faszinierende Welt der Kalligrafie betreten hat\, den wird dieses Gefühl von Schaffen und Entwicklen\, Entspannung und Aufregung\, Zufriedenheit und Erfüllung nicht mehr loslassen. \nStelle ich mir die Frage\, was Kalligrafie für mich bedeutet\, kann ich spontan und aus tiefster Überzeugung sagen: Begegnung\, Inspiration\, Kreativität und mit Buchstaben zu experimentieren. Kalligrafie ist für mich mehr\, als mich hinzusetzen und zu schreiben. Es ist jedes Mal eine Herausforderung\, neue Spuren zu entdecken. \nwww.kalligrafie.at \n \nMelde dich jetzt bis Montag\, 2. Oktober 2023 um 18:00 Uhr an und leite die Einladung gerne an Interessentinnen weiter. \nWir freuen uns auf einen wertschätzenden und geselligen Vormittag mit Euch!\nEure Vorstandsdamen des BPW Club Salzkammergut \n \n  \n*Die Teilnahme an der Veranstaltung erfolgt auf eigene Gefahr. Es wird keine Haftung übernommen.\nWährend und nach der Veranstaltung werden Fotos gemacht. Diese werden auf unserer Homepage www.bpw.at/salzkammergut veröffentlicht und sind als Nachlese und Erinnerung gedacht. Mit der Teilnahme erklärt Ihr Euch damit einverstanden.
URL:https://bpw.at/event/bpw-salzkammergut-clubabend-im-oktober/
LOCATION:Landhotel Eichingerbauer\, Eich 34\, Mondsee\, Salzburg\, 5310\, Österreich
CATEGORIES:Salzkammergut
ATTACH;FMTTYPE=image/jpeg:https://bpw.at/wp/wp-content/uploads/2022/01/BPW_Salzkammergut_VA_Header_Sommer_Clubabend.jpg
END:VEVENT
END:VCALENDAR