BEGIN:VCALENDAR
VERSION:2.0
PRODID:-//Business and Professional Women Austria - ECPv6.15.20//NONSGML v1.0//EN
CALSCALE:GREGORIAN
METHOD:PUBLISH
X-WR-CALNAME:Business and Professional Women Austria
X-ORIGINAL-URL:https://bpw.at
X-WR-CALDESC:Veranstaltungen für Business and Professional Women Austria
REFRESH-INTERVAL;VALUE=DURATION:PT1H
X-Robots-Tag:noindex
X-PUBLISHED-TTL:PT1H
BEGIN:VTIMEZONE
TZID:Europe/Vienna
BEGIN:DAYLIGHT
TZOFFSETFROM:+0100
TZOFFSETTO:+0200
TZNAME:CEST
DTSTART:20230326T010000
END:DAYLIGHT
BEGIN:STANDARD
TZOFFSETFROM:+0200
TZOFFSETTO:+0100
TZNAME:CET
DTSTART:20231029T010000
END:STANDARD
BEGIN:DAYLIGHT
TZOFFSETFROM:+0100
TZOFFSETTO:+0200
TZNAME:CEST
DTSTART:20240331T010000
END:DAYLIGHT
BEGIN:STANDARD
TZOFFSETFROM:+0200
TZOFFSETTO:+0100
TZNAME:CET
DTSTART:20241027T010000
END:STANDARD
BEGIN:DAYLIGHT
TZOFFSETFROM:+0100
TZOFFSETTO:+0200
TZNAME:CEST
DTSTART:20250330T010000
END:DAYLIGHT
BEGIN:STANDARD
TZOFFSETFROM:+0200
TZOFFSETTO:+0100
TZNAME:CET
DTSTART:20251026T010000
END:STANDARD
END:VTIMEZONE
BEGIN:VTIMEZONE
TZID:UTC
BEGIN:STANDARD
TZOFFSETFROM:+0000
TZOFFSETTO:+0000
TZNAME:UTC
DTSTART:20230101T000000
END:STANDARD
END:VTIMEZONE
BEGIN:VEVENT
DTSTART;TZID=Europe/Vienna:20240112T180000
DTEND;TZID=Europe/Vienna:20240112T210000
DTSTAMP:20260419T185227
CREATED:20231212T111407Z
LAST-MODIFIED:20231212T112406Z
UID:10001188-1705082400-1705093200@bpw.at
SUMMARY:Clubabend Tirol – After Work Drink in Kufstein🍸🌻🍷
DESCRIPTION:im Restaurant Arkade in Kufstein\, Arkadenplatz 1 (südlich vom Oberen Stadtplatz) \nhttps://arkade.tirol/ \nSei beim After Work Drink dabei und bringe deine Freundinnen mit. Bleibe nach Lust und Laune einfach eine Stunde oder den ganzen Abend… Kein Programm. Kein Vortrag. Einfach in lockerer Runde miteinander Zeit verbringen und sich über berufliche Ziele\, Erfahrungen aus dem Arbeitsalltag und vieles mehr austauschen… \nSei dabei und bring deine Freundinnen mit! 😊 😊 😊 \nHerzliche Grüße von \nOlga\, Anni\, Andrea\, Eva und Monika\nDer Vorstand vom BPW Club Tirol
URL:https://bpw.at/event/clubabend-tirol-after-work-drink-in-kufstein%f0%9f%8d%b8%f0%9f%8c%bb%f0%9f%8d%b7-4/
LOCATION:Restaurant Arkade\, Arkadenplatz 1\, Kufstein\, Tirol\, 6330\, Österreich
CATEGORIES:Tirol
ATTACH;FMTTYPE=image/png:https://bpw.at/wp/wp-content/uploads/2023/12/Restaurant-Arkade-in-Kufstein-3.png
END:VEVENT
BEGIN:VEVENT
DTSTART;TZID=Europe/Vienna:20240117T183000
DTEND;TZID=Europe/Vienna:20240117T183000
DTSTAMP:20260419T185227
CREATED:20231127T231819Z
LAST-MODIFIED:20231229T085329Z
UID:10001170-1705516200-1705516200@bpw.at
SUMMARY:BPW Eferding-Donautal - BPW ... Was?
DESCRIPTION:BPW – Was ist das?  \nBPW steht für Business & Professional Women\, eines der bedeutendsten Frauennetzwerke der Welt. Bei BPW geht es um uns Frauen\, um Persönlichkeitsentwicklung\, um Vernetzung und um gesellschaftspolitische Themen\, wie Gleichstellung und Chancengleichheit. Wir stehen hinter dem Equal Pay Day\, der seit Jahren die Schieflage im Einkommen zwischen Frauen und Männern aufzeigt. \nWas hättest du davon\, eine BPW zu sein? Austausch mit Frauen\, gegenseitige Unterstützung\, Mentoring\, wenn du etwas weiterbringen willst oder immer offene Türen\, wenn du etwas für Frauen bewegen möchtest – sei es für dich\, deine Schwester\, Freundin\, Mutter oder Tochter. #frauenfürfrauen eben. \nMit Cornelia Pessenlehner\nPastpräsidentin BPW Austria
URL:https://bpw.at/event/bpw-eferding-donautal-jaenner-2024/
LOCATION:Brummeier Kepler-Stuben\, Stadtplatz 35\, Eferding
CATEGORIES:Eferding-Donautal
ATTACH;FMTTYPE=image/jpeg:https://bpw.at/wp/wp-content/uploads/2023/11/Pic_BPW_Was.jpg
END:VEVENT
BEGIN:VEVENT
DTSTART;TZID=UTC:20240124T190000
DTEND;TZID=UTC:20240124T190000
DTSTAMP:20260419T185227
CREATED:20231114T155553Z
LAST-MODIFIED:20240125T071212Z
UID:10001161-1706122800-1706122800@bpw.at
SUMMARY:Onboarding Veranstaltung - Exklusiv für BPW
DESCRIPTION:Liebe Clubfrauen\, \nunter dem Motto #Kräftebündeln #Gemeinsamstark möchten wir unsere (neuen) Clubfrauen einladen\, mehr über BPW zu erfahren (Geschichte\, Hintergründe)\, die zur Verfügung stehenden Tools (Homepage\, FB\, Linkedin\, Instagram) kennen zu lernen und vor allem sich überregional zu vernetzen und kennen zu lernen. \nWir freuen uns auf einen interaktiven Abend mit einem kurzen Vortrag rund um BPW\, einem regen Austausch und viele Fragen! \nWir bitten um Anmeldung via des angeführten Anmeldebuttons – der Zoom Link wird am Veranstaltungstag übermittelt. \nKomm an Board\, sei dabei!
URL:https://bpw.at/event/onboarding-veranstaltung-0124/
LOCATION:Online über Zoom\, Der Link für Zoom wird in der Anmeldebestätigung zugesandt
CATEGORIES:BPW Austria
ATTACH;FMTTYPE=image/jpeg:https://bpw.at/wp/wp-content/uploads/2023/11/Header_onboarding_BPW_neue_Mitglieder.jpg
ORGANIZER;CN="BPW Austria":MAILTO:bpw.austria@bpw.at
END:VEVENT
BEGIN:VEVENT
DTSTART;TZID=Europe/Vienna:20240124T190000
DTEND;TZID=Europe/Vienna:20240124T230000
DTSTAMP:20260419T185227
CREATED:20231125T150806Z
LAST-MODIFIED:20231217T071236Z
UID:10001165-1706122800-1706137200@bpw.at
SUMMARY:Lesung Dr. Stefanie Brodmann "Frauen\, die schreiben\, blühen auf"
DESCRIPTION:Exklusive Buchlesung unserer Clubkollegin Dr. Stefanie Brodmann!\nIm Rahmen des Clubabends bekommen wir exklusiv erste Einblicke in ihr Buch “Frauen\, die schreiben\, blühen auf”. \n  \nDr. Stefanie Brodmann ist Schreibtrainerin und Mentorin für intuitives und autobiographisches Schreiben und unterstützt in ihren Writing Flow Circles und Schreibworkshops vor allem Frauen darin\, ihre innere Stimme wieder zu finden und sich neu zu entdecken. \nDie promovierte Ökonomin arbeitet seit fast 15 Jahren in ihrem Traumjob bei der Weltbank in der internationalen Entwicklungszusammenarbeit und verkörperte dabei die „Woman can have it all“- Mentalität: Reisen um die Welt\, Beruf\, Mutterschaft\, Ehemann. Ihr Versuch\, alles zu haben\, war erfolgreich\, aber sie brannte aus und ihr Lebensfeuer verblühte. Auf der Suche nach ihrer Leidenschaft und Freude im Leben war sie kurz davor\, auf eine Insel zu flüchten\, aber buchte stattdessen ein Jahresprogramm für kreatives Schreiben: Passion Writing! \nKurze Zeit später war nichts mehr wie vorher. Sie blühte wieder auf. Vom drohenden Burn-out und innerer Leere zur strahlenden Frau mit Träumen und der Energie\, sie zu verwirklichen. Heute ist Stefanie Brodmann überzeugt: Schreiben ist magisch! \nIm Dezember 2023 erschien ihr Buch: „Frauen\, die schreiben\, blühen auf – Mit 23 Schreibinspirationen für eine Reise zu dir“\, das neben 23 inspirierende Schreibimpulsen auch sehr persönliche Einblicke in den Wandlungs- und Heilungsprozess der Autorin enthält. \nNach über 20 Jahren im nicht-deutschsprachigen Ausland lebt die gebürtige Deutsche mit ihrem Mann und ihren beiden Kindern in Oberösterreich. \nKontakt: \nhttps://thewritingflow.com \nstefanie@thewritingflow.com \nDas Buch kann folgend erworben werden. \n  \nFür Clubmitglieder ist die Veranstaltung kostenlos. Für Interessent:innen: zahle\, was es dir Wert ist! \nAnmeldung über unsere Webpage.
URL:https://bpw.at/event/lesung-dr-stefanie-brodmann-frauen-die-schreiben-bluehen-auf/
LOCATION:Hotel Alexandra\, Dr. Schauer-Str. 41\, Wels\, Oberösterreich\, 4600\, Österreich
CATEGORIES:Linz-Wels
ATTACH;FMTTYPE=image/jpeg:https://bpw.at/wp/wp-content/uploads/2023/11/Steffie_51.jpg
END:VEVENT
BEGIN:VEVENT
DTSTART;VALUE=DATE:20240125
DTEND;VALUE=DATE:20240126
DTSTAMP:20260419T185227
CREATED:20250221T141437Z
LAST-MODIFIED:20250222T080224Z
UID:10001381-1706140800-1706227199@bpw.at
SUMMARY:BPW Vorarlberg besucht die Ölz Meisterbäcker
DESCRIPTION:Im Jänner konnten wir die neue moderne Produktionsstätte von Ölz Meisterbäcker in Dornbirn besuchen. Firmenchef Bernhard Ölz hat uns höchstpersönlich durch die Produktion geführt und uns u.a. erklärt\, dass jeder Zopf von Ölz von Hand geflochten wird. Die Fa. Ölz ist die modernste Bäckerei in Europa – und trotzdem sind ihre Produkte ohne Konservierungsstoffe. \nEs war wirklich sehr beeindruckend zu sehen\, wie die einzelnen Produkte hergestellt werden und welch hohe Hygienestandards in der Produktion vorherrschen. \nEin herzliches Dankeschön an Bernhard Ölz für die spannende Führung! \n \n \n \n \n \n  \n  \n  \n  \n 
URL:https://bpw.at/event/bpw-vorarlberg-bei-oelz-meisterbaecker/
LOCATION:Ölz Meisterbäcker Bäckerei Wallenmahd\, J.-M. Fusseneggerstrasse 10\, Dornbirn\, 6850
CATEGORIES:Vorarlberg,Vorarlberg Impressionen und Berichte
ATTACH;FMTTYPE=image/jpeg:https://bpw.at/wp/wp-content/uploads/2025/02/Oelz3-e1740147579171.jpg
ORGANIZER;CN="BPW Club Vorarlberg":MAILTO:vorarlberg@bpw.at
END:VEVENT
BEGIN:VEVENT
DTSTART;TZID=Europe/Vienna:20240125T180000
DTEND;TZID=Europe/Vienna:20240125T223000
DTSTAMP:20260419T185227
CREATED:20231227T131056Z
LAST-MODIFIED:20231227T131056Z
UID:10001192-1706205600-1706221800@bpw.at
SUMMARY:Kerzenlichtfeier BPW Club-Abend Villach
DESCRIPTION:Herzliche Einladung zu unserer BPW Kerzenlichtfeier am Donnerstag\, den 25.01.2024\, chez “Antoan” im Max Palais\, in Villach! \nDetaillierte Einladung mit Menu folgt… \n  \n \n 
URL:https://bpw.at/event/kerzenlichtfeier-bpw-club-abend-villach/
LOCATION:Antoan\, Im Max Palais\, Bahnhofstrasse 15\, Villach\, Kärnten\, 9500
CATEGORIES:Villach
END:VEVENT
BEGIN:VEVENT
DTSTART;TZID=Europe/Vienna:20240131T183000
DTEND;TZID=Europe/Vienna:20240131T210000
DTSTAMP:20260419T185228
CREATED:20231213T092156Z
LAST-MODIFIED:20231213T094259Z
UID:10001189-1706725800-1706734800@bpw.at
SUMMARY:Clubabend Tirol mit Manuela Mader🌻
DESCRIPTION:Manuela Mader\, ausgebildete Touristikerin und Marketingfachfrau\, ist seit 17 Jahren bei SOS Kinderdorf Österreich tätig. Dort kümmert sie sich als Fundraiserin um Unternehmensspender*innen und Sponsoringpartnerschaften in Tirol\, Vorarlberg\, Wien\, NÖ und Burgenland. \n🌻 Sie wird uns Einblick in ihren spannenden Arbeitsalltag geben. Ihre große Stärke ist das Netzwerken mit Unternehmer*innen über die so wichtige Arbeit von SOS-Kinderdorf und diese davon zu überzeugen\, dass sie mit ihrer Unterstützung dazu beitragen können\, Kindern und Jugendlichen ein liebevolles Zuhause zu geben. \n🌻 Manuela lebt in Innsbruck und Wien und findet es wunderbar zwischen diesen für sie schönsten Städten Österreichs zu pendeln. Begeistern kann sie sich für die schönen Dinge des Lebens – wie Kultur\, gutes Essen\, Reisen oder die Bewegung in der Natur. \n🌻Ihre größte Herausforderung: Alleinerzieherin in den 90iger Jahren\, in einer Zeit\, wo es gerade am Land nahezu unmöglich war\, eine leistbare Kinderbetreuung zu finden\, wenn “frau” so wie sie Vollzeit berufstätig war. \n  \nWenn ihr unsere neue BPW Clubfrau Manuela Mader näher kennenlernen wollt\, dann kommt zum nächsten Clubabend! Wir freuen uns über zahlreiche Anmeldungen!🥰 \nWir treffen uns im SOS-Kinderdorf in der Stafflerstraße 10a in Innsbruck. \nWir wollen den Abend bei Getränken und Häppchen ausklingen lassen. \nBPW Mitgliedsfrauen: gratis \nInteressentinnen: EUR 20 \n  \nHerzliche Grüße \nOlga\, Anni\, Andrea\, Eva und Monika \nDer Vorstand vom BPW Club Tirol \n  \nFoto: Simon Lanzinger
URL:https://bpw.at/event/clubabend-tirol-mit-manuela-mader%f0%9f%8c%bb/
LOCATION:SOS Kinderdorf\, Stafflerstraße 10 a\, Innsbruck\, Tirol\, 6020\, Österreich
CATEGORIES:Tirol
ATTACH;FMTTYPE=image/jpeg:https://bpw.at/wp/wp-content/uploads/2023/12/Mader-Manuela-1.jpg
END:VEVENT
END:VCALENDAR