BEGIN:VCALENDAR
VERSION:2.0
PRODID:-//Business and Professional Women Austria - ECPv6.15.20//NONSGML v1.0//EN
CALSCALE:GREGORIAN
METHOD:PUBLISH
X-WR-CALNAME:Business and Professional Women Austria
X-ORIGINAL-URL:https://bpw.at
X-WR-CALDESC:Veranstaltungen für Business and Professional Women Austria
REFRESH-INTERVAL;VALUE=DURATION:PT1H
X-Robots-Tag:noindex
X-PUBLISHED-TTL:PT1H
BEGIN:VTIMEZONE
TZID:Europe/Vienna
BEGIN:DAYLIGHT
TZOFFSETFROM:+0100
TZOFFSETTO:+0200
TZNAME:CEST
DTSTART:20240331T010000
END:DAYLIGHT
BEGIN:STANDARD
TZOFFSETFROM:+0200
TZOFFSETTO:+0100
TZNAME:CET
DTSTART:20241027T010000
END:STANDARD
BEGIN:DAYLIGHT
TZOFFSETFROM:+0100
TZOFFSETTO:+0200
TZNAME:CEST
DTSTART:20250330T010000
END:DAYLIGHT
BEGIN:STANDARD
TZOFFSETFROM:+0200
TZOFFSETTO:+0100
TZNAME:CET
DTSTART:20251026T010000
END:STANDARD
BEGIN:DAYLIGHT
TZOFFSETFROM:+0100
TZOFFSETTO:+0200
TZNAME:CEST
DTSTART:20260329T010000
END:DAYLIGHT
BEGIN:STANDARD
TZOFFSETFROM:+0200
TZOFFSETTO:+0100
TZNAME:CET
DTSTART:20261025T010000
END:STANDARD
END:VTIMEZONE
BEGIN:VEVENT
DTSTART;TZID=Europe/Vienna:20250725T180000
DTEND;TZID=Europe/Vienna:20250725T220000
DTSTAMP:20260421T193835
CREATED:20250711T085623Z
LAST-MODIFIED:20250711T085950Z
UID:10001416-1753466400-1753480800@bpw.at
SUMMARY:BPW Tirol – After Work Drink in Kufstein🍸
DESCRIPTION:Sei beim After Work Drink dabei und bringe deine Freundinnen mit. Bleibe nach Lust und Laune einfach eine Stunde oder den ganzen Abend… Kein Programm. Kein Vortrag. Einfach in lockerer Runde miteinander Zeit verbringen und sich über berufliche Ziele\, Erfahrungen aus dem Arbeitsalltag und vieles mehr austauschen… \nSei dabei und bring deine Freundinnen mit! 😊 😊 😊 \nHerzliche Grüße von \nAnni\, Manuela\, Angelika und Eva\nDer Vorstand vom BPW Club Tirol \n  \nFoto: https://www.cavos.at/
URL:https://bpw.at/event/bpw-tirol-after-work-drink-in-kufstein-2/
LOCATION:CAVOS Griechisches Restaurant\, Kufstein\, Unterer Stadtplatz 9\, Unterer Stadtplatz 9\, Kufstein\, Tirol
CATEGORIES:Tirol
ATTACH;FMTTYPE=image/jpeg:https://bpw.at/wp/wp-content/uploads/2024/04/Cavos-Griechisches-Restaurant-Kufstein-2.jpg
END:VEVENT
BEGIN:VEVENT
DTSTART;TZID=Europe/Vienna:20250807T190000
DTEND;TZID=Europe/Vienna:20250807T210000
DTSTAMP:20260421T193835
CREATED:20250716T174107Z
LAST-MODIFIED:20250716T174302Z
UID:10001418-1754593200-1754600400@bpw.at
SUMMARY:Clubabend @ Summer Lounge
DESCRIPTION:Sommerfeeling pur am Stadtplatz Eferding \n🗓 Mittwoch\, 7. August 2025🕖 ab 19:00 Uhr📍 Summer Lounge am Stadtplatz\, Eferding \n\nLet’s lounge!\nLaue Sommerabende\, feine Drinks\, gute Gespräche – das ist Summer Lounge in Eferding!Beim nächsten Clubabend treffen wir uns ganz entspannt direkt am Stadtplatz\, um gemeinsam das besondere Sommerflair zu genießen. \nWir plaudern\, lachen\, tauschen Ideen aus – und genießen dabei den Ausklang eines heißen Sommertages mit erfrischenden Getränken\, feinen Schmankerln und cooler Live-Musik. Ab 19:30 Uhr sorgt die Band Jazzix für die passende musikalische Begleitung. \nBPW trifft Summerlounge:\n🌞 Get-together ab 19:00 Uhr beim Veranstaltungsplatz \n🍸 Drinks & Cocktails \n🍽 Schmankerl \n🎶 Live-Musik mit Jazzix \nBringe gerne interessierte Frauen mit – ein lockerer Abend zum Netzwerken\, Austauschen und Genießen erwartet uns! \n📩 Melde dich bitte bis 5. August an.
URL:https://bpw.at/event/clubabend-summer-lounge/
LOCATION:Stadtplatz Eferding\, Eferding\, 4070
CATEGORIES:Eferding-Donautal
ATTACH;FMTTYPE=image/jpeg:https://bpw.at/wp/wp-content/uploads/2025/07/2023DanielMayerLamberg7aug23.jpg
END:VEVENT
END:VCALENDAR