BEGIN:VCALENDAR
VERSION:2.0
PRODID:-//Business and Professional Women Austria - ECPv6.15.20//NONSGML v1.0//EN
CALSCALE:GREGORIAN
METHOD:PUBLISH
X-WR-CALNAME:Business and Professional Women Austria
X-ORIGINAL-URL:https://bpw.at
X-WR-CALDESC:Veranstaltungen für Business and Professional Women Austria
REFRESH-INTERVAL;VALUE=DURATION:PT1H
X-Robots-Tag:noindex
X-PUBLISHED-TTL:PT1H
BEGIN:VTIMEZONE
TZID:Europe/Vienna
BEGIN:DAYLIGHT
TZOFFSETFROM:+0100
TZOFFSETTO:+0200
TZNAME:CEST
DTSTART:20240331T010000
END:DAYLIGHT
BEGIN:STANDARD
TZOFFSETFROM:+0200
TZOFFSETTO:+0100
TZNAME:CET
DTSTART:20241027T010000
END:STANDARD
BEGIN:DAYLIGHT
TZOFFSETFROM:+0100
TZOFFSETTO:+0200
TZNAME:CEST
DTSTART:20250330T010000
END:DAYLIGHT
BEGIN:STANDARD
TZOFFSETFROM:+0200
TZOFFSETTO:+0100
TZNAME:CET
DTSTART:20251026T010000
END:STANDARD
BEGIN:DAYLIGHT
TZOFFSETFROM:+0100
TZOFFSETTO:+0200
TZNAME:CEST
DTSTART:20260329T010000
END:DAYLIGHT
BEGIN:STANDARD
TZOFFSETFROM:+0200
TZOFFSETTO:+0100
TZNAME:CET
DTSTART:20261025T010000
END:STANDARD
END:VTIMEZONE
BEGIN:VEVENT
DTSTART;TZID=Europe/Vienna:20250725T180000
DTEND;TZID=Europe/Vienna:20250725T220000
DTSTAMP:20260423T200324
CREATED:20250711T085623Z
LAST-MODIFIED:20250711T085950Z
UID:10001416-1753466400-1753480800@bpw.at
SUMMARY:BPW Tirol – After Work Drink in Kufstein🍸
DESCRIPTION:Sei beim After Work Drink dabei und bringe deine Freundinnen mit. Bleibe nach Lust und Laune einfach eine Stunde oder den ganzen Abend… Kein Programm. Kein Vortrag. Einfach in lockerer Runde miteinander Zeit verbringen und sich über berufliche Ziele\, Erfahrungen aus dem Arbeitsalltag und vieles mehr austauschen… \nSei dabei und bring deine Freundinnen mit! 😊 😊 😊 \nHerzliche Grüße von \nAnni\, Manuela\, Angelika und Eva\nDer Vorstand vom BPW Club Tirol \n  \nFoto: https://www.cavos.at/
URL:https://bpw.at/event/bpw-tirol-after-work-drink-in-kufstein-2/
LOCATION:CAVOS Griechisches Restaurant\, Kufstein\, Unterer Stadtplatz 9\, Unterer Stadtplatz 9\, Kufstein\, Tirol
CATEGORIES:Tirol
ATTACH;FMTTYPE=image/jpeg:https://bpw.at/wp/wp-content/uploads/2024/04/Cavos-Griechisches-Restaurant-Kufstein-2.jpg
END:VEVENT
BEGIN:VEVENT
DTSTART;TZID=Europe/Vienna:20250807T190000
DTEND;TZID=Europe/Vienna:20250807T210000
DTSTAMP:20260423T200324
CREATED:20250716T174107Z
LAST-MODIFIED:20250716T174302Z
UID:10001418-1754593200-1754600400@bpw.at
SUMMARY:Clubabend @ Summer Lounge
DESCRIPTION:Sommerfeeling pur am Stadtplatz Eferding \n🗓 Mittwoch\, 7. August 2025🕖 ab 19:00 Uhr📍 Summer Lounge am Stadtplatz\, Eferding \n\nLet’s lounge!\nLaue Sommerabende\, feine Drinks\, gute Gespräche – das ist Summer Lounge in Eferding!Beim nächsten Clubabend treffen wir uns ganz entspannt direkt am Stadtplatz\, um gemeinsam das besondere Sommerflair zu genießen. \nWir plaudern\, lachen\, tauschen Ideen aus – und genießen dabei den Ausklang eines heißen Sommertages mit erfrischenden Getränken\, feinen Schmankerln und cooler Live-Musik. Ab 19:30 Uhr sorgt die Band Jazzix für die passende musikalische Begleitung. \nBPW trifft Summerlounge:\n🌞 Get-together ab 19:00 Uhr beim Veranstaltungsplatz \n🍸 Drinks & Cocktails \n🍽 Schmankerl \n🎶 Live-Musik mit Jazzix \nBringe gerne interessierte Frauen mit – ein lockerer Abend zum Netzwerken\, Austauschen und Genießen erwartet uns! \n📩 Melde dich bitte bis 5. August an.
URL:https://bpw.at/event/clubabend-summer-lounge/
LOCATION:Stadtplatz Eferding\, Eferding\, 4070
CATEGORIES:Eferding-Donautal
ATTACH;FMTTYPE=image/jpeg:https://bpw.at/wp/wp-content/uploads/2025/07/2023DanielMayerLamberg7aug23.jpg
END:VEVENT
BEGIN:VEVENT
DTSTART;TZID=Europe/Vienna:20250814T180000
DTEND;TZID=Europe/Vienna:20250814T220000
DTSTAMP:20260423T200324
CREATED:20250721T084401Z
LAST-MODIFIED:20250731T041651Z
UID:10001419-1755194400-1755208800@bpw.at
SUMMARY:Afterwork – BPW Salzburg
DESCRIPTION:Afterwork – Netzwerken\nWir laden Dich herzlich zu unserem informellen Afterwork-Treffen im August ein.\nIn entspannter Atmosphäre wollen wir uns vernetzen\, austauschen und gemeinsam einen inspirierenden Abend verbringen. Ob Du bereits Teil unseres Netzwerks bist oder BPW Salzburg einfach einmal kennenlernen möchtest – Du bist herzlich willkommen! \n\nUnser Afterwork bietet die Möglichkeit\, andere engagierte Frauen kennenzulernen\, Erfahrungen zu teilen\, neue Perspektiven zu gewinnen. \n\n\nWir freuen uns auf Dich – und gerne auch auf Freundinnen\, Kolleginnen oder Interessierte\, die Du mitbringen möchtest!\n  \nWann:\nDonnerstag\, 14.08.2025\nab 18:00 Uhr Get together\nab 19:30 Uhr Netzwerken \nWo:\nDas Wolfgang – Panorama Lounge\nSalzburger Flughafen\, Terminal 1\n2. Obergeschoss\n5020 Salzburg Airport \nBPWs: gratis \nGästebetrag: € 15\,00 \nWährend und nach der Veranstaltung wird fotografiert. Die Fotos werden auf unserer Homepage www.bpw.at/salzburgveröffentlicht und in unserem Gästebuch eingeklebt und sind als Erinnerung und Nachlese gedacht. Mit der Teilnahme am Clubabend erklärt Ihr Euch damit einverstanden.
URL:https://bpw.at/event/after-work-bpw-salzburg/
LOCATION:Das Wolfgang\, Outdoor Lounge\, Salzburg Airport
CATEGORIES:Salzburg
ATTACH;FMTTYPE=image/jpeg:https://bpw.at/wp/wp-content/uploads/2025/07/Teaser_08_2025_3.jpg
ORGANIZER;CN="BPW Club Salzburg":MAILTO:salzburg@bpw.at
END:VEVENT
BEGIN:VEVENT
DTSTART;TZID=Europe/Vienna:20250822T180000
DTEND;TZID=Europe/Vienna:20250822T220000
DTSTAMP:20260423T200324
CREATED:20250811T073744Z
LAST-MODIFIED:20250811T074147Z
UID:10001423-1755885600-1755900000@bpw.at
SUMMARY:BPW Tirol - After Work Drink am Baggersee🍸
DESCRIPTION:Sei beim After Work Drink dabei und bringe deine Freundinnen mit. Bleibe nach Lust und Laune einfach eine Stunde oder den ganzen Abend… Kein Programm. Kein Vortrag. Einfach in lockerer Runde miteinander Zeit verbringen und sich über berufliche Ziele\, Erfahrungen aus dem Arbeitsalltag und vieles mehr austauschen… \n\nDamit möglichst viele Frauen dabei sein können\, haben wir an beiden Tagen\, 22.8. UND 29.8. beim Deck47 einen Tisch für uns reservieren lassen. \n\nSei dabei und bring deine Freundinnen mit! 😊 😊 😊 \nHerzliche Grüße von \nAnni\, Manuela\, Angelika und Eva\nDer Vorstand vom BPW Club Tirol \n  \nFoto: https://www.deck47.at/de/deck47-news/
URL:https://bpw.at/event/bpw-tirol-after-work-drink-am-baggersee-22-8/
LOCATION:deck47 am Baggersee\, Archenweg 62\, 6020 Innsbruck\, Archenweg 62\, Innsbruck\, Tirol\, 6020\, Österreich
CATEGORIES:Tirol
ATTACH;FMTTYPE=image/jpeg:https://bpw.at/wp/wp-content/uploads/2024/06/Deck-47-am-Baggersee-Innsbruck.jpg
END:VEVENT
BEGIN:VEVENT
DTSTART;TZID=Europe/Vienna:20250829T180000
DTEND;TZID=Europe/Vienna:20250829T220000
DTSTAMP:20260423T200324
CREATED:20250711T091120Z
LAST-MODIFIED:20250811T074016Z
UID:10001417-1756490400-1756504800@bpw.at
SUMMARY:BPW Tirol - After Work Drink am Baggersee🍸
DESCRIPTION:Damit möglichst viele Frauen dabei sein können\, haben wir an beiden Tagen\, 22.8. UND 29.8. beim Deck47 einen Tisch für uns reservieren lassen. \nSei beim After Work Drink dabei und bringe deine Freundinnen mit. Bleibe nach Lust und Laune einfach eine Stunde oder den ganzen Abend… Kein Programm. Kein Vortrag. Einfach in lockerer Runde miteinander Zeit verbringen und sich über berufliche Ziele\, Erfahrungen aus dem Arbeitsalltag und vieles mehr austauschen… \nSei dabei und bring deine Freundinnen mit! 😊 😊 😊 \nHerzliche Grüße von \nAnni\, Manuela\, Angelika und Eva\nDer Vorstand vom BPW Club Tirol \n  \nFoto: https://www.deck47.at/de/deck47-news/
URL:https://bpw.at/event/bpw-tirol-after-work-drink-am-baggersee/
LOCATION:deck47 am Baggersee\, Archenweg 62\, 6020 Innsbruck\, Archenweg 62\, Innsbruck\, Tirol\, 6020\, Österreich
CATEGORIES:Tirol
ATTACH;FMTTYPE=image/jpeg:https://bpw.at/wp/wp-content/uploads/2024/06/Deck-47-am-Baggersee-Innsbruck.jpg
END:VEVENT
BEGIN:VEVENT
DTSTART;TZID=Europe/Vienna:20250904T183000
DTEND;TZID=Europe/Vienna:20250904T210000
DTSTAMP:20260423T200324
CREATED:20250814T102332Z
LAST-MODIFIED:20250814T103104Z
UID:10001424-1757010600-1757019600@bpw.at
SUMMARY:Steuerwissen für Frauen
DESCRIPTION:Tipps & Tricks for everyone\, everyday ✨ \nSteuern trocken und kompliziert? Nicht an diesem Abend!Gemeinsam mit der motivierten Steuerberaterin Evelyn Schranz begeben wir uns auf eine inspirierende Reise – von spannenden Momenten der Steuergeschichte\, über praktische Basics\, die jede Frau im Berufsleben kennen sollte\, bis hin zur Frage:„Kann KI unser Steuersystem einfacher machen?“ \n📌 Darum geht’s: \n\nDer Sprung von der „Vollkasko-Mentalität“ ins eigene Business\nEinkommensteuer\, Umsatzsteuer & Sozialversicherung – klar und verständlich erklärt\nPraktische Tipps & Tricks\, die bei der Steuererklärung wirklich helfen\n\nEgal\, ob du selbstständig bist\, in einem Angestelltenverhältnis arbeitest\, gerade den nächsten Karriereschritt planst oder einfach mehr Klarheit bei Steuerthemen willst – hier bekommst du verständliches Wissen\, Aha-Momente und den Mut\, das Thema Steuern aktiv anzugehen. \n📅 Donnerstag\,  4. September 2025🕖 ab 18:30 Uhr – Beginn 19 Uhr📍 Freund’s Lokal \nBring deine Fragen\, deine Neugier und deine Offenheit mit – und lass uns gemeinsam Steuerwissen zu einem Werkzeug machen\, das uns stärkt statt einschüchtert. \nWir freuen uns auf dich! \n__ \nMelde dich bitte bis 1.9. hier an. \nWährend der Veranstaltung werden Fotos gemacht. Diese dienen der Erinnerung und Nachlese (z. B. in unserer WhatsApp Gruppe\, auf unserer Website oder im Gästebuch). Mit eurer Teilnahme erklärt ihr euch damit einverstanden.
URL:https://bpw.at/event/steuerwissen-fuer-frauen/
LOCATION:Freund’s Lokal\, Eferding
CATEGORIES:Eferding-Donautal
ATTACH;FMTTYPE=image/jpeg:https://bpw.at/wp/wp-content/uploads/2025/08/WhatsApp-Bild-2025-08-13-um-16.48.05_259d6b94.jpg
END:VEVENT
BEGIN:VEVENT
DTSTART;TZID=Europe/Vienna:20250909T180000
DTEND;TZID=Europe/Vienna:20250909T220000
DTSTAMP:20260423T200324
CREATED:20250901T121243Z
LAST-MODIFIED:20250901T121243Z
UID:10001428-1757440800-1757455200@bpw.at
SUMMARY:Jubiläums-Update
DESCRIPTION:Jubiläums-Update\nInformationen folgen in Kürze. \nWann:\nDienstag\, 09.09.2025\nab 18:00 Uhr Get together\nab 19:30 Uhr Besprechungsbeginn \nWo:\nDas Wolfgang – Panorama Lounge\nSalzburger Flughafen\, Terminal 1\n2. Obergeschoss\n5020 Salzburg Airport \n  \nBPWs: gratis \nGästebetrag: € 15\,00 \nWährend und nach der Veranstaltung wird fotografiert. Die Fotos werden auf unserer Homepage www.bpw.at/salzburgveröffentlicht und in unserem Gästebuch eingeklebt und sind als Erinnerung und Nachlese gedacht. Mit der Teilnahme am Clubabend erklärt Ihr Euch damit einverstanden.
URL:https://bpw.at/event/jubilaeums-update/
LOCATION:Das Wolfgang\, Outdoor Lounge\, Salzburg Airport
CATEGORIES:Salzburg
ATTACH;FMTTYPE=image/jpeg:https://bpw.at/wp/wp-content/uploads/2025/09/Teaser_09_2025_02.jpg
ORGANIZER;CN="BPW Club Salzburg":MAILTO:salzburg@bpw.at
END:VEVENT
END:VCALENDAR