BEGIN:VCALENDAR
VERSION:2.0
PRODID:-//Business and Professional Women Austria - ECPv6.15.20//NONSGML v1.0//EN
CALSCALE:GREGORIAN
METHOD:PUBLISH
X-WR-CALNAME:Business and Professional Women Austria
X-ORIGINAL-URL:https://bpw.at
X-WR-CALDESC:Veranstaltungen für Business and Professional Women Austria
REFRESH-INTERVAL;VALUE=DURATION:PT1H
X-Robots-Tag:noindex
X-PUBLISHED-TTL:PT1H
BEGIN:VTIMEZONE
TZID:Europe/Vienna
BEGIN:DAYLIGHT
TZOFFSETFROM:+0100
TZOFFSETTO:+0200
TZNAME:CEST
DTSTART:20250330T010000
END:DAYLIGHT
BEGIN:STANDARD
TZOFFSETFROM:+0200
TZOFFSETTO:+0100
TZNAME:CET
DTSTART:20251026T010000
END:STANDARD
BEGIN:DAYLIGHT
TZOFFSETFROM:+0100
TZOFFSETTO:+0200
TZNAME:CEST
DTSTART:20260329T010000
END:DAYLIGHT
BEGIN:STANDARD
TZOFFSETFROM:+0200
TZOFFSETTO:+0100
TZNAME:CET
DTSTART:20261025T010000
END:STANDARD
BEGIN:DAYLIGHT
TZOFFSETFROM:+0100
TZOFFSETTO:+0200
TZNAME:CEST
DTSTART:20270328T010000
END:DAYLIGHT
BEGIN:STANDARD
TZOFFSETFROM:+0200
TZOFFSETTO:+0100
TZNAME:CET
DTSTART:20271031T010000
END:STANDARD
END:VTIMEZONE
BEGIN:VEVENT
DTSTART;TZID=Europe/Vienna:20260311T180000
DTEND;TZID=Europe/Vienna:20260311T230000
DTSTAMP:20260419T170918
CREATED:20251103T193039Z
LAST-MODIFIED:20260221T141046Z
UID:10001446-1773252000-1773270000@bpw.at
SUMMARY:BPW Spittal - Offener Clubabend: Vortrag von Caroline Lotter
DESCRIPTION:Thema:\nDie Marke Ich. Und das Wir dahinter. \nSichtbarkeit durch Storytelling
URL:https://bpw.at/event/bpw-spittal-offener-clubabend-vortrag-von-christiane-holzinger/
LOCATION:Restaurant Zellot\, Hauptplatz 13\, Spittal an der Drau\, Kärnten\, 9800\, Österreich
CATEGORIES:Spittal an der Drau
ATTACH;FMTTYPE=image/jpeg:https://bpw.at/wp/wp-content/uploads/2025/11/2026-03-11_EinladungClubabend.jpg
END:VEVENT
BEGIN:VEVENT
DTSTART;TZID=Europe/Vienna:20260313T180000
DTEND;TZID=Europe/Vienna:20260313T213000
DTSTAMP:20260419T170918
CREATED:20260227T112036Z
LAST-MODIFIED:20260227T112347Z
UID:10001533-1773424800-1773437400@bpw.at
SUMMARY:BPW Tirol - After Work Drink in Kufstein🍸
DESCRIPTION:Sei beim After Work Drink dabei und bringe deine Freundinnen mit. Wie üblich kein Programm und kein Vortrag. Wir wollen uns jedoch ganz bewusst über unsere beruflichen Ziele austauschen. Was brauchst du gerade? Was möchtest du verlautbaren? Was hast du im Angebot? Wir freuen uns über ein reges Netzwerken!  \n  \nFoto: https://www.cavos.at/
URL:https://bpw.at/event/bpw-tirol-after-work-drink-in-kufstein-13-3/
LOCATION:CAVOS Griechisches Restaurant\, Kufstein\, Unterer Stadtplatz 9\, Unterer Stadtplatz 9\, Kufstein\, Tirol
CATEGORIES:Tirol
ATTACH;FMTTYPE=image/jpeg:https://bpw.at/wp/wp-content/uploads/2024/04/Cavos-Griechisches-Restaurant-Kufstein-2.jpg
END:VEVENT
END:VCALENDAR