BEGIN:VCALENDAR
VERSION:2.0
PRODID:-//Business and Professional Women Austria - ECPv6.15.20//NONSGML v1.0//EN
CALSCALE:GREGORIAN
METHOD:PUBLISH
X-WR-CALNAME:Business and Professional Women Austria
X-ORIGINAL-URL:https://bpw.at
X-WR-CALDESC:Veranstaltungen für Business and Professional Women Austria
REFRESH-INTERVAL;VALUE=DURATION:PT1H
X-Robots-Tag:noindex
X-PUBLISHED-TTL:PT1H
BEGIN:VTIMEZONE
TZID:Europe/Vienna
BEGIN:DAYLIGHT
TZOFFSETFROM:+0100
TZOFFSETTO:+0200
TZNAME:CEST
DTSTART:20250330T010000
END:DAYLIGHT
BEGIN:STANDARD
TZOFFSETFROM:+0200
TZOFFSETTO:+0100
TZNAME:CET
DTSTART:20251026T010000
END:STANDARD
BEGIN:DAYLIGHT
TZOFFSETFROM:+0100
TZOFFSETTO:+0200
TZNAME:CEST
DTSTART:20260329T010000
END:DAYLIGHT
BEGIN:STANDARD
TZOFFSETFROM:+0200
TZOFFSETTO:+0100
TZNAME:CET
DTSTART:20261025T010000
END:STANDARD
BEGIN:DAYLIGHT
TZOFFSETFROM:+0100
TZOFFSETTO:+0200
TZNAME:CEST
DTSTART:20270328T010000
END:DAYLIGHT
BEGIN:STANDARD
TZOFFSETFROM:+0200
TZOFFSETTO:+0100
TZNAME:CET
DTSTART:20271031T010000
END:STANDARD
END:VTIMEZONE
BEGIN:VEVENT
DTSTART;TZID=Europe/Vienna:20260402T183000
DTEND;TZID=Europe/Vienna:20260402T210000
DTSTAMP:20260422T140049
CREATED:20260119T182759Z
LAST-MODIFIED:20260308T183306Z
UID:10001500-1775154600-1775163600@bpw.at
SUMMARY:Mediterraner Genussabend
DESCRIPTION:Mediterraner Genussabend: Olivenöl entdecken & griechisch genießen\nOlivenöl gilt nicht umsonst als „flüssiges Gold“. Doch woran erkennt man wirklich ein hochwertiges Olivenöl? \nBei unserem BPW-Abend bei Ilios – Grünes Gold in Ottensheim erhalten wir zunächst einen spannenden Einblick in die Welt der Olivenöle. Unsere Gastgeberin           Ute Kindlinger führt uns in die Besonderheiten dieses besonderen Lebensmittels ein und erklärt\, worauf es bei Qualität\, Geschmack und Herkunft wirklich ankommt. \nAnschließend erleben wir eine geführte Verkostung und lernen\, auf was bei der Beurteilung eines guten Olivenöls zu achten ist. \nDanach erwartet uns ein mediterraner Genussabend: Unsere Gastgeberin verwöhnt uns mit frisch zubereiteten griechischen Spezialitäten\, gekocht mit den hochwertigen Produkten aus ihrem Sortiment. Dazu werden Wein und Wasser serviert. \nEin Abend in besonderer Atmosphäre\, der Wissen\, Genuss und Austausch in einem kleinen Kreis verbindet. \nDatum: Gründonnerstag\, 2. April 2026Uhrzeit: 18:30 UhrOrt: Ilios – Grünes Gold\, Weingartenstraße 14\, 4100 Ottensheim \nDie Teilnehmerinnenzahl ist auf 15 Plätze begrenzt\, um eine persönliche und genussvolle Atmosphäre zu ermöglichen. \nDer Kostenbeitrag beträgt 35 € pro Person (auch für Clubmitglieder). \nDie verbindliche Anmeldung findest du unten.
URL:https://bpw.at/event/mediterranergenussabend/
LOCATION:Ilios – Grünes Gold\, Weingartenstraße 14\, 4100 Ottensheim
CATEGORIES:Eferding-Donautal
ATTACH;FMTTYPE=image/png:https://bpw.at/wp/wp-content/uploads/2026/01/66c08b9f-9e01-414d-b08b-58bee132cd24.png
END:VEVENT
BEGIN:VEVENT
DTSTART;TZID=Europe/Vienna:20260407T180000
DTEND;TZID=Europe/Vienna:20260407T220000
DTSTAMP:20260422T140049
CREATED:20260214T145201Z
LAST-MODIFIED:20260326T122441Z
UID:10001525-1775584800-1775599200@bpw.at
SUMMARY:BPW Salzkammergut: Frauen & Bier – das passt? Und wie!
DESCRIPTION:Frauen & Bier – das passt? Und wie!\n\n\n\n\nWas passiert\, wenn eine Wohnplanerin zur Brauereiführerin wird?\nEs wird alles\, nur sicher nicht langweilig.\nBeim nächsten Clubabend des BPW Club Salzkammergut erwartet dich eine Brauereiführung der besonderen Art: überraschend\, inspirierend und garantiert nicht alltäglich. \nDenn unsere Gastgeberin Eva Raffelsberger (BPW Club Linz-Wels) bringt zwei Welten zusammen\, die man so nicht erwartet. Im Alltag gestaltet sie als Wohnplanerin Räume zum Wohlfühlen. Und für uns öffnet sie die Tür zu einer ganz anderen Welt: der des Bieres. Mit Leidenschaft\, Witz und einem Blick fürs Detail. \nBeim anschließenden Talk zeigt sie ihre ganze Vielfalt als Business-Frau: Wohnplanerin\, Biersommelière\, Jägerin\, Mutter – ein Leben\, das neugierig macht und inspiriert. \nFreu dich auf neue Perspektiven und Einblicke und einen Abend\, der dir zeigt: Bier kann mehr. Und Frauen sowieso. \n  \n  \nNeugierig geworden?\nDann sei dabei\, und melde dich noch heute für die Veranstaltung an! \n\nDienstag\, 07. April 2026 in der Privatbrauerei Eggenberg\n18:00: Start der Führung\n19:00: Ausklang im Schloss Eggenberg mit gefüllten Weckerl und Getränken\n\nPreis pro Person: 25\,50€\n\nTeilnahmegebühr für Interessentinnen: +20€ \n\n\n\nMelde dich in unserer WhatsApp Gruppe BPW Salzkammergut zu dieser Veranstaltung an und leite die Einladung gerne an Interessentinnen weiter!\nJetzt als Interessentin anmelden\nWir freuen uns auf einen kulinarischen und geselligen Abend! \nEure Vorstandsdamen des BPW-Club Salzkammergut \n \n*Es wird keine Haftung übernommen. Während und nach der Veranstaltung werden Fotos gemacht. Diese werden auf unserer Homepage www.bpw.at/salzkammergut veröffentlicht und sind als Nachlese und Erinnerung gedacht. Mit der Teilnahme erklärt Ihr Euch damit einverstanden.
URL:https://bpw.at/event/bpw-salzkammergut-brauerei-erlebnistour/
LOCATION:Brauerei Eggenberg
CATEGORIES:Salzkammergut
ATTACH;FMTTYPE=image/jpeg:https://bpw.at/wp/wp-content/uploads/2022/01/BPW_Salzkammergut_VA_Header_Sommer_Clubabend.jpg
END:VEVENT
BEGIN:VEVENT
DTSTART;TZID=Europe/Vienna:20260408T163000
DTEND;TZID=Europe/Vienna:20260408T210000
DTSTAMP:20260422T140049
CREATED:20260225T165116Z
LAST-MODIFIED:20260407T171705Z
UID:10001532-1775665800-1775682000@bpw.at
SUMMARY:BPW Wien & Umgebung im Fokus - Frauen & Gesundheit
DESCRIPTION:Willst Du deine Gesundheit dem Zufall überlassen?\nBPW Wien & Umgebung lädt deshalb zu einem inspirierenden Event unter dem Motto\n„Frauen & Gesundheit – wie kann ich meine Gesundheit selbst in die Hand nehmen?“ ein. \nIm Mittelpunkt steht die Frage\, wie Frauen ihr Wohlbefinden bewusst gestalten können. Das Event bietet Impulse\, Austausch und praxisnahe Ansätze rund um Prävention\, Körperbewusstsein und Eigenverantwortung. Ziel ist es\, Frauen zu stärken\, ihr Wohlbefinden aktiv mitzugestalten\, informierte Entscheidungen zu treffen und ihre Gesundheit als zentrale Ressource für ein erfülltes Leben zu verstehen. \nEin Abend für mehr Wissen\, mehr Bewusstsein und mehr Selbstbestimmung in Gesundheitsfragen. \n*** \nDatum: Mittwoch\, 08. April 2026 \n Location: L´office\, Schottenfeldgasse 85\, 1070 Wien \nZeit: Registrierung 16:30  I  Kick off 17:00 \n*** \nProgramm\nOperation gelungen und trotzdem Schmerzen? – Michaela Liedler\nVerstehe\, wie Narben\, Gewebe und Nervensystem zusammenwirken – und wie Entlastung wieder möglich wird. \nAtmung als Schlüssel: Vom Funktionieren zurück zur Lebendigkeit – Nora Roos\nWie das Zusammenspiel vom autonomen Nervensystem\, Trauma und Emotionen unsere innere Stabilität beeinflusst und wie bewusste Atmung Resilienz stärkt und Energie wieder ins Fließen bringt. \nZyklus & Wechseljahre als Kraftquelle nutzen – Kathrin Hirczy\nNutze deinen Rhythmus gezielt für mehr Energie\, Balance und Wohlbefinden im Alltag. \nNetworking\nAustausch in inspirierender Atmosphäre begleitet von Essen und Getränken \n*** \nTeilnahme für nicht Mitglieder beträgt im Vorverkauf EUR 28\,- bis 26.03.2026 und anschließend EUR 35\,- und beinhaltet ein großartiges Programm wie angeführt inklusive Speis und Trank\, ein großartiges Netzwerk und tolle Goodies.  \nAlle BPW Mitglieder sind kostenfrei eingeladen\, teilzunehmen.  \nFür Studenten bitten wir um direkte Kontaktaufnahme.  \nHast du Interesse zum BPW Club Wien und Umgebung oder benötigst Hilfe bei der Registrierung zum Event\, kontaktiere uns direkt HIER. \nWir freuen uns auf Dich\,  \nDeine Kathrin\, Julia\, Patrycja & Nora
URL:https://bpw.at/event/bpw-wien-umgebung-im-fokus-frauen-gesundheit/
LOCATION:Loffice\, Schottenfeldgasse 85\, Wien\, 1070\, Austria
CATEGORIES:Wien
ATTACH;FMTTYPE=image/png:https://bpw.at/wp/wp-content/uploads/2026/02/BPW-Frauen-Finanzen-Banner-e1774352504333.png
END:VEVENT
BEGIN:VEVENT
DTSTART;TZID=Europe/Vienna:20260408T180000
DTEND;TZID=Europe/Vienna:20260408T230000
DTSTAMP:20260422T140049
CREATED:20251103T193245Z
LAST-MODIFIED:20251103T193245Z
UID:10001447-1775671200-1775689200@bpw.at
SUMMARY:BPW Spittal - Offener Clubabend: Vortrag von Caroline Lotter
DESCRIPTION:Thema:\nDie Marke Ich. Und das Wir dahinter.\nSichtbarkeit durch Storytelling
URL:https://bpw.at/event/bpw-spittal-offener-clubabend-vortrag-von-caroline-lotter/
LOCATION:Restaurant Zellot\, Hauptplatz 13\, Spittal an der Drau\, Kärnten\, 9800\, Österreich
END:VEVENT
END:VCALENDAR