BEGIN:VCALENDAR
VERSION:2.0
PRODID:-//Business and Professional Women Austria - ECPv6.15.20//NONSGML v1.0//EN
CALSCALE:GREGORIAN
METHOD:PUBLISH
X-WR-CALNAME:Business and Professional Women Austria
X-ORIGINAL-URL:https://bpw.at
X-WR-CALDESC:Veranstaltungen für Business and Professional Women Austria
REFRESH-INTERVAL;VALUE=DURATION:PT1H
X-Robots-Tag:noindex
X-PUBLISHED-TTL:PT1H
BEGIN:VTIMEZONE
TZID:Europe/Vienna
BEGIN:DAYLIGHT
TZOFFSETFROM:+0100
TZOFFSETTO:+0200
TZNAME:CEST
DTSTART:20250330T010000
END:DAYLIGHT
BEGIN:STANDARD
TZOFFSETFROM:+0200
TZOFFSETTO:+0100
TZNAME:CET
DTSTART:20251026T010000
END:STANDARD
BEGIN:DAYLIGHT
TZOFFSETFROM:+0100
TZOFFSETTO:+0200
TZNAME:CEST
DTSTART:20260329T010000
END:DAYLIGHT
BEGIN:STANDARD
TZOFFSETFROM:+0200
TZOFFSETTO:+0100
TZNAME:CET
DTSTART:20261025T010000
END:STANDARD
BEGIN:DAYLIGHT
TZOFFSETFROM:+0100
TZOFFSETTO:+0200
TZNAME:CEST
DTSTART:20270328T010000
END:DAYLIGHT
BEGIN:STANDARD
TZOFFSETFROM:+0200
TZOFFSETTO:+0100
TZNAME:CET
DTSTART:20271031T010000
END:STANDARD
END:VTIMEZONE
BEGIN:VEVENT
DTSTART;TZID=Europe/Vienna:20260520T183000
DTEND;TZID=Europe/Vienna:20260520T183000
DTSTAMP:20260420T161711
CREATED:20260113T134653Z
LAST-MODIFIED:20260323T061608Z
UID:10001494-1779301800-1779301800@bpw.at
SUMMARY:BPW zu Gast im Lochauer Atelier der Künstlerin Ulli Knall
DESCRIPTION:Kunst hautnah erleben\nAm 20. Mai gehen wir auf Du und Du mit zeitgenössischer Kunst und sind zu Gast im Lochauer Atelier der Vorarlberger Künstlerin Ulli Knall. \nWobei das Ländle in ihrer Biografie ein paar Anmerkungen braucht. Eigentlich ist die Keramik-Künstlerin in München geboren\, aufgewachsen ist sie allerdings in Vorarlberg. Studiert hat sie in Wien an der Uni für angewandte Kunst\, aber auch in London\, wo sie zum Master of Fine Arts ausgebildet wurde. \nIhre Kunst schenkt dem Betrachter einen poetischen Blick auf die Welt mit Anleihen aus Science-Fiction und Fantasy. Neben den Keramikskulpturen hat sich Knall auch einen Namen mit Installationen und Performance-Art gemacht. Die kulturellen Themen ihrer Arbeit reflektieren kritisch unsere Gesellschaft und regen zum Hinterfragen an. Viele Ausstellungen im In- und Ausland\, aber auch Kurse\, die sie in ihrem Atelier gibt\, bieten Einblicke in das Leben einer Künstlerin. \nDie Details: \nWann: Mittwoch\, 20.Mai 2026\nTreffpunkt: 18:30 Uhr im Atelier\nWo: Atelier Ulli Knall\, Hofriedenstraße 26\, 6911 Lochau \nBild: Ulli Knall
URL:https://bpw.at/event/clubabend-vbg-mai-26/
LOCATION:Atelier Ulli Knall\, Hofriedenstraße 26\, Lochau\, 6911
CATEGORIES:Vorarlberg
ATTACH;FMTTYPE=image/png:https://bpw.at/wp/wp-content/uploads/2026/01/ulli-knall.png
ORGANIZER;CN="BPW Club Vorarlberg":MAILTO:vorarlberg@bpw.at
END:VEVENT
BEGIN:VEVENT
DTSTART;TZID=Europe/Vienna:20260520T183000
DTEND;TZID=Europe/Vienna:20260520T220000
DTSTAMP:20260420T161711
CREATED:20260324T102607Z
LAST-MODIFIED:20260324T102806Z
UID:10001537-1779301800-1779314400@bpw.at
SUMMARY:BPW Tirol - Frauen in der Kunst
DESCRIPTION:Wir stellen Frauen und ihre Kunst in den Mittelpunkt dieses BPW Clubabends. Sei dabei und diskutiere mit. \nWir treffen uns im Seminarraum im 1. Stock. \n  \nFoto: Eva Frank
URL:https://bpw.at/event/bpw-tirol-frauen-in-der-kunst/
LOCATION:AC Hotel Marriott\, Salurner Straße 15\, Innsbruck\, Tirol\, 6020\, Austria
CATEGORIES:Tirol
ATTACH;FMTTYPE=image/jpeg:https://bpw.at/wp/wp-content/uploads/2026/03/2026-05-20-Frauen-in-der-Kunst.jpg
END:VEVENT
BEGIN:VEVENT
DTSTART;TZID=Europe/Vienna:20260527T170000
DTEND;TZID=Europe/Vienna:20260527T210000
DTSTAMP:20260420T161711
CREATED:20260131T051154Z
LAST-MODIFIED:20260131T152326Z
UID:10001515-1779901200-1779915600@bpw.at
SUMMARY:BPW Steyr After-Work-Drink im Mai - save-the-date
DESCRIPTION:BPW Steyr lädt zum After-Work-Drink: Netzwerken\, Austausch gemeinsamer Themen \nUnsere Brunch-Termine haben sich 2025 wunderbar etabliert. Wir möchten dieses Jahr mit weiteren Formaten durchstarten und unsere Samstags-Brunches um After-Work-Drinks ergänzen. Details für den ersten After-Work-Drink um Mai: coming soon! \n  \nAuf jeden Fall werden wir: uns austauschen\, gemeinsam lachen und einen gemütlichen Abend verbringen – und dabei auch unsere Erfahrungen als Frauen im Berufsalltag diskutieren. \n  \nWir freuen uns\, dich willkommen zu heißen und freuen uns auf dein save-the-date! \n  \n 
URL:https://bpw.at/event/bpw-steyr-after-work-drink-im-mai-save-the-date/
LOCATION:Steyr
CATEGORIES:Linz-Wels
ATTACH;FMTTYPE=image/png:https://bpw.at/wp/wp-content/uploads/2026/01/BPW-2026-11-Web-After-Work.png
END:VEVENT
BEGIN:VEVENT
DTSTART;TZID=Europe/Vienna:20260602T180000
DTEND;TZID=Europe/Vienna:20260602T220000
DTSTAMP:20260420T161711
CREATED:20260414T112738Z
LAST-MODIFIED:20260414T112738Z
UID:10001547-1780423200-1780437600@bpw.at
SUMMARY:IMMER VERBUNDEN. UND TROTZDEM OFT ALLEIN.
DESCRIPTION:IMMER VERBUNDEN. UND TROTZDEM OFT ALLEIN.\nWie wir in einer digitalen Welt wieder echte Nähe leben.\n\n\n\n\nClubabend von BPW Salzkammergut\nam Dienstag\, den 02. Juni 2026 im Hotel Apollo Mondsee\n18:00:  Get together | Abendessen\n19:30 Uhr: Check-in | Vortrag von Mag. Judith Guserl\n\n\n\nUnsere Kinder wachsen in einer Welt auf\, in der Likes zur Währung werden und Benachrichtigungen niemals enden. Und wir mittendrin – als Frauen\, Mütter\, Gestalterinnen.\nZwischen Effizienz\, Beschleunigung und digitaler Dauerpräsenz geht oft verloren\, was uns eigentlich trägt: echte Verbindung.\nWie schaffen wir es\, in diesem Alltag Nähe\, Klarheit und Beziehung wieder bewusst zu leben?\nDieser Abend ist eine Einladung\, innezuhalten.\nZum Austausch mit Frauen\, die ähnliche Fragen bewegen.\nUnd zum Entdecken von Impulsen\, die sich wirklich im Alltag umsetzen lassen.\nOhne erhobenen Zeigefinger.\nDafür mit viel Herz\, ehrlichen Gesprächen und einem Raum\, in dem Verbindung wieder spürbar wird.\n\n\n  \n\n\n\n \nMag. Judith Guserl\nJudith Guserl ist Gründerin von Kopfgarten – dein Glückscampus\, Positive Psychologie- und Glückstrainerin sowie Potentialentfacherin\, Traumapädagogin und Sozialberaterin. \n\n\n\n\n\n\n\n\n\n\n\n\n\n\n\nMelde dich in unserer WhatsApp Gruppe BPW Salzkammergut zu dieser Veranstaltung an und leite die Einladung gerne an Interessentinnen weiter!\nDie Teilnahmegebühr für Interessentinnen beträgt 20€. \nJetzt als Interessentin anmelden\nWir freuen uns auf einen besonderen Abend! \nEure Vorstandsdamen des BPW-Club Salzkammergut \n \n*Es wird keine Haftung übernommen. Während und nach der Veranstaltung werden Fotos gemacht. Diese werden auf unserer Homepage www.bpw.at/salzkammergut veröffentlicht und sind als Nachlese und Erinnerung gedacht. Mit der Teilnahme erklärt Ihr Euch damit einverstanden.
URL:https://bpw.at/event/immer-verbunden-und-trotzdem-oft-allein/
LOCATION:Apollo Mondsee\, Robert Baum-Promenade 1\, Mondsee\, OÖ\, 5310\, Austria
CATEGORIES:Salzkammergut
ATTACH;FMTTYPE=image/jpeg:https://bpw.at/wp/wp-content/uploads/2022/01/BPW_Salzkammergut_VA_Header_Sommer_Clubabend.jpg
END:VEVENT
BEGIN:VEVENT
DTSTART;TZID=Europe/Vienna:20260610T180000
DTEND;TZID=Europe/Vienna:20260610T230000
DTSTAMP:20260420T161711
CREATED:20251103T193749Z
LAST-MODIFIED:20251103T193749Z
UID:10001449-1781114400-1781132400@bpw.at
SUMMARY:BPW Spittal: Generalversammlung
DESCRIPTION:Wir blicken auf das vergangene Clubjahr zurück und schauen gespannt in das kommende…
URL:https://bpw.at/event/bpw-spittal-generalversammlung/
LOCATION:Restaurant Zellot\, Hauptplatz 13\, Spittal an der Drau\, Kärnten\, 9800\, Österreich
END:VEVENT
BEGIN:VEVENT
DTSTART;TZID=Europe/Vienna:20260611T180000
DTEND;TZID=Europe/Vienna:20260611T203000
DTSTAMP:20260420T161711
CREATED:20260119T183847Z
LAST-MODIFIED:20260119T183847Z
UID:10001502-1781200800-1781209800@bpw.at
SUMMARY:Walk & Talk zur Ruine Stauff
DESCRIPTION:nähere Infos folgen
URL:https://bpw.at/event/walk-talk-zur-ruine-stauff/
LOCATION:Salzburg
CATEGORIES:Eferding-Donautal
ATTACH;FMTTYPE=image/jpeg:https://bpw.at/wp/wp-content/uploads/2026/01/Beitragsbild-BPW-Eferding-Donautal.jpg
END:VEVENT
BEGIN:VEVENT
DTSTART;TZID=Europe/Vienna:20260611T190000
DTEND;TZID=Europe/Vienna:20260611T220000
DTSTAMP:20260420T161711
CREATED:20260202T074553Z
LAST-MODIFIED:20260207T052227Z
UID:10001521-1781204400-1781215200@bpw.at
SUMMARY:BPW Linz-Wels: deep-dive: "Feminisums & Gen Z" - save-the-date
DESCRIPTION:Details für den Clubabend im Juni: coming soon! \n  \nWir freuen uns auf dich – save-the-date! \n  \nOrt: Bildungshaus Schloss Puchberg \n  \nDu kannst dich ab sofort zur Veranstaltung anmelden – die (verbindliche) Anmeldung findest du unten! \nDer Eintritt für Clubmitglieder ist im Clubbeitrag inkludiert. Für Interessent:innen gilt: Zahle\, was es dir Wert ist! \n  \nDiese Veranstaltung richtet sich speziell an junge Frauen\, an BPW-Mitglieder und alle Interessierte am Thema und/oder an BPW Sie ist Teil des Projekts “BPW Young Professionals” und wird mit freundlicher Unterstützung des Frauenreferates des Landes OÖ durchgeführt. \n \nBildquellen: bpw linz-wels\, bpw Austria\, Canva-AI\, Land OÖ
URL:https://bpw.at/event/bpw-linz-wels-dialog-feminisums-und-jugend-save-the-date/
LOCATION:Schloss Puchberg\, Puchberg 1\, Wels\, 4600\, Austria
CATEGORIES:Linz-Wels,Young BPW
ATTACH;FMTTYPE=image/png:https://bpw.at/wp/wp-content/uploads/2026/02/Titelbild-deepdive-HP-Clubabend-Juni_26-save-the-date.png
ORGANIZER;CN="BPW Club Linz-Wels":MAILTO:wels@bpw.at
END:VEVENT
BEGIN:VEVENT
DTSTART;TZID=Europe/Vienna:20260612T083000
DTEND;TZID=Europe/Vienna:20260612T130000
DTSTAMP:20260420T161711
CREATED:20260408T111806Z
LAST-MODIFIED:20260409T153708Z
UID:10001544-1781253000-1781269200@bpw.at
SUMMARY:BPW Wien & Umgebung "Liften wos geht"
DESCRIPTION:Komm mit deinem Business-Problem. Geh mit Lösungen.\nSelbstständigkeit bedeutet\, viele Entscheidungen alleine zu treffen. Genau dort entstehen oft die Fragen\, bei denen man feststeckt. \n„Liften wos geht“ setzt genau hier an. \nDu bringst deine aktuelle Business-Herausforderung mit\nund arbeitest gemeinsam mit Expertinnen und anderen Unternehmerinnen daran. \nIn kurzen\, fokussierten Sessions entstehen neue Perspektiven\, konkrete Lösungsansätze und nächste Schritte\, die du direkt umsetzen kannst. \nEin Format für alle\, die nicht nur reden wollen\,\nsondern wirklich weiterkommen möchten. \n*** \nDatum: Freitag\, 12 Juni 2026 \n Location: Wien \nZeit: Registrierung 08:30 I  Kick off 09:00 I Ende ca 13:00 \n*** \nProgramm\nElevator Pitches: Deine aktuelle Business-Frage auf den Punkt bringen \nMehrere kurze Sessions mit Expertinnen & Unternehmerinnen \nDirektes Feedback\, neue Perspektiven & konkrete Lösungsansätze \nGemeinsames Lunchen & Networken \n*** \nTeilnahme für nicht Mitglieder beträgt im Vorverkauf EUR 20\,- bis 15.05.2026 und anschließend EUR 35\,- und beinhaltet ein großartiges Programm wie angeführt inklusive Speis und Trank\, ein großartiges Netzwerk und tolle Goodies. \nFür BPW Mitglieder ist die Teilnahme kostenfrei. \n*** \nHast du Interesse zum BPW Club Wien und Umgebung oder benötigst Hilfe bei der Registrierung zum Event\, kontaktiere uns direkt HIER. \nWir freuen uns auf Dich\,  \nDeine Kathrin\, Julia\, Patrycja & Nora
URL:https://bpw.at/event/bpw-wien-umgebung-liften-wos-geht/
LOCATION:Wien
CATEGORIES:Wien
ATTACH;FMTTYPE=image/png:https://bpw.at/wp/wp-content/uploads/2026/04/BPW_Website-Banner_Liften-wos-geht-Geschaeftsdiskussion.png
END:VEVENT
BEGIN:VEVENT
DTSTART;TZID=Europe/Vienna:20260620T090000
DTEND;TZID=Europe/Vienna:20260620T120000
DTSTAMP:20260420T161711
CREATED:20260124T193359Z
LAST-MODIFIED:20260131T152252Z
UID:10001510-1781946000-1781956800@bpw.at
SUMMARY:BPW Steyr Brunch im Juni - save-the-date
DESCRIPTION:BPW Steyr lädt zum Brunch: Netzwerken\, Austausch gemeinsamer Themen \nUnsere Brunch-Termine haben sich 2025 wunderbar etabliert – und wir möchten sie auch 2026 weiterführen! In der Region Steyr gibt es viele berufstätige Frauen\, und gemeinsam können wir ein starkes Netzwerk aufbauen. \n  \nDieses Jahr möchten wir jedes Treffen unter ein bestimmtes Motto stellen\, das uns Frauen bewegt. Details für den Juni: coming soon! \n  \nBei unserem Brunch möchten wir uns austauschen\, gemeinsam lachen und einen gemütlichen Vormittag verbringen – und dabei auch unsere Erfahrungen als Frauen im Berufsalltag diskutieren. \n  \nWir freuen uns\, dich willkommen zu heißen und freuen uns auf dein save-the-date! \n  \n 
URL:https://bpw.at/event/bpw-steyr-brunch-im-juni-save-the-date/
LOCATION:Steyr
CATEGORIES:Linz-Wels
ATTACH;FMTTYPE=image/png:https://bpw.at/wp/wp-content/uploads/2026/01/BPW-2026-10-Web-Brunch.png
END:VEVENT
END:VCALENDAR