BEGIN:VCALENDAR
VERSION:2.0
PRODID:-//Business and Professional Women Austria - ECPv6.15.20//NONSGML v1.0//EN
CALSCALE:GREGORIAN
METHOD:PUBLISH
X-ORIGINAL-URL:https://bpw.at
X-WR-CALDESC:Veranstaltungen für Business and Professional Women Austria
REFRESH-INTERVAL;VALUE=DURATION:PT1H
X-Robots-Tag:noindex
X-PUBLISHED-TTL:PT1H
BEGIN:VTIMEZONE
TZID:Europe/Vienna
BEGIN:DAYLIGHT
TZOFFSETFROM:+0100
TZOFFSETTO:+0200
TZNAME:CEST
DTSTART:20220327T010000
END:DAYLIGHT
BEGIN:STANDARD
TZOFFSETFROM:+0200
TZOFFSETTO:+0100
TZNAME:CET
DTSTART:20221030T010000
END:STANDARD
BEGIN:DAYLIGHT
TZOFFSETFROM:+0100
TZOFFSETTO:+0200
TZNAME:CEST
DTSTART:20230326T010000
END:DAYLIGHT
BEGIN:STANDARD
TZOFFSETFROM:+0200
TZOFFSETTO:+0100
TZNAME:CET
DTSTART:20231029T010000
END:STANDARD
BEGIN:DAYLIGHT
TZOFFSETFROM:+0100
TZOFFSETTO:+0200
TZNAME:CEST
DTSTART:20240331T010000
END:DAYLIGHT
BEGIN:STANDARD
TZOFFSETFROM:+0200
TZOFFSETTO:+0100
TZNAME:CET
DTSTART:20241027T010000
END:STANDARD
BEGIN:DAYLIGHT
TZOFFSETFROM:+0100
TZOFFSETTO:+0200
TZNAME:CEST
DTSTART:20250330T010000
END:DAYLIGHT
BEGIN:STANDARD
TZOFFSETFROM:+0200
TZOFFSETTO:+0100
TZNAME:CET
DTSTART:20251026T010000
END:STANDARD
END:VTIMEZONE
BEGIN:VEVENT
DTSTART;TZID=Europe/Vienna:20240704T183000
DTEND;TZID=Europe/Vienna:20240704T210000
DTSTAMP:20260422T023508
CREATED:20240513T170949Z
LAST-MODIFIED:20240703T135408Z
UID:10001263-1720117800-1720126800@bpw.at
SUMMARY:Charisma- und was es mit einem gelingendem Leben zu tun hat
DESCRIPTION:Charisma\nund was es mit einem gelingendem Leben zu tun hat\nSei dabei\, wenn wir einen exklusiven Clubabend mit der bekannten Mag. Martina Gleissenebner-Teskey erleben! Martina\, aus der vorletzten Staffel von “Germany’s Next Topmodel”\, ist nicht nur ein erfolgreiches Model\, sondern auch ein gefragter Coach für persönliche Wirksamkeit und Charisma-Trainerin. Mit ihrem fundierten Wissen und ihrer Erfahrung wird sie am 4. Juli über ihr Buch “CHARISMA” sprechen. Erlebe einen inspirierenden Abend voller Erkenntnisse und Austausch! \n\nAm Foto Martina Gleissenebner-Teskey mit Ingrid Gumpelmaier-Grandl von FAIRytale Fashion \nFotocredits: Mag. Martina Gleissenebner-Teskey \n\n\n  \nWann & Wo\nDonnerstag\, 04.07.2024 ab 18:30 Uhr \nim Atelier FAIRytale in der Schlossergasse 7\, Eferding \n\n\n  \n\n\nAblauf: \n18:30 Uhr Get Togehter \n19:00 Uhr Beginn des Clubabends mit Martina Gleißenebner-Teskey \nanschließend lassen wir den Abend in Brummeier’s Kepler Stuben ausklingen \n  \nAufgrund begrenzter Plätze ist die Teilnehmerzahl auf 20 Personen beschränkt. \n\n\nWährend und nach der Veranstaltung werden Fotos aufgenommen und auf unserer Homepage www.bpw.at/eferding sowie in unseren sozialen Netzwerken veröffentlicht. Durch die Teilnahme am Clubabend erklären Sie sich mit der Verwendung der Bilder einverstanden.
URL:https://bpw.at/event/clubabend-mit-martina-gleissenebner-teskey/
LOCATION:Fairytale Atelier Ingrid Gumpelmaier-Grandl\, Schlossergasse 7\, Eferding
CATEGORIES:Eferding-Donautal
END:VEVENT
BEGIN:VEVENT
DTSTART;TZID=Europe/Vienna:20240605T180000
DTEND;TZID=Europe/Vienna:20240605T210000
DTSTAMP:20260422T023508
CREATED:20231127T233757Z
LAST-MODIFIED:20240605T043054Z
UID:10001175-1717610400-1717621200@bpw.at
SUMMARY:Weiblichkeit - mal anders
DESCRIPTION:Weiblichkeit – mal anders\nErwecke deine innere Königin\n  \nDieser Abend lädt euch ein mit  Mag. Judith Merkinger-Offenhuber\,  in das Thema Weiblichkeit einzutauchen.\nWir beleuchten deine weiblichen Seiten aus verschiedenen Perspektiven und finden heraus wie sich dir deine verschiedenen weiblichen Facetten zeigen. \nWelche Facetten geben dir Kraft\, um deinen Alltag nach deinen Vorstellungen zu gestalten?\nWelche nehmen dir eher deine Power? \nLass dich überraschen\, wie vielfältig du Weiblichkeit lebst und begegne an diesem Abend über die Welt der inneren Bilder deinem pursten FRAU-sein\, deiner „inneren Königin“. \n  \n \n  \n  \n  \n  \nReferentin: Mag. Judith Merkinger-Offenhuber\nKlinische Psychologin\, Gesundheitspsychologin und Psychotherapeutin (systemische Familientherapie)\nwww.therapie-merkinger.at \n  \nAblauf: \n\n\n18 Uhr Get Togehter \n18:30 Uhr beginnt der Clubabend mit Mag. Judith Merkinger-Offenhuber \n  \nWann: Mittwoch\, 05.06.2024 \n  \nWo: \n\n\nMei Greisslerei\nStadtplatz 9\,\n4070 Eferding \n  \nWährend und nach der Veranstaltung werden Fotos aufgenommen und auf unserer Homepage www.bpw.at/eferding sowie in unseren sozialen Netzwerken veröffentlicht. Durch die Teilnahme am Clubabend erklären Sie sich mit der Verwendung der Bilder einverstanden. \n 
URL:https://bpw.at/event/bpw-eferding-donautal-juni-2024/
LOCATION:Mei Greisslerei\, Stadtplatz 9\, 4070 Eferding\, Österreich
CATEGORIES:Eferding-Donautal
ATTACH;FMTTYPE=image/jpeg:https://bpw.at/wp/wp-content/uploads/2023/11/konstantin-dyadyun-46ggVaAWjok-unsplash.jpg
END:VEVENT
BEGIN:VEVENT
DTSTART;TZID=Europe/Vienna:20240502T180000
DTEND;TZID=Europe/Vienna:20240502T210000
DTSTAMP:20260422T023508
CREATED:20231127T233701Z
LAST-MODIFIED:20240408T123522Z
UID:10001174-1714672800-1714683600@bpw.at
SUMMARY:Handwerkskunst hautnah in der Gerberei Artner
DESCRIPTION:Betriebsbesichtigung der Gerberei Artner\n  \nWir laden dich herzlich ein\, einen Blick hinter die Kulissen einer der ältesten Gerbereien Österreichs zu werfen! \nDie Gerberei Artner wird heute von Rudolf und Ulrike Artner geführt. Gemeinsam bewahren sie die Tradition dieses seltenen Handwerks und legen großen Wert auf Handarbeit\, die einen maßgeblichen Einfluss auf die Qualität der Produkte hat. \nNach unserem Besuch in der Gerberei\, laden wir dich ein\, den Abend in der gemütlichen Atmosphäre des neuen griechischen Restaurants Olympia ausklingen zu lassen. \n  \n\n\nAblauf: \n18 Uhr Get Togehter \n18:30 Besichtigung der Gerberei Artner \nanschließend lassen wir den Abend im Olypia ausklingen \n  \nWann:\nDonnerstag\, 02.05.2024 ab 18 Uhr \n  \nWo: \n\n\nGerberei Artner\nPassauer Str. 10\n4070 Eferding \n  \nWährend und nach der Veranstaltung werden Fotos aufgenommen und auf unserer Homepage www.bpw.at/eferding sowie in unseren sozialen Netzwerken veröffentlicht. Durch die Teilnahme am Clubabend erklären Sie sich mit der Verwendung der Bilder einverstanden.
URL:https://bpw.at/event/bpw-eferding-donautal-mai-2024/
LOCATION:Gerberei Artner\, Passauer Straße 10\, Eferding\, Oberösterreich\, 4070\, Österreich
CATEGORIES:Eferding-Donautal
ATTACH;FMTTYPE=image/jpeg:https://bpw.at/wp/wp-content/uploads/2023/11/WhatsApp-Bild-2024-04-07-um-18.59.42_e11387da.jpg
END:VEVENT
BEGIN:VEVENT
DTSTART;TZID=Europe/Vienna:20240404T180000
DTEND;TZID=Europe/Vienna:20240404T210000
DTSTAMP:20260422T023508
CREATED:20231127T233530Z
LAST-MODIFIED:20240326T183206Z
UID:10001173-1712253600-1712264400@bpw.at
SUMMARY:Frauenpower im Fokus
DESCRIPTION:Ein Abend mit Susanne Steckerl von she:works GmbH\n  \nWir laden herzlich zum nächsten Clubabend am 4. April um 18 Uhr ein. \n  \nUnser besonderer Gast ist Susanne Steckerl\, Geschäftsführerin der she:works GmbH\, sie setzt sich für die Förderung von Frauen in der Arbeitswelt einsetzt. \nDurch Workshops\, gezielte Bildungspläne\, Mentoring und Networking-Events bietet she:works eine Plattform\, auf der Frauen ihre Fähigkeiten erweitern\, Selbstvertrauen aufbauen und wieder gestärkt in ihre Arbeitswelt ankommen. In einer Welt\, die sich ständig wandelt\, steht she:works für Chancengleichheit\, Empowerment und die Überzeugung\, dass jeder seinen einzigartigen Weg zum Erfolg finden kann. \n  \nErfahre mehr über ihre Arbeit und Visionen für die Zukunft und lasst uns gemeinsam die Möglichkeiten zur Chancengleichheit erkunden. \n  \nDONNERSTAG\, 4.4.2024 um 18 Uhr  \nim Freund’s Lokal in Eferding \n  \n  \nWährend und nach der Veranstaltung werden Fotos aufgenommen und auf unserer Homepage www.bpw.at/eferding sowie in unseren sozialen Netzwerken veröffentlicht. Durch die Teilnahme am Clubabend erklären Sie sich mit der Verwendung der Bilder einverstanden.
URL:https://bpw.at/event/bpw-eferding-donautal-april-2024/
LOCATION:Freund’s Lokal\, Eferding
CATEGORIES:Eferding-Donautal
ATTACH;FMTTYPE=image/jpeg:https://bpw.at/wp/wp-content/uploads/2023/11/susanne_pic2.jpg
END:VEVENT
BEGIN:VEVENT
DTSTART;TZID=Europe/Vienna:20240321T190000
DTEND;TZID=Europe/Vienna:20240321T203000
DTSTAMP:20260422T023508
CREATED:20240207T080657Z
LAST-MODIFIED:20240319T184255Z
UID:10001212-1711047600-1711053000@bpw.at
SUMMARY:Empowerment NOW! Online: Raus aus der Teilzeit-Falle
DESCRIPTION:Wie Karriere mit Jobsharing gelingen kann\nEntdecken Sie mit Job-Sharing eine innovative Lösung für die Herausforderungen der modernen Arbeitswelt. Diese revolutionäre Teilzeitoption ermöglicht es\, die steigende Nachfrage nach Flexibilität zu erfüllen\, ohne Kompromisse bei der Besetzung von Vollzeitpositionen einzugehen. Eine Win-Win-Situation für Arbeitgeber*innen und Arbeitnehmer*innen. \nLernen Sie das Unternehmen Jobtwins kennen und erfahren Sie aus erster Hand\, wie FACC Jobsharing im Management erfolgreich lebt. \nUnsere Expertinnen Katharina Miller\, Jobtwins Avatar GmbH\, Maria Schwendinger\, FACC Operations GmbH\, Heike Stein\, FACC Operations GmbH\, werden diese Themen ansprechen: \n\nJob-Sharing – ein Job für zwei Fachkräfte\nJobtwins: Die Jobsharing-Plattform für Karriere in Teilzeit\nMit neuen Teilzeitmodellen die besten Talente sichern\nGeteilte Führungsverantwortung am Beispiel von FACC\n\nNUTZEN FÜR DIE TEILNEHMER*INNEN\n\nNeue Wege für Karriere und Privatleben in Teilzeit entdecken\nWas sind die Geheimnisse von Job-Sharing und effektiver Führung?\nWo finde ich hochkarätige Führungspositionen in Teilzeit?\nLerne\, wie sich Karriere und Teilzeit vereinbaren lassen\n\nDu möchtest unsere Empowerment Zoom-Serie unterstützen? \nDein Beitrag ist herzlich willkommen. Verwende bitte den nachstehenden IBAN für deine Förderung. Oder scanne den QR-Code in deiner E-Banking-App\, dann musst du nur mehr den gewünschten Betrag ergänzen.\nIBAN AT10 3225 0000 0402 4444\nBPW-Austria Business and Professional Women\nVerwendungszweck: Unterstützung Empowerment Zoom\nWir danken dir für deine Unterstützung!
URL:https://bpw.at/event/empowerment-now-maerz-2024/
LOCATION:Online im Treffpunkt BPW auf Zoom
CATEGORIES:BPW Austria,Eferding-Donautal,Empowerment Online
ATTACH;FMTTYPE=image/jpeg:https://bpw.at/wp/wp-content/uploads/2024/02/2024-BPW-Eferding-Donautal.jpg
ORGANIZER;CN="BPW Austria":MAILTO:bpw.austria@bpw.at
END:VEVENT
BEGIN:VEVENT
DTSTART;TZID=Europe/Vienna:20240306T190000
DTEND;TZID=Europe/Vienna:20240306T213000
DTSTAMP:20260422T023508
CREATED:20231127T232611Z
LAST-MODIFIED:20240209T054913Z
UID:10001172-1709751600-1709760600@bpw.at
SUMMARY:Fasten für ein neues Lebensgefühl
DESCRIPTION:Fasten für ein neues Lebensgefühl\n  \nWir laden dich ein mit Elisabeth Rabeder\, Betriebsleiterin des Curhauses Bad Mühllacken und ärztlich geprüfte Fastenbegleiterin\, die heilende Wirkung einer maßgeschneiderten Ernährung gemäß den Prinzipien der Traditionellen Europäischen Medizin (TEM) zu entdecken. \nErfahre\, wie diese fünf Säulen Körper und Geist in Harmonie bringen. \n  \nNeben einem inspirierenden Impulsvortrag kannst du dich auf eine persönliche Führung durch das Curhaus Bad Mühllacken\, gefolgt von einem entspannten Austausch in gemütlicher Atmosphäre freuen. \n  \n\n\nReferentin: Elisabeth Rabeder \nBetriebsleiterin Curhaus Bad Mühllacken \nÄrztl. geprüfte Fastenbegleiterin und Autorin \n  \nWann:\nMittwoch\, 06.03.2024 um 18:30 Uhr \n  \nWo: \n\n\nCurhaus Bad Mühllacken\nBad Mühllacken 55\n4101 Feldkirchen an der Donau \n  \nWährend und nach der Veranstaltung werden Fotos aufgenommen und auf unserer Homepage www.bpw.at/eferding sowie in unseren sozialen Netzwerken veröffentlicht. Durch die Teilnahme am Clubabend erklären Sie sich mit der Verwendung der Bilder einverstanden.
URL:https://bpw.at/event/bpw-eferding-donautal-maerz-2024/
LOCATION:Curhaus Bad Mühllacken\, Bad Mühllacken 55\, Feldkirchen an der Donau
CATEGORIES:Eferding-Donautal
ATTACH;FMTTYPE=image/jpeg:https://bpw.at/wp/wp-content/uploads/2023/11/ElisabethRabeder-scaled.jpg
END:VEVENT
BEGIN:VEVENT
DTSTART;TZID=Europe/Vienna:20240208T183000
DTEND;TZID=Europe/Vienna:20240208T220000
DTSTAMP:20260422T023508
CREATED:20231127T232407Z
LAST-MODIFIED:20240126T120049Z
UID:10001171-1707417000-1707429600@bpw.at
SUMMARY:BPW Eferding-Donautal - Opernball-Warm-up & Krapfenzauber
DESCRIPTION:Opernball-Warm-up & Krapfenzauber\n  \nWir laden euch herzlich ein\, gemeinsam mit uns einen besonderen Abend zu verbringen! \nAm Tag des Opernballs möchten wir in gemütlicher Atmosphäre zusammenkommen und uns in der Konditorei Vogl in Eferding zu einer exquisiten Krapfenverkostung treffen. \nLasst uns gemeinsam in Gedanken den Opernball feiern und dabei köstliche Krapfen genießen. \nWir freuen uns darauf\, diesen besonderen Abend im charmanten Ambiente des Kaminzimmers mit euch zu verbringen. \n\n\n  \nWann:\nDonnerstag\, 08.02.2024\nab 18:30 Uhr  Ankommen und in die Loge einfinden\nab 19:00 Uhr Krapfenverkostung & netzwerken \n  \n\n\nWo:\nCafe Konditorei Vogl\nStadtplatz 27\n4070 Eferding \n  \nDresscode: ein Accessoire zum Opernball (z.B.: Schleife\, eleganter Kopfschmuck\, elegante Brosche\, ….) \n  \nWährend und nach der Veranstaltung werden Fotos aufgenommen und auf unserer Homepage www.bpw.at/eferding sowie in unseren sozialen Netzwerken veröffentlicht. Durch die Teilnahme am Clubabend erklären Sie sich mit der Verwendung der Bilder einverstanden.
URL:https://bpw.at/event/bpw-eferding-donautal-februar-2024/
LOCATION:Cafe Konditorei Vogl\, Stadtpl. 27\, Eferding\, 4070\, Österreich
CATEGORIES:Eferding-Donautal
ATTACH;FMTTYPE=image/jpeg:https://bpw.at/wp/wp-content/uploads/2023/11/rob-laughter-WW1jsInXgwM-unsplash-scaled.jpg
END:VEVENT
BEGIN:VEVENT
DTSTART;TZID=Europe/Vienna:20240117T183000
DTEND;TZID=Europe/Vienna:20240117T183000
DTSTAMP:20260422T023508
CREATED:20231127T231819Z
LAST-MODIFIED:20231229T085329Z
UID:10001170-1705516200-1705516200@bpw.at
SUMMARY:BPW Eferding-Donautal - BPW ... Was?
DESCRIPTION:BPW – Was ist das?  \nBPW steht für Business & Professional Women\, eines der bedeutendsten Frauennetzwerke der Welt. Bei BPW geht es um uns Frauen\, um Persönlichkeitsentwicklung\, um Vernetzung und um gesellschaftspolitische Themen\, wie Gleichstellung und Chancengleichheit. Wir stehen hinter dem Equal Pay Day\, der seit Jahren die Schieflage im Einkommen zwischen Frauen und Männern aufzeigt. \nWas hättest du davon\, eine BPW zu sein? Austausch mit Frauen\, gegenseitige Unterstützung\, Mentoring\, wenn du etwas weiterbringen willst oder immer offene Türen\, wenn du etwas für Frauen bewegen möchtest – sei es für dich\, deine Schwester\, Freundin\, Mutter oder Tochter. #frauenfürfrauen eben. \nMit Cornelia Pessenlehner\nPastpräsidentin BPW Austria
URL:https://bpw.at/event/bpw-eferding-donautal-jaenner-2024/
LOCATION:Brummeier Kepler-Stuben\, Stadtplatz 35\, Eferding
CATEGORIES:Eferding-Donautal
ATTACH;FMTTYPE=image/jpeg:https://bpw.at/wp/wp-content/uploads/2023/11/Pic_BPW_Was.jpg
END:VEVENT
BEGIN:VEVENT
DTSTART;TZID=Europe/Vienna:20231213T183000
DTEND;TZID=Europe/Vienna:20231213T183000
DTSTAMP:20260422T023508
CREATED:20231127T230256Z
LAST-MODIFIED:20231218T083621Z
UID:10001169-1702492200-1702492200@bpw.at
SUMMARY:BPW Eferding-Donautal Weihnachtsfeier
DESCRIPTION:Liebe Frauen\, \nwir laden euch herzlich zu unserem 1. Clubabend ein\, der gleichzeitig unsere Weihnachtsfeier ist. \nWir beginnen den Abend mit einem Punschempfang im Hof des Freund’s Lokal. \nIm Anschluss dürfen wir uns auf einen inspirierenden Impulsvortrag von Gerhard Peham mit dem Thema “Einfach dankbar leben – was Dankbarkeit mit uns macht“\, freuen. \nNach dem Input erwartet uns ein gemeinsames Essen und ein reger Austausch. \n13.12.2023 um 18:30 Uhr  \nim Freund’s Lokal  \nWir freuen uns auf einen schönen Abend mit euch! \nDer Vorstand des BPW Region Eferding-Donautal \nUrsula\, Martina\, Daniela\, Barbara\, Maria\, Heidelinde\, Sandra\, Gabi und Birgit \n  \nUnterstützt von:
URL:https://bpw.at/event/bpw-eferding-donautal-dezember-2023/
LOCATION:Freund’s Lokal\, Eferding
CATEGORIES:Eferding-Donautal
ATTACH;FMTTYPE=image/jpeg:https://bpw.at/wp/wp-content/uploads/2023/11/Eferding_Weihnachtsfeier.jpg
END:VEVENT
END:VCALENDAR