BEGIN:VCALENDAR
VERSION:2.0
PRODID:-//Business and Professional Women Austria - ECPv6.15.20//NONSGML v1.0//EN
CALSCALE:GREGORIAN
METHOD:PUBLISH
X-WR-CALNAME:Business and Professional Women Austria
X-ORIGINAL-URL:https://bpw.at
X-WR-CALDESC:Veranstaltungen für Business and Professional Women Austria
REFRESH-INTERVAL;VALUE=DURATION:PT1H
X-Robots-Tag:noindex
X-PUBLISHED-TTL:PT1H
BEGIN:VTIMEZONE
TZID:Europe/Vienna
BEGIN:DAYLIGHT
TZOFFSETFROM:+0100
TZOFFSETTO:+0200
TZNAME:CEST
DTSTART:20180325T010000
END:DAYLIGHT
BEGIN:STANDARD
TZOFFSETFROM:+0200
TZOFFSETTO:+0100
TZNAME:CET
DTSTART:20181028T010000
END:STANDARD
BEGIN:DAYLIGHT
TZOFFSETFROM:+0100
TZOFFSETTO:+0200
TZNAME:CEST
DTSTART:20190331T010000
END:DAYLIGHT
BEGIN:STANDARD
TZOFFSETFROM:+0200
TZOFFSETTO:+0100
TZNAME:CET
DTSTART:20191027T010000
END:STANDARD
BEGIN:DAYLIGHT
TZOFFSETFROM:+0100
TZOFFSETTO:+0200
TZNAME:CEST
DTSTART:20200329T010000
END:DAYLIGHT
BEGIN:STANDARD
TZOFFSETFROM:+0200
TZOFFSETTO:+0100
TZNAME:CET
DTSTART:20201025T010000
END:STANDARD
BEGIN:DAYLIGHT
TZOFFSETFROM:+0100
TZOFFSETTO:+0200
TZNAME:CEST
DTSTART:20210328T010000
END:DAYLIGHT
BEGIN:STANDARD
TZOFFSETFROM:+0200
TZOFFSETTO:+0100
TZNAME:CET
DTSTART:20211031T010000
END:STANDARD
END:VTIMEZONE
BEGIN:VEVENT
DTSTART;TZID=Europe/Vienna:20200325T183000
DTEND;TZID=Europe/Vienna:20200325T220000
DTSTAMP:20260420T115725
CREATED:20200119T211901Z
LAST-MODIFIED:20200315T164928Z
UID:10000791-1585161000-1585173600@bpw.at
SUMMARY:Absage des BPW Clubabends
DESCRIPTION:Absage des BPW Clubabends in Kufstein \nMittwoch 25. März 2020\n\n\n\nLiebe Business & Professional Woman\nLiebe Interessentin vom BPW Club Tirol\nAls Vorsichtsmaßnahme und Schritt\, um die Ausbreitung des Corona-Virus zu verlangsamen haben wir uns entschieden\, unseren Clubabend am 25. März 2020 abzusagen. \nWir sind bemüht\, das vorgesehene Speed Networking zu einem späteren Zeitpunkt in diesem Jahr nachzuholen. \nWir hoffen auf Dein Verständnis für diese Maßnahme und freuen uns\, Dich bei unseren zukünftigen Veranstaltungen begrüßen zu dürfen. \nDer Vorstand vom BPW Club Tirol:\nOlga\, Nataliya\, Eva\, Andrea und Anni
URL:https://bpw.at/event/save-the-date-bpw-tirol-clubabend/
LOCATION:Hotel Alpenrose\, Weissachstraße 47\, in Kufstein\, Weissachstraße 47\, Kufstein\, Tirol\, 6330\, Österreich
CATEGORIES:Tirol
ATTACH;FMTTYPE=image/jpeg:https://bpw.at/wp/wp-content/uploads/2020/01/Absage-des-BPW-Clubabends_web.jpg
ORGANIZER;CN="BPW Club Tirol":MAILTO:office-tirol@bpw.at
END:VEVENT
BEGIN:VEVENT
DTSTART;TZID=Europe/Vienna:20200229T100000
DTEND;TZID=Europe/Vienna:20200229T130000
DTSTAMP:20260420T115725
CREATED:20200119T210824Z
LAST-MODIFIED:20200119T213522Z
UID:10000790-1582970400-1582981200@bpw.at
SUMMARY:SAVE THE DATE! Equal Pay Day-Brunch in Kufstein
DESCRIPTION:Equal Pay Day-Brunch \nSamstag 29. Februar 2020 um 10:00 Uhr\n\n\n\nLesung aus „Mut zum Rollentausch“\nAutorin Verena Florian\nDiskussion \nAlles Weitere folgt in der Einladung! Bald! \nOrt: meinprofibüro\, Maximilianstraße 7\, 6330 Kufstein \nDer Vorstand vom BPW Club Tirol:\nMonika und Olga\, Nataliya und Eva\, Andrea und Anni
URL:https://bpw.at/event/save-the-date-equal-pay-day-brunch-in-kufstein/
LOCATION:Maximilianstraße 7\, 6330 Kufstein\, Maximilianstraße 7\, Kufstein\, Tirol\, 6330\, Österreich
CATEGORIES:Tirol
ATTACH;FMTTYPE=image/jpeg:https://bpw.at/wp/wp-content/uploads/2019/11/SAVE-THE-DATE-November_web.jpg
ORGANIZER;CN="BPW Club Tirol":MAILTO:office-tirol@bpw.at
END:VEVENT
BEGIN:VEVENT
DTSTART;TZID=Europe/Vienna:20200226T183000
DTEND;TZID=Europe/Vienna:20200226T220000
DTSTAMP:20260420T115725
CREATED:20200212T193848Z
LAST-MODIFIED:20200212T193848Z
UID:10000815-1582741800-1582754400@bpw.at
SUMMARY:BPW Tirol Clubabend in Mils im Februar
DESCRIPTION:BPW Clubabend in Mils –\nEqual Pay Day\n\nam Mittwoch\, 26. Februar 2020 um 18:30 Uhr\n\n\n\nLesung aus dem Buch “Mut zum Rollentausch\, 50 beruflich erfolgreiche Frauen und Männer in Väterkarenz erzählen” von Verena FLORIAN:\n \nÖsterreich feiert sich international als fortschrittlichen Wirtschaftsstandort\, aber die Rollenverteilung von Frauen und Männern ist erzkonservativ. Das beschert uns im Vergleich mit anderen europäischen Ländern unter anderem eine der größten Einkommensscheren und in der Folge Altersarmut von Frauen. Zahlen und Fakten in diesem Buch belegen das. \nVerena Florian weist anhand der Erzählungen von mutigen Frauen in Toppositionen und mutigen Männern in Väterkarenz auf die vielen Möglichkeiten hin\, wie Frauen und Männer beruflich und mit der Familie ihren eigenen Weg gehen können\, jenseits von traditionellen\, sozial konstruierten Rollenbildern. \nLiebe BPW\, welche Erfahrungen und Vorstellungen habt ihr dazu? \nVerlag: www.falter.at\nISBN: 978-3-85439-634-5 \nOrt: Landhotel Reschenhof\, Bundesstraße 7\, Mils\n(Der Reschenhof liegt direkt an der B 171 zwischen Hall und Wattens. Autobahnabfahrt Hall Mitte – über die Haller Innbrücke – Ampelkreuzung rechts – ca. 1\,5 km an der B 171 Richtung Mils – auf der linken Seite.) \nBitte um Anmeldung bis spätestens 23.02.2020\nunter office-tirol@bpw.at  \nDer Interessentinnen-Beitrag beträgt € 20\,- \n\nWir freuen uns auf einen spannenden und bereichernden Abend\nund auf ein Wiedersehen mit dir! \n\nDer Vorstand vom BPW Club Tirol:\nMonika und Olga\, Nataliya und Eva\, Andrea und Anni
URL:https://bpw.at/event/bpw-tirol-clubabend-in-mils-februar/
LOCATION:Bundesstraße 7\, Mils\, Bundesstraße 7\, Mils\, Tirol\, 6068\, Österreich
CATEGORIES:Tirol
ATTACH;FMTTYPE=image/jpeg:https://bpw.at/wp/wp-content/uploads/2020/02/Nichtlustig_Equal_Pay_Day.jpg
ORGANIZER;CN="BPW Club Tirol":MAILTO:office-tirol@bpw.at
END:VEVENT
BEGIN:VEVENT
DTSTART;TZID=Europe/Vienna:20200226T183000
DTEND;TZID=Europe/Vienna:20200226T220000
DTSTAMP:20260420T115725
CREATED:20200119T210215Z
LAST-MODIFIED:20200119T210215Z
UID:10000789-1582741800-1582754400@bpw.at
SUMMARY:SAVE THE DATE! BPW Tirol Clubabend in Mils
DESCRIPTION:Equal Pay Day \nMittwoch 26. Februar 2020 um 19:00 Uhr\n\n\n\nLesung aus „Mut zum Rollentausch“\nAutorin Verena Florian\nDiskussion \nAlles Weitere folgt in der Einladung! Bald! \nOrt: Landhotel Reschenhof\, Bundesstraße 7\, Mils \nDer Vorstand vom BPW Club Tirol:\nMonika und Olga\, Nataliya und Eva\, Andrea und Anni
URL:https://bpw.at/event/save-the-date-bpw-tirol-clubabend-in-mils/
LOCATION:Bundesstraße 7\, Mils\, Bundesstraße 7\, Mils\, Tirol\, 6068\, Österreich
CATEGORIES:Tirol
ATTACH;FMTTYPE=image/jpeg:https://bpw.at/wp/wp-content/uploads/2019/11/SAVE-THE-DATE-November_web.jpg
ORGANIZER;CN="BPW Club Tirol":MAILTO:office-tirol@bpw.at
END:VEVENT
BEGIN:VEVENT
DTSTART;TZID=Europe/Vienna:20200129T183000
DTEND;TZID=Europe/Vienna:20200129T220000
DTSTAMP:20260420T115725
CREATED:20200115T221145Z
LAST-MODIFIED:20200124T174221Z
UID:10000684-1580322600-1580335200@bpw.at
SUMMARY:BPW Tirol Clubabend in Mils
DESCRIPTION:BPW Clubabend in Mils –\nBETZAVTA-Workshop\nam Mittwoch\, 29. Jänner 2020 um 18:30 Uhr\n\n\n\nBETZAVTA-Workshop \nAn diesem Clubabend laden Sarah Lenz und Ola Frühwirth Euch ein\, die BETZAVTA Methode kennenzulernen. Mit ein bis zwei Aktivitäten wollen Sie Euch einen kleinen Vorgeschmack auf das Wochenendseminar\, das im März stattfinden wird\, geben. \nBETZAVTA ist hebräisch und bedeutet „miteinander“ und „Gesellschaftliches Leben leben und gestalten“. \nMit BETZAVTA wurde 1986 vom Jerusalemer Adam-Institut für Demokratie und Frieden ein Konzept entwickelt\, das durch die Konflikt-Dilemma Methode unterschiedliche Demokratievorstellungen sichtbar und erlebbar macht. Der Schwerpunkt liegt hierbei auf Aktivitäten\, die eher spielerischen Charakter haben. Die Methode bezieht die Lebenswelt und Individualität der Teilnehmer*innen mit ein und regt an\, sich mit der Vielfalt der Gruppe\, der Gesellschaft und der Vorstellung eines demokratischen Miteinanders auseinanderzusetzen. \nBETZAVTA zeigt\, dass Demokratie sowohl im kleinsten aller Verbände\, der Familie\, als auch in größeren Gemeinschaften bis hin zu unserer Gesellschaft keine Selbstverständlichkeit ist. Demokratie und die dazu nötige Toleranz ist eine immer wiederkehrende Auseinandersetzung mit sich selbst und dem Gegenüber. Nur so ist ein Beitrag zu einem friedvollen Miteinander mit einem größtmöglichen Entfaltungsspielraum für sich selbst und andere möglich. \nBETZAVTA regt an\, bisherige Schritte zur Entscheidungsfindung zu überdenken und diejenigen\, die bei Mehrheitsentscheidungen in der Minderheit sind\, nicht aus den Augen zu verlieren. \n\nOrt: Landhotel Reschenhof\, Bundesstraße 7\, Mils\n(Der Reschenhof liegt direkt an der B 171 zwischen Hall und Wattens. Autobahnabfahrt Hall Mitte – über die Haller Innbrücke – Ampelkreuzung rechts – ca. 1\,5 km an der B 171 Richtung Mils – auf der linken Seite.) \nBitte um Anmeldung bis spätestens 25.01.2020\nunter office-tirol@bpw.at  \nDer Interessentinnen-Beitrag beträgt € 20\,- \n\nWir freuen uns auf einen spannenden und bereichernden Abend\nund auf ein Wiedersehen mit dir! \n\nDer Vorstand vom BPW Club Tirol:\nMonika und Olga\, Nataliya und Eva\, Andrea und Anni
URL:https://bpw.at/event/bpw-tirol-clubabend-in-mils/
LOCATION:Bundesstraße 7\, Mils\, Bundesstraße 7\, Mils\, Tirol\, 6068\, Österreich
CATEGORIES:Tirol
ATTACH;FMTTYPE=image/jpeg:https://bpw.at/wp/wp-content/uploads/2020/01/BPW-Clubabend-BETZAVTA-Workshop-2020-Web.jpg
ORGANIZER;CN="BPW Club Tirol":MAILTO:office-tirol@bpw.at
END:VEVENT
BEGIN:VEVENT
DTSTART;TZID=Europe/Vienna:20191218T183000
DTEND;TZID=Europe/Vienna:20191218T220000
DTSTAMP:20260420T115725
CREATED:20191203T230152Z
LAST-MODIFIED:20191203T230731Z
UID:10000673-1576693800-1576706400@bpw.at
SUMMARY:BPW Weihnachtsfeier in Kufstein
DESCRIPTION:Einladung zur BPW Weihnachtsfeier\nam Mittwoch\, 18. Dezember 2019 in Kufstein\n\n\nWir wollen feiern!\nUnd zwar mit euch allen am 18. Dezember und diesmal im Hotel Alpenrose in Kufstein! \nWir lassen das Jahr 2019 bei unserer traditionellen Kerzenlichtfeier gemütlich und fröhlich ausklingen. \nBitte dick im Kalender eintragen oder gleich unter office-tirol@bpw.at anmelden \nAnkommen: 18:30 Uhr\nFeiern: 19:00 Uhr\nOrt: Hotel Alpenrose\, Weissachstraße 47\, in Kufstein \nDer Interessentinnen-Beitrag beträgt € 15\,- \nBitte um Anmeldung bis spätestens 10.12.2019\nunter office-tirol@bpw.at \nWir freuen uns auf einen spannenden und bereichernden Abend\nund auf ein Wiedersehen mit dir! \nDer Vorstand vom BPW Club Tirol:\nMonika und Olga\, Nataliya und Eva\, Andrea und Anni
URL:https://bpw.at/event/bpw-weihnachtsfeier-in-kufstein/
LOCATION:Hotel Alpenrose\, Weissachstraße 47\, in Kufstein\, Weissachstraße 47\, Kufstein\, Tirol\, 6330\, Österreich
CATEGORIES:Tirol
ATTACH;FMTTYPE=image/jpeg:https://bpw.at/wp/wp-content/uploads/2019/12/BPW_Clubabend_Weihnachtsfeier-2019-Web.jpg
ORGANIZER;CN="BPW Club Tirol":MAILTO:office-tirol@bpw.at
END:VEVENT
BEGIN:VEVENT
DTSTART;TZID=Europe/Vienna:20191127T183000
DTEND;TZID=Europe/Vienna:20191127T220000
DTSTAMP:20260420T115725
CREATED:20191114T124819Z
LAST-MODIFIED:20191114T124819Z
UID:10000761-1574879400-1574892000@bpw.at
SUMMARY:BPW Tirol Clubabend in Innsbruck
DESCRIPTION:BPW Clubabend im Atelier von Sigrid Wenter und Astrid Schroffner-Steiner\nMittwoch 27. November 2019 um 19:00 Uhr\n\n\n  \nSigrid Wenter ist Kleidermacherin und Designerin und fasziniert von der Schönheit des Augenblicks. Sie näht deine Träume und macht sie in charmanten\, von Hand genähten\, Kreationen sichtbar. Sie begleitet dich außerdem in Kursen und Workshops mit handwerklichen Tipps und künstlerischer Erfahrung bei der Umsetzung deines Nähprojektes. „In Schönheit ist es begonnen – in Schönheit ist es vollendet”. \nAstrid Schroffner-Steiner ist Künstlerin aus Leidenschaft und Psychologin mit Begeisterung\, sie begleitet Menschen in ihrer Balance zum Thema: Mein Leben mein Kunstwerk. Dabei lädt sie ein zur MalZeit oder den Dialog um Unbewusstes bewusst zu machen und Unsichtbares in Farbe zu verwandeln. Mutig seinen Weg zu gehen\, um das eigene Potential zu entwickeln\, das ist ihre Intention. \n\nDas Atelier – ein Ort der kreativen Ausdruckskunst. Sigrid Wenter und Astrid Schroffner-Steiner werden uns mit ihren Werken und mit ihrem Können überraschen und erstaunen. \nDas Buffet – verwöhnt uns mit farbenprächtigen kulinarischen Köstlichkeiten – bunte Vielfalt an Aufstrichen\, eingelegte Oliven\, Baguette\, köstliche Weine\, Tiroler Wasser und Süsses für die Seele. \n\n\nHerzliche Einladung zum Entdecken\, Zuhören\, Erforschen\, Austausch\, Inspirieren\, Motivieren\, Entspannen und Genießen! \n  \n\nOrt: Ferdinand-Weyrer-Straße 7\, grünes Haus\, 1. Stock in Innsbruck \n  \nWichtiges für die Organisation:\n\nBitte um Anmeldung bis spätestens 20.11.2019\nunter office-tirol@bpw.at (das Buffet will geplant sein) \nPreis pro Person für das Buffet € 10\,00 \nParken – idealerweise nimmt man öffentliche Verkehrsmittel\, weil die Parksituation eher schwierig ist. Falls doch geparkt werden muss\, bitte in der Seitenstrasse der Hallerstrasse oder am Kundenparkplatz des HORUCK.\nBITTE AUF KEINEN FALL DIE PARKPLÄTZE BEIM HAUS 41 NEHMEN – HIER WIRD RIGOROS ANGEZEIGT!!!!! \nDer Vorstand vom BPW Club Tirol:\nMonika und Olga\, Nataliya und Eva\, Andrea und Anni\nkooptiert: Silvia und Sylvia
URL:https://bpw.at/event/bpw-tirol-clubabend-in-innsbruck-2/
LOCATION:Ferdinand-Weyrer-Straße 7 in Innsbruck\, Ferdinand-Weyrer-Straße 7\, Innsbruck\, Tirol\, 6020\, Österreich
CATEGORIES:Tirol
ATTACH;FMTTYPE=image/jpeg:https://bpw.at/wp/wp-content/uploads/2019/11/BPW-Clubabend-November-2019-web.jpg
ORGANIZER;CN="BPW Club Tirol":MAILTO:office-tirol@bpw.at
END:VEVENT
BEGIN:VEVENT
DTSTART;TZID=Europe/Vienna:20191127T183000
DTEND;TZID=Europe/Vienna:20191127T220000
DTSTAMP:20260420T115725
CREATED:20191108T143008Z
LAST-MODIFIED:20191108T205727Z
UID:10000760-1574879400-1574892000@bpw.at
SUMMARY:SAVE THE DATE! BPW Tirol Clubabend in Innsbruck
DESCRIPTION:BPW Clubabend im Atelier von Sigrid Wenter und Astrid Schroffner-Steiner\nMittwoch 27. November 2019 um 19:00 Uhr\n\n\n\nEin Abend voller Inspiration!\nSigrid Wenter … … ist Kleidermacherin\, Kostümbildnerin\, Künstlerin und Gestalterin … … ist bezaubert von der Schönheit des Augenblicks … \nAstrid Schroffner-Steiner … Künstlerin aus Leidenschaft … immer neugierig und offen für neue Herausforderungen … Jeder ist ein Künstler seiner inneren Bilder … \nAlles Weitere folgt in der Einladung! Bald! \nOrt: Ferdinand-Weyrer-Straße 7 in Innsbruck \nDer Vorstand vom BPW Club Tirol:\nMonika und Olga\, Nataliya und Eva\, Andrea und Anni\nkooptiert: Silvia und Sylvia
URL:https://bpw.at/event/bpw-tirol-clubabend-in-innsbruck/
LOCATION:Ferdinand-Weyrer-Straße 7 in Innsbruck\, Ferdinand-Weyrer-Straße 7\, Innsbruck\, Tirol\, 6020\, Österreich
CATEGORIES:Tirol
ATTACH;FMTTYPE=image/jpeg:https://bpw.at/wp/wp-content/uploads/2019/11/SAVE-THE-DATE-November_web.jpg
ORGANIZER;CN="BPW Club Tirol":MAILTO:office-tirol@bpw.at
END:VEVENT
BEGIN:VEVENT
DTSTART;TZID=Europe/Vienna:20191030T183000
DTEND;TZID=Europe/Vienna:20191030T220000
DTSTAMP:20260420T115725
CREATED:20191021T194950Z
LAST-MODIFIED:20191021T195135Z
UID:10000749-1572460200-1572472800@bpw.at
SUMMARY:BPW Clubabend in Innsbruck
DESCRIPTION:Einladung zum Clubabend\nam Mittwoch\, 30. Oktober 2019 in Innsbruck\n\n\nIdeen\, Wünsche … und Freundinnen für das BPW-Clubjahr 2020\n\nDu willst deine Erfolge mit uns feiern\nDu willst deinen Betrieb präsentieren\nDu willst dein Know-how weitergeben\nDu willst über die Position von Frauen in der Gesellschaft diskutieren\nDu willst einen Clubabend gestalten\nDu willst …\n\nBringe deine Ideen\, Wünsche … und Freundinnen mit! \n\nAnkommen: 18:30 Uhr\nBeginn um: 19:00 Uhr\nOrt: Hotel Grauer Bär\, Universitätsstraße 5-7\, Innsbruck \nDer Interessentinnen-Beitrag beträgt € 15\,- \nBitte um Anmeldung bis spätestens 30.10.2019\nunter office-tirol@bpw.at \nWir freuen uns auf einen spannenden und bereichernden Abend\nund auf ein Wiedersehen mit dir! \nDer Vorstand vom BPW Club Tirol:\nMonika und Olga\, Nataliya und Eva\, Andrea und Anni\nkooptiert: Silvia und Sylvia
URL:https://bpw.at/event/bpw-clubabend-oktober_in-innsbruck/
LOCATION:Hotel Grauer Bär\, Universitätsstraße 5-7\, Innsbruck\, Universitätsstraße 5-7\, Innsbruck\, Tirol\, 6020\, Österreich
CATEGORIES:Tirol
ATTACH;FMTTYPE=image/jpeg:https://bpw.at/wp/wp-content/uploads/2019/10/BPW_Clubabend_Oktober_2019_Webseite-1.jpg
ORGANIZER;CN="BPW Club Tirol":MAILTO:office-tirol@bpw.at
END:VEVENT
BEGIN:VEVENT
DTSTART;TZID=Europe/Vienna:20190918T183000
DTEND;TZID=Europe/Vienna:20190918T183000
DTSTAMP:20260420T115725
CREATED:20190910T205919Z
LAST-MODIFIED:20190910T205919Z
UID:10000640-1568831400-1568831400@bpw.at
SUMMARY:BPW Clubabend in Kufstein
DESCRIPTION:Einladung zum Clubabend\nam Mittwoch\, 18. September 2019 in Kufstein\n\n\nWorkshop mit Mag.a Dusica Tepic\n“Ziele schneller und leichter erreichen – viel mehr Energie durch einfache Techniken!”\nFrauen haben manchmal das Gefühl\, sich selbst im Weg zu stehen… \nÄrgerst du dich manchmal darüber\, dass du bestimmte Dinge in einer besonderen Situation nicht so gelöst hast\, wie du sie hättest lösen können? \nOder es fällt dir in einem Gespräch nichts Passendes ein. Dabei kannst du doch sonst ganz toll argumentieren!\nIn diesem Workshop übst du\, wie du es mit einfachen Techniken schaffst\, deine Ziele erfolgreich zu verfolgen. Deine Ängste werden verschwinden und du erfährst\, warum es so enorm wichtig ist\, an sich selbst zu glauben! \nDu lernst\, wie mit klaren Zielen\, unterstützenden Netzwerken\, guten Gewohnheiten\, Gelassenheit und vor allem einem starken Willen deine Wünsche reale Wirklichkeit werden! \nUnd das Selbstbewusstsein… das entsteht dann wie von selbst. \n  \nAnkommen: 18:30 Uhr\nBeginn um: 19:00 Uhr\nOrt: Hotel Alpenrose\, Weissachstraße 47\, Kufstein \n  \nMag.a Dusica Tepic \nist Klinische- und Gesundheitspsychologin\nmit Schwerpunkten in den Bereichen: \nPersönlichkeitsbildung\, Kinder-\, Jugend- und Familienpsychologie\,\nPaar- und Sexualpsychologie sowie videounterstützte Beratung und Traumabehandlung mit Brainspotting\nwww.beziehungskultur.com \n  \nDer Interessentinnen-Beitrag beträgt € 15\,- \nUm Anmeldung bis spätestens 16.09.2019\nunter office-tirol@bpw.at wird gebeten. \nWir freuen uns auf einen spannenden und bereichernden Abend\nund auf ein Wiedersehen mit dir! \nDer Vorstand vom BPW Club Tirol:\nMonika und Olga\, Nataliya und Eva\, Andrea und Anni\nkooptiert: Silvia und Sylvia
URL:https://bpw.at/event/bpw-clubabend-in-kufstein/
LOCATION:Kufstein\, Tirol\, Österreich
CATEGORIES:Tirol
ATTACH;FMTTYPE=image/jpeg:https://bpw.at/wp/wp-content/uploads/2019/09/BPW-Club-Tirol-Power-Frau.jpg
ORGANIZER;CN="BPW Club Tirol":MAILTO:office-tirol@bpw.at
END:VEVENT
BEGIN:VEVENT
DTSTART;TZID=Europe/Vienna:20190830T180000
DTEND;TZID=Europe/Vienna:20190830T220000
DTSTAMP:20260420T115725
CREATED:20190718T123801Z
LAST-MODIFIED:20190718T123801Z
UID:10000731-1567188000-1567202400@bpw.at
SUMMARY:„Afterwork Drink“ im Restaurant „Deck 47“ am Baggersee in Innsbruck
DESCRIPTION:Liebe BPW\,\nwir laden dich herzlich ein zu unserem nächsten „Afterwork Drink“ \nWann?\nFreitag\, 30.08.2019 \nWo?\nab 18:00 im Restaurant „Deck 47“\nam Baggersee in Innsbruck \nKommst du schon um 18:00 Uhr oder hast du erst später Zeit?\nBeim Afterwork Drink kommt und geht jede BPW\, wann sie will!\nKomm auf einen Drink vorbei oder verbringe den ganzen Abend mit uns!\nBeim Netzwerken können wir uns besser kennen lernen und\nnützliche Kontakte knüpfen.\nAlle BPW haben viele interessante Seiten\, entdecke sie! \n Wir freuen uns auf dich! \nDer Vorstand vom BPW Club Tirol:\nMonika und Olga\, Nataliya und Eva\, Andrea und Anni\nkooptiert: Silvia und Sylvia
URL:https://bpw.at/event/afterwork-drink-im-restaurant-deck-47-am-baggersee-in-innsbruck/
LOCATION:Restaurant „Deck 47“ am Baggersee in Innsbruck\, Archenweg 62\, Innsbruck\, 6020\, Österreich
CATEGORIES:Tirol
ORGANIZER;CN="BPW Club Tirol":MAILTO:office-tirol@bpw.at
END:VEVENT
BEGIN:VEVENT
DTSTART;TZID=Europe/Vienna:20190726T180000
DTEND;TZID=Europe/Vienna:20190726T220000
DTSTAMP:20260420T115725
CREATED:20190718T120017Z
LAST-MODIFIED:20190718T124022Z
UID:10000730-1564164000-1564178400@bpw.at
SUMMARY:„Afterwork Drink“ im Cafe Bistro „EGGER`S“ in Kufstein
DESCRIPTION:Liebe BPW\,\nwir laden dich herzlich ein zu unserem nächsten „Afterwork Drink“ \nWann?\nFreitag\, 26.07.2019 \nWo?\nab 18:00 im Cafe Bistro „Egger´s“ \nOberer Stadtplatz 5a\, Kufstein \nKommst du schon um 18:00 Uhr oder hast du erst später Zeit?\nBeim Afterwork Drink kommt und geht jede BPW\, wann sie will!\nKomm auf einen Drink vorbei oder verbringe den ganzen Abend mit uns!\nBeim Netzwerken können wir uns besser kennen lernen und\nnützliche Kontakte knüpfen.\nAlle BPW haben viele interessante Seiten\, entdecke sie! \n Wir freuen uns auf dich! \nDer Vorstand vom BPW Club Tirol:\nMonika und Olga\, Nataliya und Eva\, Andrea und Anni\nkooptiert: Silvia und Sylvia
URL:https://bpw.at/event/afterwork-drink-im-cafe-bistro-eggers-in-kufstein/
LOCATION:Cafe Bistro „EGGER`S“ in Kufstein\, Oberer Stadtplatz 5a\, Kufstein\, Tirol\, 6330\, Österreich
CATEGORIES:Tirol
ORGANIZER;CN="BPW Club Tirol":MAILTO:office-tirol@bpw.at
END:VEVENT
END:VCALENDAR