BEGIN:VCALENDAR
VERSION:2.0
PRODID:-//Business and Professional Women Austria - ECPv6.15.20//NONSGML v1.0//EN
CALSCALE:GREGORIAN
METHOD:PUBLISH
X-WR-CALNAME:Business and Professional Women Austria
X-ORIGINAL-URL:https://bpw.at
X-WR-CALDESC:Veranstaltungen für Business and Professional Women Austria
REFRESH-INTERVAL;VALUE=DURATION:PT1H
X-Robots-Tag:noindex
X-PUBLISHED-TTL:PT1H
BEGIN:VTIMEZONE
TZID:Europe/Vienna
BEGIN:DAYLIGHT
TZOFFSETFROM:+0100
TZOFFSETTO:+0200
TZNAME:CEST
DTSTART:20180325T010000
END:DAYLIGHT
BEGIN:STANDARD
TZOFFSETFROM:+0200
TZOFFSETTO:+0100
TZNAME:CET
DTSTART:20181028T010000
END:STANDARD
BEGIN:DAYLIGHT
TZOFFSETFROM:+0100
TZOFFSETTO:+0200
TZNAME:CEST
DTSTART:20190331T010000
END:DAYLIGHT
BEGIN:STANDARD
TZOFFSETFROM:+0200
TZOFFSETTO:+0100
TZNAME:CET
DTSTART:20191027T010000
END:STANDARD
BEGIN:DAYLIGHT
TZOFFSETFROM:+0100
TZOFFSETTO:+0200
TZNAME:CEST
DTSTART:20200329T010000
END:DAYLIGHT
BEGIN:STANDARD
TZOFFSETFROM:+0200
TZOFFSETTO:+0100
TZNAME:CET
DTSTART:20201025T010000
END:STANDARD
END:VTIMEZONE
BEGIN:VEVENT
DTSTART;TZID=Europe/Vienna:20191114T190000
DTEND;TZID=Europe/Vienna:20191114T190000
DTSTAMP:20260422T015336
CREATED:20190808T082335Z
LAST-MODIFIED:20191009T085424Z
UID:10000745-1573758000-1573758000@bpw.at
SUMMARY:Clubabend "Sexualität und Business"
DESCRIPTION:“Von der Sexualität bis zum Business” \nWas sich für Frauen in der Lebensmitte alles verändert \nVortrag von Mag. Irene Fellner\, MBA \nIn jedem beruflichen Frauenleben gibt es Zeiten der Veränderung mit neuen Herausforderungen und bisher ungeahnten Möglichkeiten.\nUnsere „besten Jahre“ zwischen 40 und 60 sind diesbezüglich eine besonders spannende Zeit. Vielleicht spürt ihr bereits selber: Von der Sexualität bis zum Business – alles kommt in Bewegung. Das verunsichert und wirft viele Fragen auf.\nDie Chancen und großartigen Geschenke dieser Zeit können wir meistens nur schwer erkennen. \nIn diesem Vortrag und der anschließenden Diskussion zeigt sie daher auf: \n\nWas in den spannenden Jahren der Lebensmitte geschieht\, welche Herausforderungen auf uns zukommen und welche zentralen Themen wichtig werden können.\nWie wir konkret vorgehen können\, um neue\, erfüllende Wege für uns zu finden.\n\nMag. Irene Fellner ist Expertin für Frauen in der Lebensmitte. Sie studierte Handelswissenschaften\, ist u.a. systemischer Coach und Lebens- und Sozialberaterin.\n2012 gründete sie das Beratungszentrum „Soul Sisters – Zentrum für Frauen in der Lebensmitte“. In ihrer Arbeit geht es um Frauen in den turbulenten Jahren zwischen 40 und 60. Sie berät hinsichtlich der Frage:\nWie können wir erfüllende neue Wege finden und unsere Potentiale voll verwirklichen? \nWir freuen uns auf einen “turbulenten” Abend.
URL:https://bpw.at/event/clubabend-zum-thema-sexualitaet-im-wechsel-der-jahre/
LOCATION:Clublokal BPW VC\, Prinz Eugen Str. 80/12\, Wien\, 1040\, Österreich
CATEGORIES:Vienna Cosmopolitan
ORGANIZER;CN="BPW Club Vienna Cosmopolitan":MAILTO:cosmopolitan@bpw.at
END:VEVENT
BEGIN:VEVENT
DTSTART;TZID=Europe/Vienna:20191024T190000
DTEND;TZID=Europe/Vienna:20191024T190000
DTSTAMP:20260422T015336
CREATED:20190808T082555Z
LAST-MODIFIED:20191009T084123Z
UID:10000746-1571943600-1571943600@bpw.at
SUMMARY:Clubabend "Vorsorgevollmacht - Patientenverfügung"
DESCRIPTION:Unser Clubabend im Oktober findet am 24.10.2019 ab 18:30 statt.\nDetails folgen…
URL:https://bpw.at/event/clubabend-zum-them-sachwalterschaft-patientenverfuegung/
LOCATION:Clublokal BPW VC\, Prinz Eugen Str. 80/12\, Wien\, 1040\, Österreich
CATEGORIES:Vienna Cosmopolitan
ORGANIZER;CN="BPW Club Vienna Cosmopolitan":MAILTO:cosmopolitan@bpw.at
END:VEVENT
BEGIN:VEVENT
DTSTART;TZID=Europe/Vienna:20190926T190000
DTEND;TZID=Europe/Vienna:20190926T190000
DTSTAMP:20260422T015336
CREATED:20190805T082511Z
LAST-MODIFIED:20190808T081632Z
UID:10000734-1569524400-1569524400@bpw.at
SUMMARY:Clubabend "Selbstschutz - Selbstverteidigung"
DESCRIPTION:Unser erster Clubabend im Herbst findet am 26.09.2019 ab 18:30 statt.\n\nEin Vertreter des Vereins GWD\n\n \nwird uns das Thema “Selbstschutz – Selbstverteidigung” mit Theorie und praktischen Übungen vermitteln. \nWir freuen uns auf euer Kommen. \nMargarete\, Doris\, Elisabeth und Patrizia\nVorstand BPW Vienna Cosmopolitan
URL:https://bpw.at/event/clubabend-selbstschutz-selbstverteidigung/
LOCATION:Clublokal BPW VC\, Prinz Eugen Str. 80/12\, Wien\, 1040\, Österreich
CATEGORIES:Vienna Cosmopolitan
ORGANIZER;CN="BPW Club Vienna Cosmopolitan":MAILTO:cosmopolitan@bpw.at
END:VEVENT
BEGIN:VEVENT
DTSTART;TZID=Europe/Vienna:20190725T180000
DTEND;TZID=Europe/Vienna:20190725T210000
DTSTAMP:20260422T015336
CREATED:20190705T173059Z
LAST-MODIFIED:20190705T173059Z
UID:10000729-1564077600-1564088400@bpw.at
SUMMARY:Picknick im Burggarten
DESCRIPTION:Wir treffen einander zum Picknick am Do\, 25. Juli ab 18:00 beim Palmenhaus.\nJede bringt für sich und die Anderen etwas zum “Tauschen und Teilen” mit. \nAnmeldung bitte an: cosmopolitan@bpw.at \nBei Schlechtwetter Tischreservierung im Palmenhaus.\nAnfragen an Doris Brazda\, Tel. 0664 73437998 \nWir freuen uns auf zahlreiches Erscheinen. \nMargarete\, Doris\, Elisabeth und Patrizia\nVorstand BPW Vienna Cosmopolitan \n  \n  \n 
URL:https://bpw.at/event/picknick-im-burggarten/
LOCATION:Burggarten beim Palmenhaus\, Wien
CATEGORIES:Vienna Cosmopolitan
ORGANIZER;CN="BPW Club Vienna Cosmopolitan":MAILTO:cosmopolitan@bpw.at
END:VEVENT
END:VCALENDAR