BEGIN:VCALENDAR
VERSION:2.0
PRODID:-//Business and Professional Women Austria - ECPv6.15.20//NONSGML v1.0//EN
CALSCALE:GREGORIAN
METHOD:PUBLISH
X-ORIGINAL-URL:https://bpw.at
X-WR-CALDESC:Veranstaltungen für Business and Professional Women Austria
REFRESH-INTERVAL;VALUE=DURATION:PT1H
X-Robots-Tag:noindex
X-PUBLISHED-TTL:PT1H
BEGIN:VTIMEZONE
TZID:Europe/Vienna
BEGIN:DAYLIGHT
TZOFFSETFROM:+0100
TZOFFSETTO:+0200
TZNAME:CEST
DTSTART:20180325T010000
END:DAYLIGHT
BEGIN:STANDARD
TZOFFSETFROM:+0200
TZOFFSETTO:+0100
TZNAME:CET
DTSTART:20181028T010000
END:STANDARD
BEGIN:DAYLIGHT
TZOFFSETFROM:+0100
TZOFFSETTO:+0200
TZNAME:CEST
DTSTART:20190331T010000
END:DAYLIGHT
BEGIN:STANDARD
TZOFFSETFROM:+0200
TZOFFSETTO:+0100
TZNAME:CET
DTSTART:20191027T010000
END:STANDARD
BEGIN:DAYLIGHT
TZOFFSETFROM:+0100
TZOFFSETTO:+0200
TZNAME:CEST
DTSTART:20200329T010000
END:DAYLIGHT
BEGIN:STANDARD
TZOFFSETFROM:+0200
TZOFFSETTO:+0100
TZNAME:CET
DTSTART:20201025T010000
END:STANDARD
BEGIN:DAYLIGHT
TZOFFSETFROM:+0100
TZOFFSETTO:+0200
TZNAME:CEST
DTSTART:20210328T010000
END:DAYLIGHT
BEGIN:STANDARD
TZOFFSETFROM:+0200
TZOFFSETTO:+0100
TZNAME:CET
DTSTART:20211031T010000
END:STANDARD
BEGIN:DAYLIGHT
TZOFFSETFROM:+0100
TZOFFSETTO:+0200
TZNAME:CEST
DTSTART:20220327T010000
END:DAYLIGHT
BEGIN:STANDARD
TZOFFSETFROM:+0200
TZOFFSETTO:+0100
TZNAME:CET
DTSTART:20221030T010000
END:STANDARD
END:VTIMEZONE
BEGIN:VEVENT
DTSTART;TZID=Europe/Vienna:20210413T190000
DTEND;TZID=Europe/Vienna:20210413T230000
DTSTAMP:20260422T092749
CREATED:20210302T194014Z
LAST-MODIFIED:20210331T190810Z
UID:10000771-1618340400-1618354800@bpw.at
SUMMARY:Clubabend Wels-Hausruck "Frauen in der Politik"
DESCRIPTION:„Frauen in der Politik“ \nGesprächsrunde mit Eva-Maria Holzleitner\, SPÖ \nEva-Maria Holzleitner ist eine junge Welserin\, die in der SPÖ mit Beharrlichkeit und Beständigkeit ihren Karriereweg macht. Gabriele Heinisch-Hosek hat heuer am Weltfrauentag mitgeteilt\, dass sie sie bei der Bundesfrauenkonferenz im Juni als ihre Nachfolgerin vorschlägt. \nBei unserem Clubabend steht uns die Politikerin und Sozialwissenschafterin Holzleitner Rede und Antwort\, wie sie sich ihre Zukunft in der Politik vorstellt\, was ihre Ziele als Politikerin sind und wie es möglich sein kann\, mehr Frauen auch für die Kommunalpolitik zu begeistern. \nIhr habt eine brennende Frage an sie? Schreibt sie uns gerne vorab\, damit wir sie im Gespräch mit ihr gleich berücksichtigen können! \nGäste – Damen und Herren – sind herzlich willkommen! Mitglieder bitte um ABMELDUNG\, Gäste bitte um Anmeldung bis 09.April 2021 an wels@bpw.at.
URL:https://bpw.at/event/fruehlingsfest-club-wels-hausruck/
LOCATION:Online über Zoom\, Der Link für Zoom wird in der Anmeldebestätigung zugesandt
CATEGORIES:Linz-Wels
ORGANIZER;CN="BPW Club Linz-Wels":MAILTO:wels@bpw.at
END:VEVENT
BEGIN:VEVENT
DTSTART;TZID=Europe/Vienna:20210309T190000
DTEND;TZID=Europe/Vienna:20210309T220000
DTSTAMP:20260422T092749
CREATED:20210302T192725Z
LAST-MODIFIED:20210302T192929Z
UID:10000770-1615316400-1615327200@bpw.at
SUMMARY:Clubabend Wels-Hausruck: "Frauen und Geld - Wie sorgt frau am Besten vor?
DESCRIPTION:Finanzielle Vorsorge wird von Frauen oft vernachlässigt – sei es aus Desinteresse\, zu wenig Information oder ganz einfach – zu wenig finanzielle Mittel\, um noch zusätzlich etwas anzusparen. \nUnsere Vortragende\, Martina Roither\, hat auf Grund ihrer eigenen Geschichte vor fünf Jahren den Schritt in die Selbstständigkeit gewagt und beschäftigt sich als Vorsorgeexpertin sehr intensiv mit dieser Thematik – speziell für Frauen und deren Familien. Martina ist verheiratet\, Mutter von 3 Kindern und der Blick auf ihr Pensionskonto vor fünf Jahren hat sie sehr ernüchtert. Daher widmet sie sich gemeinsam mit uns folgenden Fragen und Themen: \n\nWas du vom österreichischen Pensionssystem erwarten darfst.\nWarum gerade Frauen am meisten von Altersarmut betroffen sind.\nWorauf du bei einer Lösung oder Vorsorge besonders achten musst (Kosten\, Steuern\, Sicherheit)\n\nAnmeldung bitte an wels@bpw.at um den Zoom-Link zu erhalten!
URL:https://bpw.at/event/bpw-clubabend-wels-hausruck-frauen-und-geld-wie-sorgt-frau-am-besten-vor/
LOCATION:Zoom
CATEGORIES:Linz-Wels
ORGANIZER;CN="BPW Club Linz-Wels":MAILTO:wels@bpw.at
END:VEVENT
BEGIN:VEVENT
DTSTART;TZID=Europe/Vienna:20201217T183000
DTEND;TZID=Europe/Vienna:20201217T223000
DTSTAMP:20260422T092749
CREATED:20200208T131535Z
LAST-MODIFIED:20200401T162447Z
UID:10000812-1608229800-1608244200@bpw.at
SUMMARY:Weihnachtsfeier Club Wels-Hausruck
DESCRIPTION:Wir lassen gemeinsam das BPW-Jahr ausklingen und machen uns einen gemütlichen Abend bei einem weihnachtlichen Menü im Gasthof Fischer. \n  \nGäste – Damen und Herren – sind herzlich willkommen! \nMitglieder bitte um ABMELDUNG\, Gäste bitte um Anmeldung bis spätestens 08. Dezember 2020 an wels@bpw.at. \n  \nWir freuen uns auf DEIN Kommen! \n 
URL:https://bpw.at/event/weihnachtsfeier-club-wels-hausruck/
LOCATION:Gasthof Fischer\, Welser Straße 14\, Marchtrenk\, 4614\, Österreich
CATEGORIES:Linz-Wels
ORGANIZER;CN="BPW Club Linz-Wels":MAILTO:wels@bpw.at
END:VEVENT
BEGIN:VEVENT
DTSTART;TZID=Europe/Vienna:20201106T183000
DTEND;TZID=Europe/Vienna:20201106T220000
DTSTAMP:20260422T092749
CREATED:20200308T172740Z
LAST-MODIFIED:20200901T173745Z
UID:10000832-1604687400-1604700000@bpw.at
SUMMARY:Clubabend - Wir für uns
DESCRIPTION:Save the Date! \n  \nGet together: 18: 30 Uhr \nStart: 19:00 Uhr
URL:https://bpw.at/event/15-jahre-bpw-wels-hausruck-filmvorstellung-die-dohnal/
CATEGORIES:Linz-Wels
ORGANIZER;CN="BPW Club Linz-Wels":MAILTO:wels@bpw.at
END:VEVENT
BEGIN:VEVENT
DTSTART;TZID=Europe/Vienna:20201013T183000
DTEND;TZID=Europe/Vienna:20201013T223000
DTSTAMP:20260422T092749
CREATED:20200216T111257Z
LAST-MODIFIED:20200921T173604Z
UID:10000819-1602613800-1602628200@bpw.at
SUMMARY:Clubabend - Räuchern – magisch – einfach – wirkungsvoll
DESCRIPTION:Unsere Referentin\, Ute Kindlinger\, Humanenergetikerin von der Räuchermanufaktur Sharana (www.sharana.at) zeigt uns\, wie wir die Magie der Pflanzen und deren Wirkkräfte für uns nutzen können. \n\n\n\nSie erklärt uns einfach und effektvoll die Grundlagen des Räucherns und darüber hinaus. \n\n\n\n  \n\n\n\nGet together ab 18:30. Um 19:00 beginnt der ca. einstündige Vortrag mit anschließender Diskussion und abschließender Zeit zum Networken. \n  \n\n\n\nMitglieder bitte um ABMELDUNG bis spätestens 04. Oktober 2020 an wels@bpw.at. \n  \nWir freuen uns auf DEIN Kommen! \n 
URL:https://bpw.at/event/clubabend-raeuchern-magisch-einfach-wirkungsvoll/
LOCATION:AETAS\, Mursberg 29\, Walding\, 4111\, Österreich
CATEGORIES:Linz-Wels
ATTACH;FMTTYPE=image/png:https://bpw.at/wp/wp-content/uploads/2020/02/logo1.png
ORGANIZER;CN="BPW Club Linz-Wels":MAILTO:wels@bpw.at
END:VEVENT
BEGIN:VEVENT
DTSTART;TZID=Europe/Vienna:20200910T183000
DTEND;TZID=Europe/Vienna:20200910T223000
DTSTAMP:20260422T092749
CREATED:20200308T171559Z
LAST-MODIFIED:20220211T082024Z
UID:10000830-1599762600-1599777000@bpw.at
SUMMARY:Clubabend - Den Mutigen gehört die Welt
DESCRIPTION:Working Mum – vom Windelwechseln zur Verlagsgründung \n\nzum BPW Handlungsfeld „Personal Balance und Vereinbarkeit von Beruf und Familie“ \n  \nEine Jungmutter\, Schlafmangel und eine Idee zu einer Kindergeschichte. Das waren die Voraussetzungen für Elisabeth Ritzberger\, um in der Karenz zu ihrer ersten Tochter nicht nur selbige Geschichte zu schreiben\, sondern diese auch professionell und mit neuartigem Qualitätsanspruch als Verlagsgründerin herauszugeben. Mit Schlagwörtern wie dem vollkommenen Verzicht auf gesundheitsschädliche Inhaltsstoffe\, einem kompostierbaren Buch\, das frei von Plastik und zu 100% in Österreich kreiert und hergestellt wurde\, steht Frau Ritzberger nicht nur mit ihrem Titel „Den Mutigen gehört die Welt“ für starke und mutige Frauen. \nWas sie auf dieser Reise so allerhand erlebt hat\, welchen Herausforderungen sie sich stellen musste und wie es gelingen konnte\, Mutterschaft und Gründertum zu stemmen\, lässt sich am 10. September 2020 in der Mostothek Penetsdorfer\, in Oberndorf bei Schwanenstadt erfahren. \nWir treffen uns ab 18:30 Uhr und starten ab 19:00 Uhr mit dem Vortrag mit anschließender Diskussion und abschließender Zeit zum Networken sowie einem kleinem Imbiss. Es besteht die Möglichkeit\, vor Ort Bücher der Autorin zu erwerben. \nGäste – Damen und Herren – sind herzlich willkommen! \nGästebeitrag: 15\,- \nMitglieder bitte um ABMELDUNG\, Gäste bitte um Anmeldung bis spätestens 05. September 2020 an wels@bpw.at. \nBitte vergiss nicht darauf\, deinen Mundnasenschutz mitzubringen und den Mindestabstand einzuhalten. \nWir freuen uns auf DEIN Kommen! \n 
URL:https://bpw.at/event/clubabend-den-mutigen-gehoert-die-welt/
LOCATION:Mostothek\, Moarstrasse 7\, Oberndorf bei Schwanenstadt\, 4690\, Österreich
CATEGORIES:Linz-Wels
ATTACH;FMTTYPE=image/jpeg:https://bpw.at/wp/wp-content/uploads/2020/03/20191026-Shooting-Lisi-13-scaled.jpg
ORGANIZER;CN="BPW Club Linz-Wels":MAILTO:wels@bpw.at
END:VEVENT
BEGIN:VEVENT
DTSTART;TZID=Europe/Vienna:20200625T183000
DTEND;TZID=Europe/Vienna:20200625T220000
DTSTAMP:20260422T092749
CREATED:20200609T193634Z
LAST-MODIFIED:20200609T193634Z
UID:10000712-1593109800-1593122400@bpw.at
SUMMARY:Members only - Wildpflanzen bestimmen und Pot-Luck!
DESCRIPTION:Wir freuen uns sehr\, dass wir uns nach über 3 Monaten nun auch wieder persönlich treffen können! \nUnsere liebe Johanna lädt uns zu ihr nach Hause ein und je nach Wetter werden wir\, wenn es schön ist\, durchs Wildkräuterlabyrinth spazieren\, oder\, wenn es regnet\, Wildkräuter in der Vase bestimmen. \nDamit für das Abendessen auch gesorgt ist haben wir wieder an „Pot-Luck“ gedacht! Für alle\, die das noch nicht kennen – jede nimmt bitte eine Kleinigkeit mit (Salat\, Aufstriche\, Brot\, Getränke\, Nachspeise\, etc.) und dann steht einem gemütlichen\, kulinarischen Abend nichts mehr im Wege!
URL:https://bpw.at/event/members-only-wildpflanzen-bestimmen-und-pot-luck/
CATEGORIES:Linz-Wels
ORGANIZER;CN="BPW Club Linz-Wels":MAILTO:wels@bpw.at
END:VEVENT
BEGIN:VEVENT
DTSTART;TZID=Europe/Vienna:20200512T183000
DTEND;TZID=Europe/Vienna:20200512T223000
DTSTAMP:20260422T092749
CREATED:20200216T105954Z
LAST-MODIFIED:20200401T161858Z
UID:10000816-1589308200-1589322600@bpw.at
SUMMARY:Clubabend - Bewege dein Leben
DESCRIPTION:Wie wir uns bewegen\, kann beeinflussen\, wie wir denken und fühlen. Darum kommen wir zusammen\, um spielerisch zu erfahren\, wie Tanz unser Leben verändern kann. ­­­­ \n  \nEs sind keine Vorkenntnisse erforderlich. Jede kann unabhängig von Alter\, Fitness oder Beweglichkeit mitmachen. \n  \nDas Wichtigste ist der Spaß und die Freude an Bewegung zu Musik. \nDich zu spüren und auszuprobieren\, deine Kreativität zu wecken \n  \nChrista Körner-Schenk DGKS\, Bewegungs- und Tanzpädagogin\, wird uns durch den Workshop führen und anleiten \n  \nGäste – Damen und Herren – sind herzlich willkommen! \nGästebeitrag: 15\,- \nMitglieder bitte um ABMELDUNG\, Gäste bitte um Anmeldung bis spätestens 04. Mai 2020 an wels@bpw.at. \n  \nWir freuen uns auf DEIN Kommen! \n 
URL:https://bpw.at/event/clubabend-bewege-dein-leben/
LOCATION:Treff.MAX Turnverein Schwanenstadt\, Molkereistraße 6\, Schwanenstadt\, Oberösterreich\, 4690\, Österreich
CATEGORIES:Linz-Wels
ATTACH;FMTTYPE=image/jpeg:https://bpw.at/wp/wp-content/uploads/2020/02/Untitled.jpg
ORGANIZER;CN="BPW Club Linz-Wels":MAILTO:wels@bpw.at
END:VEVENT
BEGIN:VEVENT
DTSTART;TZID=Europe/Vienna:20200310T183000
DTEND;TZID=Europe/Vienna:20200310T223000
DTSTAMP:20260422T092749
CREATED:20191215T161522Z
LAST-MODIFIED:20200222T101823Z
UID:10000679-1583865000-1583879400@bpw.at
SUMMARY:Clubabend - Frauen und Geld
DESCRIPTION:Frauen und Geld – eine gute Kombination!  \nBeim Clubabend im März werden wir hören\, dass Frauen im Grunde die besseren Anleger sind\, wenn es darum geht\, Geld sicher\, aber auch ertragreich zu veranlagen. Frau Mag.a Carolin Mack\, Leiterin des Marketings der VKB Oberösterreich\, wird uns an diesem Abend ihr Herzensprojekt “Frauen gestalten Leben” vorstellen und uns auch über einige\, für Frauen in allen Lebenslagen maßgeschneiderte\, Produkte informieren. \n\nNatürlich sprechen wir auch über den Equal Pay Day 2020\, der wieder ein Stück weg vom 10.März gerückt ist – auf den 25. Februar.  \n  \nZur Referentin: Mag.a Carolin Mack\, Marketing-Expertin mit langjähriger Erfahrung im Medien-\, Agentur- und Lebensmittelbereich\, ist als Quereinsteigerin seit zwei Jahren Bereichsdirektorin Marketing der Volkskreditbank AG. \n 
URL:https://bpw.at/event/frauen-und-geld/
LOCATION:Parkhotel Stroissmüller\, Badstraße 2\, Bad Schallerbach\, Oberösterreich\, 4701\, Österreich
CATEGORIES:Linz-Wels
ATTACH;FMTTYPE=image/jpeg:https://bpw.at/wp/wp-content/uploads/2020/02/rote-Tasche.jpg
ORGANIZER;CN="BPW Club Linz-Wels":MAILTO:wels@bpw.at
END:VEVENT
BEGIN:VEVENT
DTSTART;TZID=Europe/Vienna:20200211T183000
DTEND;TZID=Europe/Vienna:20200211T223000
DTSTAMP:20260422T092749
CREATED:20191215T161236Z
LAST-MODIFIED:20191216T181659Z
UID:10000677-1581445800-1581460200@bpw.at
SUMMARY:Clubabend - Kerzenlichtfeier
DESCRIPTION:Bei der Kerzenlichtfeier handelt es sich um eine weltweit verbindende Zeremonie mit großer Kraft\, die uns daran erinnert\, wo unsere Wurzeln herkommen und welche Länder und Kontinente im Sinne von BPW miteinander verbunden sind.
URL:https://bpw.at/event/clubabend-kerzenlichtfeier/
LOCATION:Gasthof Zweimüller\, Stadtplatz 4\, Grieskirchen\, Oberösterreich\, 4710\, Österreich
CATEGORIES:Linz-Wels
ORGANIZER;CN="BPW Club Linz-Wels":MAILTO:wels@bpw.at
END:VEVENT
BEGIN:VEVENT
DTSTART;TZID=Europe/Vienna:20200114T183000
DTEND;TZID=Europe/Vienna:20200114T223000
DTSTAMP:20260422T092749
CREATED:20191215T160714Z
LAST-MODIFIED:20191216T181757Z
UID:10000676-1579026600-1579041000@bpw.at
SUMMARY:Clubabend-Mit Ayurveda entspannt ins Neue Jahr
DESCRIPTION:Du bist oft überfordert\, müde und erschöpft? Du bist gehetzt und unter Zeitdruck und hast keine Zeit für ein ruhiges Gespräch oder gar für Nichtstun? Dann hilft dir vielleicht die ayurvedische Lehre\, das Wissen vom Leben\, weiter. In diesem Vortrag beschäftigen wir uns mit den Grundlagen des Ayurveda\, einem gesunden Lebensstil\, der uns hilft\, mit unserem Stress klarzukommen\, mit gesunder Ernährung\, der Wichtigkeit regelmäßiger Bewegung und Entspannung. Grundlagen-Wissen\, Tipps und Tricks\, die uns mit unserem täglichen Stress besser umgehen lassen. \n  \nTrainerin: Mag.a Cornelia Pessenlehner \nVor 8 Jahren hat Cornelia Pessenlehner ihre Management-Karriere beendet und widmet sich seither aus tiefster Überzeugung der Prävention: als Seminarleiterin in Firmen der Burnout Prävention und für Teams und Privatpersonen in Kochkursen als Ayurveda Köchin. Als Expertin für Stressmanagement und aufgrund ihrer eigenen Erfahrungen gibt sie gerne ihr Wissen in praxisbezogenen Workshops und in ihren mit Liebe geleiteten Kochkursen weiter. http://www.corneliapessenlehner.at/
URL:https://bpw.at/event/clubabend-mit-ayurveda-entspannt-ins-neue-jahr/
LOCATION:Parkhotel Stroissmüller\, Badstraße 2\, Bad Schallerbach\, Oberösterreich\, 4701\, Österreich
CATEGORIES:Linz-Wels
ORGANIZER;CN="BPW Club Linz-Wels":MAILTO:wels@bpw.at
END:VEVENT
BEGIN:VEVENT
DTSTART;TZID=Europe/Vienna:20191212T183000
DTEND;TZID=Europe/Vienna:20191212T233000
DTSTAMP:20260422T092749
CREATED:20191106T183950Z
LAST-MODIFIED:20191106T183950Z
UID:10000759-1576175400-1576193400@bpw.at
SUMMARY:Weihnachtsfeier und Generalversammlung
DESCRIPTION:Wir starten den Abend mit der Generalversammlung unseres Vereins und wählen unsere neue Präsidentin und den neuen Vorstand. Anschließend lassen wir gemeinsam das BPW-Jahr ausklingen und machen uns einen gemütlichen Abend bei einem weihnachtlichem Menü.
URL:https://bpw.at/event/weihnachtsfeier-und-generalversammlung/
LOCATION:Gasthof Fischer\, Welser Straße 14\, Marchtrenk\, 4614\, Österreich
CATEGORIES:Linz-Wels
ORGANIZER;CN="BPW Club Linz-Wels":MAILTO:wels@bpw.at
END:VEVENT
BEGIN:VEVENT
DTSTART;TZID=Europe/Vienna:20191112T183000
DTEND;TZID=Europe/Vienna:20191112T230000
DTSTAMP:20260422T092749
CREATED:20191013T165310Z
LAST-MODIFIED:20191013T165310Z
UID:10000646-1573583400-1573599600@bpw.at
SUMMARY:Clubabend – Kinoabend „Female Pleasure“.
DESCRIPTION:Gemeinsam sehen wir uns den Film „Female Pleasure“ an\, in dem die Regisseurin Barbara Miller dokumentiert\, wie fünf Frauen\, welche fünf verschiedenen Religionen angehören\, ihre Sexualität ausleben. \nAlle fünf Frauen eint\, dass sie sich gegen die Dämonisierung der weiblichen Sexualität und für sexuelle Selbstbestimmung von Frauen einsetzen.
URL:https://bpw.at/event/clubabend-kinoabend-female-pleasure/
LOCATION:Programmkino Wels\, Pollheimerstraße 17\, Wels\, Oberösterreich\, 4600\, Österreich
CATEGORIES:Linz-Wels
ORGANIZER;CN="BPW Club Linz-Wels":MAILTO:wels@bpw.at
END:VEVENT
BEGIN:VEVENT
DTSTART;TZID=Europe/Vienna:20191008T183000
DTEND;TZID=Europe/Vienna:20191008T223000
DTSTAMP:20260422T092749
CREATED:20190929T082733Z
LAST-MODIFIED:20190929T082733Z
UID:10000643-1570559400-1570573800@bpw.at
SUMMARY:SOCIAL MEDIA 4 BUSINESS
DESCRIPTION:Social Media ist ein fixer Bestandteil unseres täglichen Lebens geworden und auch aus moderner Unternehmenskommunikation nicht mehr wegzudenken. Mit dem Smartphone als ständigen Begleiter sind deine (potenziellen) Kunden fast 24/7 erreichbar. \nAber: welche Themen sind für Social Media interessant\, welche Posts werden gelesen? \nReferentin: Ingrid Rochelt\, FOOCUS MEHRWERT MARKETING\, (www.foocus.at) \n 
URL:https://bpw.at/event/social-media-4-business/
LOCATION:Parkhotel Stroissmüller\, Badstraße 2\, Bad Schallerbach\, Oberösterreich\, 4701\, Österreich
CATEGORIES:Linz-Wels
ORGANIZER;CN="BPW Club Linz-Wels":MAILTO:wels@bpw.at
END:VEVENT
END:VCALENDAR