BEGIN:VCALENDAR
VERSION:2.0
PRODID:-//Business and Professional Women Austria - ECPv6.15.20//NONSGML v1.0//EN
CALSCALE:GREGORIAN
METHOD:PUBLISH
X-WR-CALNAME:Business and Professional Women Austria
X-ORIGINAL-URL:https://bpw.at
X-WR-CALDESC:Veranstaltungen für Business and Professional Women Austria
REFRESH-INTERVAL;VALUE=DURATION:PT1H
X-Robots-Tag:noindex
X-PUBLISHED-TTL:PT1H
BEGIN:VTIMEZONE
TZID:Europe/Vienna
BEGIN:DAYLIGHT
TZOFFSETFROM:+0100
TZOFFSETTO:+0200
TZNAME:CEST
DTSTART:20180325T010000
END:DAYLIGHT
BEGIN:STANDARD
TZOFFSETFROM:+0200
TZOFFSETTO:+0100
TZNAME:CET
DTSTART:20181028T010000
END:STANDARD
BEGIN:DAYLIGHT
TZOFFSETFROM:+0100
TZOFFSETTO:+0200
TZNAME:CEST
DTSTART:20190331T010000
END:DAYLIGHT
BEGIN:STANDARD
TZOFFSETFROM:+0200
TZOFFSETTO:+0100
TZNAME:CET
DTSTART:20191027T010000
END:STANDARD
BEGIN:DAYLIGHT
TZOFFSETFROM:+0100
TZOFFSETTO:+0200
TZNAME:CEST
DTSTART:20200329T010000
END:DAYLIGHT
BEGIN:STANDARD
TZOFFSETFROM:+0200
TZOFFSETTO:+0100
TZNAME:CET
DTSTART:20201025T010000
END:STANDARD
BEGIN:DAYLIGHT
TZOFFSETFROM:+0100
TZOFFSETTO:+0200
TZNAME:CEST
DTSTART:20210328T010000
END:DAYLIGHT
BEGIN:STANDARD
TZOFFSETFROM:+0200
TZOFFSETTO:+0100
TZNAME:CET
DTSTART:20211031T010000
END:STANDARD
END:VTIMEZONE
BEGIN:VEVENT
DTSTART;TZID=Europe/Vienna:20200114T183000
DTEND;TZID=Europe/Vienna:20200114T223000
DTSTAMP:20260422T124227
CREATED:20191215T160714Z
LAST-MODIFIED:20191216T181757Z
UID:10000676-1579026600-1579041000@bpw.at
SUMMARY:Clubabend-Mit Ayurveda entspannt ins Neue Jahr
DESCRIPTION:Du bist oft überfordert\, müde und erschöpft? Du bist gehetzt und unter Zeitdruck und hast keine Zeit für ein ruhiges Gespräch oder gar für Nichtstun? Dann hilft dir vielleicht die ayurvedische Lehre\, das Wissen vom Leben\, weiter. In diesem Vortrag beschäftigen wir uns mit den Grundlagen des Ayurveda\, einem gesunden Lebensstil\, der uns hilft\, mit unserem Stress klarzukommen\, mit gesunder Ernährung\, der Wichtigkeit regelmäßiger Bewegung und Entspannung. Grundlagen-Wissen\, Tipps und Tricks\, die uns mit unserem täglichen Stress besser umgehen lassen. \n  \nTrainerin: Mag.a Cornelia Pessenlehner \nVor 8 Jahren hat Cornelia Pessenlehner ihre Management-Karriere beendet und widmet sich seither aus tiefster Überzeugung der Prävention: als Seminarleiterin in Firmen der Burnout Prävention und für Teams und Privatpersonen in Kochkursen als Ayurveda Köchin. Als Expertin für Stressmanagement und aufgrund ihrer eigenen Erfahrungen gibt sie gerne ihr Wissen in praxisbezogenen Workshops und in ihren mit Liebe geleiteten Kochkursen weiter. http://www.corneliapessenlehner.at/
URL:https://bpw.at/event/clubabend-mit-ayurveda-entspannt-ins-neue-jahr/
LOCATION:Parkhotel Stroissmüller\, Badstraße 2\, Bad Schallerbach\, Oberösterreich\, 4701\, Österreich
CATEGORIES:Linz-Wels
ORGANIZER;CN="BPW Club Linz-Wels":MAILTO:wels@bpw.at
END:VEVENT
BEGIN:VEVENT
DTSTART;TZID=Europe/Vienna:20191212T183000
DTEND;TZID=Europe/Vienna:20191212T233000
DTSTAMP:20260422T124227
CREATED:20191106T183950Z
LAST-MODIFIED:20191106T183950Z
UID:10000759-1576175400-1576193400@bpw.at
SUMMARY:Weihnachtsfeier und Generalversammlung
DESCRIPTION:Wir starten den Abend mit der Generalversammlung unseres Vereins und wählen unsere neue Präsidentin und den neuen Vorstand. Anschließend lassen wir gemeinsam das BPW-Jahr ausklingen und machen uns einen gemütlichen Abend bei einem weihnachtlichem Menü.
URL:https://bpw.at/event/weihnachtsfeier-und-generalversammlung/
LOCATION:Gasthof Fischer\, Welser Straße 14\, Marchtrenk\, 4614\, Österreich
CATEGORIES:Linz-Wels
ORGANIZER;CN="BPW Club Linz-Wels":MAILTO:wels@bpw.at
END:VEVENT
BEGIN:VEVENT
DTSTART;TZID=Europe/Vienna:20191112T183000
DTEND;TZID=Europe/Vienna:20191112T230000
DTSTAMP:20260422T124227
CREATED:20191013T165310Z
LAST-MODIFIED:20191013T165310Z
UID:10000646-1573583400-1573599600@bpw.at
SUMMARY:Clubabend – Kinoabend „Female Pleasure“.
DESCRIPTION:Gemeinsam sehen wir uns den Film „Female Pleasure“ an\, in dem die Regisseurin Barbara Miller dokumentiert\, wie fünf Frauen\, welche fünf verschiedenen Religionen angehören\, ihre Sexualität ausleben. \nAlle fünf Frauen eint\, dass sie sich gegen die Dämonisierung der weiblichen Sexualität und für sexuelle Selbstbestimmung von Frauen einsetzen.
URL:https://bpw.at/event/clubabend-kinoabend-female-pleasure/
LOCATION:Programmkino Wels\, Pollheimerstraße 17\, Wels\, Oberösterreich\, 4600\, Österreich
CATEGORIES:Linz-Wels
ORGANIZER;CN="BPW Club Linz-Wels":MAILTO:wels@bpw.at
END:VEVENT
BEGIN:VEVENT
DTSTART;TZID=Europe/Vienna:20191008T183000
DTEND;TZID=Europe/Vienna:20191008T223000
DTSTAMP:20260422T124227
CREATED:20190929T082733Z
LAST-MODIFIED:20190929T082733Z
UID:10000643-1570559400-1570573800@bpw.at
SUMMARY:SOCIAL MEDIA 4 BUSINESS
DESCRIPTION:Social Media ist ein fixer Bestandteil unseres täglichen Lebens geworden und auch aus moderner Unternehmenskommunikation nicht mehr wegzudenken. Mit dem Smartphone als ständigen Begleiter sind deine (potenziellen) Kunden fast 24/7 erreichbar. \nAber: welche Themen sind für Social Media interessant\, welche Posts werden gelesen? \nReferentin: Ingrid Rochelt\, FOOCUS MEHRWERT MARKETING\, (www.foocus.at) \n 
URL:https://bpw.at/event/social-media-4-business/
LOCATION:Parkhotel Stroissmüller\, Badstraße 2\, Bad Schallerbach\, Oberösterreich\, 4701\, Österreich
CATEGORIES:Linz-Wels
ORGANIZER;CN="BPW Club Linz-Wels":MAILTO:wels@bpw.at
END:VEVENT
END:VCALENDAR