BEGIN:VCALENDAR
VERSION:2.0
PRODID:-//Business and Professional Women Austria - ECPv6.15.20//NONSGML v1.0//EN
CALSCALE:GREGORIAN
METHOD:PUBLISH
X-ORIGINAL-URL:https://bpw.at
X-WR-CALDESC:Veranstaltungen für Business and Professional Women Austria
REFRESH-INTERVAL;VALUE=DURATION:PT1H
X-Robots-Tag:noindex
X-PUBLISHED-TTL:PT1H
BEGIN:VTIMEZONE
TZID:Europe/Vienna
BEGIN:DAYLIGHT
TZOFFSETFROM:+0100
TZOFFSETTO:+0200
TZNAME:CEST
DTSTART:20240331T010000
END:DAYLIGHT
BEGIN:STANDARD
TZOFFSETFROM:+0200
TZOFFSETTO:+0100
TZNAME:CET
DTSTART:20241027T010000
END:STANDARD
BEGIN:DAYLIGHT
TZOFFSETFROM:+0100
TZOFFSETTO:+0200
TZNAME:CEST
DTSTART:20250330T010000
END:DAYLIGHT
BEGIN:STANDARD
TZOFFSETFROM:+0200
TZOFFSETTO:+0100
TZNAME:CET
DTSTART:20251026T010000
END:STANDARD
BEGIN:DAYLIGHT
TZOFFSETFROM:+0100
TZOFFSETTO:+0200
TZNAME:CEST
DTSTART:20260329T010000
END:DAYLIGHT
BEGIN:STANDARD
TZOFFSETFROM:+0200
TZOFFSETTO:+0100
TZNAME:CET
DTSTART:20261025T010000
END:STANDARD
END:VTIMEZONE
BEGIN:VEVENT
DTSTART;TZID=Europe/Vienna:20251121T180000
DTEND;TZID=Europe/Vienna:20251121T180000
DTSTAMP:20260422T015559
CREATED:20251027T085957Z
LAST-MODIFIED:20251124T190834Z
UID:10001436-1763748000-1763748000@bpw.at
SUMMARY:BPW Vorarlberg besucht Abtei Mariastern-Gwiggen
DESCRIPTION:BPW Vorarlberg besucht Abtei Mariastern-Gwiggen\nOra et labora\nVom Beten und Arbeiten im Spirituellen\nSie ist bescheiden\, spricht bedacht von Aufgaben und Zielen und ist demokratisch gewählte Chefin. Äbtissin Maria Stella steht dem Kloster Maria Stern Gwiggen seit September vor und hat uns BPW-Damen für unseren letzten Clubabend des Jahres die Pforte geöffnet. \nEin ungewöhnlicher Clubabend mit spirituellem Mehrwert. Warum wir ein Kloster besuchen? Die Antwort ist einfach\, auch Kloster sind Unternehmen und wie viele Unternehmen gibt es im Ländle\, die Frauengeführt sind und nur aus weiblichen Mitgliedern bestehen? Wenig. \nDer erste Schnee fällt\, es ist klirrend kalt an diesem November Abend und Weihnachten klopft beim Betreten der Klosterkirche zaghaft an. Die Schwestern singen von der Empore. Die Vesper fühlt sich nach Meditation an und lässt uns zur Ruhe kommen\, bevor wir durchs Haus geführt werden. \n15 Schwestern leben und arbeiten hier am Waldrand mitten in der Natur. Idyllisch ist es vor allem im Sommer\, wenn der Klostergarten so grün ist wie der Kräuterlikör\, der im hauseigenen Laden verkauft wird. Es könnten mehr Schwestern sein\, merkt die ehrwürdige Mutter wehmütig an\, aber es bestehe Hoffnung\, denn eine junge Frau entscheide in den nächsten Tagen\, ob sie Mitschwester werde. Das würde helfen. \nHeute im 21. Jahrhundert gilt das Ordensmotto mehr als in der Geschichte der Gemeinschaft. Durch ihrer Hände Arbeit erwirtschaften die Schwestern ihr einfaches Leben. Mehr als ihr manchmal lieb ist\, hat die Äbtissin aber auch mit wirtschaftlichen und rechtlichen Belangen zu tun. Aber der eigentliche Chef\, Gott\, weise den Weg. \nNach der Führung kommen wir durchgefroren im Gemeinschaftsraum an. Eine Kerze wird angezündet und was die Schwestern aus ihrem Leben erzählen\, ist nicht viel anders als wir es in unseren Familien und Jobs erleben. Wir empfinden Verbundenheit. Allerdings spüren wir auch den Mehrwert\, die Stille und die Tiefe\, die mitschwingt in jeder Antwort. Etwas\, was uns in unserem zum Teil hektischen Alltag abhandengekommen ist. Man sinniert darüber\, hier einmal Gast zu sein\, denn mit den Schwestern kann gemalt\, geschwiegen oder gefastet werden. Das Programm ist vielfältig. \nZum Abschluss stellt unsere Präsidentin\, Ursula Hillbrand\, eine Frage mit Perspektive. Was ist es\, was man uns auf den Weg mitgeben möchte? \nWieder eine einfache Antwort\, die berührt. Äbtissin Maria Stella wünscht uns\, dass das Feuer ihrer Gemeinschaft uns an kalten Tagen wärmt. \n\n		\n		\n			\n				\n			\n			\n				\n			\n			\n				\n			\n			\n				\n			\n			\n				\n			\n			\n				\n			\n			\n				\n			\n			\n				\n			\n			\n				\n			\n			\n				\n			\n			\n				\n			\n			\n				\n			\n			\n				\n			\n			\n				\n			\n			\n				\n			\n			\n				\n			\n			\n				\n			\n			\n		\n\nFotos: BPW Club Vorarlberg/Christine Schwarz-Fuchs\, Becky Moser\, Ursula Hillbrand\, Tetiana Fedorova
URL:https://bpw.at/event/vbg-clubabend-nov-2025/
LOCATION:Abtei Mariastern-Gwiggen\, Gwiggen 1\, Hohenweiler\, 6914
CATEGORIES:Vorarlberg,Vorarlberg Impressionen und Berichte
ATTACH;FMTTYPE=image/jpeg:https://bpw.at/wp/wp-content/uploads/2025/10/signal-2025-11-22-13-25-17-831.jpg
ORGANIZER;CN="BPW Club Vorarlberg":MAILTO:vorarlberg@bpw.at
END:VEVENT
END:VCALENDAR