BEGIN:VCALENDAR
VERSION:2.0
PRODID:-//Business and Professional Women Austria - ECPv6.15.20//NONSGML v1.0//EN
CALSCALE:GREGORIAN
METHOD:PUBLISH
X-WR-CALNAME:Business and Professional Women Austria
X-ORIGINAL-URL:https://bpw.at
X-WR-CALDESC:Veranstaltungen für Business and Professional Women Austria
REFRESH-INTERVAL;VALUE=DURATION:PT1H
X-Robots-Tag:noindex
X-PUBLISHED-TTL:PT1H
BEGIN:VTIMEZONE
TZID:Europe/Vienna
BEGIN:DAYLIGHT
TZOFFSETFROM:+0100
TZOFFSETTO:+0200
TZNAME:CEST
DTSTART:20180325T010000
END:DAYLIGHT
BEGIN:STANDARD
TZOFFSETFROM:+0200
TZOFFSETTO:+0100
TZNAME:CET
DTSTART:20181028T010000
END:STANDARD
BEGIN:DAYLIGHT
TZOFFSETFROM:+0100
TZOFFSETTO:+0200
TZNAME:CEST
DTSTART:20190331T010000
END:DAYLIGHT
BEGIN:STANDARD
TZOFFSETFROM:+0200
TZOFFSETTO:+0100
TZNAME:CET
DTSTART:20191027T010000
END:STANDARD
BEGIN:DAYLIGHT
TZOFFSETFROM:+0100
TZOFFSETTO:+0200
TZNAME:CEST
DTSTART:20200329T010000
END:DAYLIGHT
BEGIN:STANDARD
TZOFFSETFROM:+0200
TZOFFSETTO:+0100
TZNAME:CET
DTSTART:20201025T010000
END:STANDARD
BEGIN:DAYLIGHT
TZOFFSETFROM:+0100
TZOFFSETTO:+0200
TZNAME:CEST
DTSTART:20210328T010000
END:DAYLIGHT
BEGIN:STANDARD
TZOFFSETFROM:+0200
TZOFFSETTO:+0100
TZNAME:CET
DTSTART:20211031T010000
END:STANDARD
BEGIN:DAYLIGHT
TZOFFSETFROM:+0100
TZOFFSETTO:+0200
TZNAME:CEST
DTSTART:20220327T010000
END:DAYLIGHT
BEGIN:STANDARD
TZOFFSETFROM:+0200
TZOFFSETTO:+0100
TZNAME:CET
DTSTART:20221030T010000
END:STANDARD
END:VTIMEZONE
BEGIN:VEVENT
DTSTART;TZID=Europe/Vienna:20210722T180000
DTEND;TZID=Europe/Vienna:20210722T203000
DTSTAMP:20260419T233809
CREATED:20210203T084052Z
LAST-MODIFIED:20210510T214358Z
UID:10000914-1626976800-1626985800@bpw.at
SUMMARY:BPW VC Special
DESCRIPTION:Ein Zusammenkommen im Freien (in Planung)
URL:https://bpw.at/event/bpw-vc-special/
LOCATION:Burggarten beim Palmenhaus\, Wien
CATEGORIES:Vienna Cosmopolitan
END:VEVENT
BEGIN:VEVENT
DTSTART;TZID=Europe/Vienna:20200730T180000
DTEND;TZID=Europe/Vienna:20200730T210000
DTSTAMP:20260419T233809
CREATED:20200120T113730Z
LAST-MODIFIED:20200723T153220Z
UID:10000798-1596132000-1596142800@bpw.at
SUMMARY:Vienna Cosmopolitan Sommerprogramm
DESCRIPTION:Picknick im Burggarten beim Palmenhaus \nUnser traditionelles Picknick findet am 30.07.2020 ab 18 Uhr\, beim Palmenhaus statt.\nJede bringt bitte für sich selbst eine Decke und etwas zum Essen und Trinken mit.\nWir freuen uns auf eine rege Teilnahme beim Austauschen von Gedanken und Erfahrungen … \nAnmeldung bitte an: cosmopolitan@bpw.at  \nBei schlechtem Wetter entfällt die Veranstaltung.\nAnfragen an Doris Brazda\, Tel. 0664 73437998
URL:https://bpw.at/event/vienna-cosmopolitan-clubabend-2/
LOCATION:Burggarten beim Palmenhaus\, Wien
CATEGORIES:Vienna Cosmopolitan
END:VEVENT
BEGIN:VEVENT
DTSTART;TZID=Europe/Vienna:20190725T180000
DTEND;TZID=Europe/Vienna:20190725T210000
DTSTAMP:20260419T233809
CREATED:20190705T173059Z
LAST-MODIFIED:20190705T173059Z
UID:10000729-1564077600-1564088400@bpw.at
SUMMARY:Picknick im Burggarten
DESCRIPTION:Wir treffen einander zum Picknick am Do\, 25. Juli ab 18:00 beim Palmenhaus.\nJede bringt für sich und die Anderen etwas zum “Tauschen und Teilen” mit. \nAnmeldung bitte an: cosmopolitan@bpw.at \nBei Schlechtwetter Tischreservierung im Palmenhaus.\nAnfragen an Doris Brazda\, Tel. 0664 73437998 \nWir freuen uns auf zahlreiches Erscheinen. \nMargarete\, Doris\, Elisabeth und Patrizia\nVorstand BPW Vienna Cosmopolitan \n  \n  \n 
URL:https://bpw.at/event/picknick-im-burggarten/
LOCATION:Burggarten beim Palmenhaus\, Wien
CATEGORIES:Vienna Cosmopolitan
ORGANIZER;CN="BPW Club Vienna Cosmopolitan":MAILTO:cosmopolitan@bpw.at
END:VEVENT
END:VCALENDAR