BEGIN:VCALENDAR
VERSION:2.0
PRODID:-//Business and Professional Women Austria - ECPv6.15.20//NONSGML v1.0//EN
CALSCALE:GREGORIAN
METHOD:PUBLISH
X-WR-CALNAME:Business and Professional Women Austria
X-ORIGINAL-URL:https://bpw.at
X-WR-CALDESC:Veranstaltungen für Business and Professional Women Austria
REFRESH-INTERVAL;VALUE=DURATION:PT1H
X-Robots-Tag:noindex
X-PUBLISHED-TTL:PT1H
BEGIN:VTIMEZONE
TZID:Europe/Vienna
BEGIN:DAYLIGHT
TZOFFSETFROM:+0100
TZOFFSETTO:+0200
TZNAME:CEST
DTSTART:20200329T010000
END:DAYLIGHT
BEGIN:STANDARD
TZOFFSETFROM:+0200
TZOFFSETTO:+0100
TZNAME:CET
DTSTART:20201025T010000
END:STANDARD
BEGIN:DAYLIGHT
TZOFFSETFROM:+0100
TZOFFSETTO:+0200
TZNAME:CEST
DTSTART:20210328T010000
END:DAYLIGHT
BEGIN:STANDARD
TZOFFSETFROM:+0200
TZOFFSETTO:+0100
TZNAME:CET
DTSTART:20211031T010000
END:STANDARD
BEGIN:DAYLIGHT
TZOFFSETFROM:+0100
TZOFFSETTO:+0200
TZNAME:CEST
DTSTART:20220327T010000
END:DAYLIGHT
BEGIN:STANDARD
TZOFFSETFROM:+0200
TZOFFSETTO:+0100
TZNAME:CET
DTSTART:20221030T010000
END:STANDARD
END:VTIMEZONE
BEGIN:VTIMEZONE
TZID:Europe/Berlin
BEGIN:DAYLIGHT
TZOFFSETFROM:+0100
TZOFFSETTO:+0200
TZNAME:CEST
DTSTART:20200329T010000
END:DAYLIGHT
BEGIN:STANDARD
TZOFFSETFROM:+0200
TZOFFSETTO:+0100
TZNAME:CET
DTSTART:20201025T010000
END:STANDARD
BEGIN:DAYLIGHT
TZOFFSETFROM:+0100
TZOFFSETTO:+0200
TZNAME:CEST
DTSTART:20210328T010000
END:DAYLIGHT
BEGIN:STANDARD
TZOFFSETFROM:+0200
TZOFFSETTO:+0100
TZNAME:CET
DTSTART:20211031T010000
END:STANDARD
BEGIN:DAYLIGHT
TZOFFSETFROM:+0100
TZOFFSETTO:+0200
TZNAME:CEST
DTSTART:20220327T010000
END:DAYLIGHT
BEGIN:STANDARD
TZOFFSETFROM:+0200
TZOFFSETTO:+0100
TZNAME:CET
DTSTART:20221030T010000
END:STANDARD
END:VTIMEZONE
BEGIN:VEVENT
DTSTART;TZID=Europe/Vienna:20211014T190000
DTEND;TZID=Europe/Vienna:20211014T220000
DTSTAMP:20260421T182939
CREATED:20210302T200518Z
LAST-MODIFIED:20210921T213502Z
UID:10000781-1634238000-1634248800@bpw.at
SUMMARY:Clubabend Wels-Hausruck: Interkulturelle Kompetenz als Schlüsselfaktor in einer globalisierten Welt
DESCRIPTION:Ein interaktiver Vortrag zum Thema Internationalität/Internationalisierung mit unsere Clubkollegin Kathrin Neunteufel-Steyer erwartet uns! \n  \nInterkulturelle Kompetenz als Schlüsselfaktor in einer globalisierten Welt \nWir alle wissen\, dass die Globalisierung weiter voranschreitet und daher die Zusammenarbeit mit anderen Kulturen längst zu unserem Alltag gehört. Trotzdem ist vielen Firmen noch immer nicht bewusst\, welche entscheidende Rolle der Faktor interkulturelle Kompetenz in internationalen Geschäftsaktivitäten spielt. \nKathrin Neunteufel-Steyer teilt ihre eigenen Erfahrungen im interkulturellen Management in Asien und Europa und ermöglicht interaktive Einblicke und neue Erkenntnisse in dieses spannende Feld. \n  \nKurzprofil Kathrin Neunteufel-Steyer  \nKathrin Neunteufel-Steyer ist Gründerin von CultureBEYOND und berät Unternehmen bei internationalen Geschäftsaktivitäten mit Schwerpunkt Asien. Zuvor war sie in leitenden Positionen in der Unternehmensberatung mit Schwerpunkt Future Mobility tätig. Ihr Beratungsfokus lag auf Strategiethemen im internationalen Kontext sowie Business Development und Markteintritt in Asien. Sie leitete das China-Geschäft und den China-Desk. \nKathrin Neunteufel-Steyer hält einen Master in Asian Politics der School of Oriental and African Studies\, University of London und einen Diplom-Abschluss  in internationalem Management und Chinesisch der Hochschule Konstanz. Sie unterrichtet “interkulturelle Kompetenz” und “Management in China” an verschiedenen Hochschulen in Deutschland und Österreich. \n  \nAnmeldung gerne ab sofort an wels@bpw.at
URL:https://bpw.at/event/clubabend-wels-hausruck-interkulturelle-kompetenz-als-schluesselfaktor-in-einer-globalisierten-welt/
LOCATION:francis\, Maria Theresia Straße 51\, Wels\, Oberösterreich\, 4600\, Österreich
CATEGORIES:Linz-Wels
END:VEVENT
BEGIN:VEVENT
DTSTART;TZID=Europe/Berlin:20210929T190000
DTEND;TZID=Europe/Berlin:20210929T220000
DTSTAMP:20260421T182939
CREATED:20210302T201805Z
LAST-MODIFIED:20210302T201805Z
UID:10000928-1632942000-1632952800@bpw.at
SUMMARY:"Working Mum Talk" Wels-Hausruck
DESCRIPTION:Detaillierte Infos folgen! \nAnmeldung gerne an wels@bpw.at \n 
URL:https://bpw.at/event/working-mum-talk-wels-hausruck-2/
LOCATION:francis\, Maria Theresia Straße 51\, Wels\, Oberösterreich\, 4600\, Österreich
CATEGORIES:Linz-Wels
END:VEVENT
BEGIN:VEVENT
DTSTART;TZID=Europe/Vienna:20210929T190000
DTEND;TZID=Europe/Vienna:20210929T210000
DTSTAMP:20260421T182939
CREATED:20210921T214222Z
LAST-MODIFIED:20210921T214247Z
UID:10000957-1632942000-1632949200@bpw.at
SUMMARY:Wels-Hausruck: Working Mum Talk
DESCRIPTION:„Working Mum Talk“ \n Wir wollen uns drei Themen\, die (vor allem) Mamas betreffen\, vornehmen: \n\n„Mental Load“: wie kann dieser gut bewältigt werden?\nAktive Begleitung bei der Freizeitgestaltung unserer Kinder: was lässt sich mit den Berufstätigkeiten von Mama&Papa realistisch umsetzen?\nBetreuungsmöglichkeiten von (Schul-)Kindern: Welche Alternativen gibt es zu Hort & Co?\n\nWir möchten einen Austausch über die eigenen praktischen Lösungen machen und gemeinsam in einem Brainstorming Ideen für die Lösung dieser Themen sammeln. Unser Ziel ist\, eine Hand voll Ideen zu haben\, die jede für sich umsetzen kann und/oder bei denen wir gemeinsam Schritte für eine Umsetzung machen können. \nAnmeldung gerne an wels@bpw.at
URL:https://bpw.at/event/wels-hausruck-working-mum-talk/
LOCATION:francis\, Maria Theresia Straße 51\, Wels\, Oberösterreich\, 4600\, Österreich
CATEGORIES:Linz-Wels
ORGANIZER;CN="BPW Club Linz-Wels":MAILTO:wels@bpw.at
END:VEVENT
BEGIN:VEVENT
DTSTART;TZID=Europe/Vienna:20210914T190000
DTEND;TZID=Europe/Vienna:20210914T220000
DTSTAMP:20260421T182939
CREATED:20210302T200250Z
LAST-MODIFIED:20210901T233651Z
UID:10000779-1631646000-1631656800@bpw.at
SUMMARY:Clubabend Wels-Hausruck: “Blickwinkel zu „Frauen in der Technik - 3 Frauen berichten aus ihren Rollen in Projektleitung – Einkauf – HR”
DESCRIPTION:„Blickwinkel zu „Frauen in der Technik“:\n3 Frauen berichten aus ihren Rollen in Projektleitung – Einkauf – HR“ \n  \nUnser September-Clubabend widmet sich dem Thema Frauen& Technik:\nWelche historische Entwicklung erfolgte in den letzten 200 Jahren? Wie gestalten sich Arbeitsumfeld und Rahmenbedingungen heute\, was ist die betriebliche Realität in puncto „equal“ und „equal pay“? Welche Auswirkungen hat das „Abwandern“ von Frauen in technische Berufe auf die Gesamtgesellschaft? Und warum ist es der Technik bloß so viel wert\, Frauen für sich zu begeistern? Finden persönliche Talente aller noch genug Beachtung – bei Frauen wie auch Männern? \nDie Blickwinkel von drei Clubfrauen mit unterschiedlichen Positionen in technischen Unternehmen geben den Rahmen für eine anregende Diskussion. \nDienstag\, 14. September 2021\, um 19:00 Uhr\, 18:30 Uhr Come together im Francis\, Wels \nWO: Francis\, Maria-Theresia-Straße 5\, 4600 Wels\, https://www.francis-wels.at/ \nBitte beachte die aktuell gültigen Corona-Regelungen „3G“ \nWir starten um 19 Uhr mit dem Clubabend und netzwerken anschließend bei einem gemeinsamen Abendessen weiter \nGäste/Interessent*innen sind herzlich Willkommen! \n  \nMitglieder bitte um ABMELDUNG\, Gäste bitte um Anmeldung bis spätestens 12. September 2021 an wels@bpw.at \nWir freuen uns auf DEIN Kommen!Einladung Clubabend__2021-09
URL:https://bpw.at/event/clubabend-wels-hausruck-frauen-in-die-technik-definiere-technik/
LOCATION:francis\, Maria Theresia Straße 51\, Wels\, Oberösterreich\, 4600\, Österreich
CATEGORIES:Linz-Wels
END:VEVENT
BEGIN:VEVENT
DTSTART;TZID=Europe/Vienna:20210819T190000
DTEND;TZID=Europe/Vienna:20210819T220000
DTSTAMP:20260421T182939
CREATED:20210302T195634Z
LAST-MODIFIED:20210302T195652Z
UID:10000777-1629399600-1629410400@bpw.at
SUMMARY:Wels-Hausruck "After-Work-Drink"
DESCRIPTION:Netzwerken\, kennenlernen\, wiedertreffen – wer da ist\, ist da! Wir freuen uns auf alle\, die vorbei schauen! \nWir treffen uns um 19:00 Uhr! \nAnmeldung gerne an wels@bpw.at
URL:https://bpw.at/event/wels-hausruck-after-work-drink-2/
LOCATION:francis\, Maria Theresia Straße 51\, Wels\, Oberösterreich\, 4600\, Österreich
CATEGORIES:Linz-Wels
END:VEVENT
BEGIN:VEVENT
DTSTART;TZID=Europe/Vienna:20210722T190000
DTEND;TZID=Europe/Vienna:20210722T220000
DTSTAMP:20260421T182939
CREATED:20210302T195535Z
LAST-MODIFIED:20210302T195826Z
UID:10000775-1626980400-1626991200@bpw.at
SUMMARY:Wels-Hausruck "After-Work-Drink"
DESCRIPTION:Netzwerken\, kennenlernen\, wiedertreffen – wer da ist\, ist da! Wir freuen uns auf alle\, die vorbei schauen! \nWir treffen uns um 19:00 Uhr! \nAnmeldung gerne an wels@bpw.at
URL:https://bpw.at/event/wels-hausruck-after-work-drink/
LOCATION:francis\, Maria Theresia Straße 51\, Wels\, Oberösterreich\, 4600\, Österreich
END:VEVENT
END:VCALENDAR