BEGIN:VCALENDAR
VERSION:2.0
PRODID:-//Business and Professional Women Austria - ECPv6.15.20//NONSGML v1.0//EN
CALSCALE:GREGORIAN
METHOD:PUBLISH
X-ORIGINAL-URL:https://bpw.at
X-WR-CALDESC:Veranstaltungen für Business and Professional Women Austria
REFRESH-INTERVAL;VALUE=DURATION:PT1H
X-Robots-Tag:noindex
X-PUBLISHED-TTL:PT1H
BEGIN:VTIMEZONE
TZID:Europe/Vienna
BEGIN:DAYLIGHT
TZOFFSETFROM:+0100
TZOFFSETTO:+0200
TZNAME:CEST
DTSTART:20210328T010000
END:DAYLIGHT
BEGIN:STANDARD
TZOFFSETFROM:+0200
TZOFFSETTO:+0100
TZNAME:CET
DTSTART:20211031T010000
END:STANDARD
BEGIN:DAYLIGHT
TZOFFSETFROM:+0100
TZOFFSETTO:+0200
TZNAME:CEST
DTSTART:20220327T010000
END:DAYLIGHT
BEGIN:STANDARD
TZOFFSETFROM:+0200
TZOFFSETTO:+0100
TZNAME:CET
DTSTART:20221030T010000
END:STANDARD
BEGIN:DAYLIGHT
TZOFFSETFROM:+0100
TZOFFSETTO:+0200
TZNAME:CEST
DTSTART:20230326T010000
END:DAYLIGHT
BEGIN:STANDARD
TZOFFSETFROM:+0200
TZOFFSETTO:+0100
TZNAME:CET
DTSTART:20231029T010000
END:STANDARD
BEGIN:DAYLIGHT
TZOFFSETFROM:+0100
TZOFFSETTO:+0200
TZNAME:CEST
DTSTART:20240331T010000
END:DAYLIGHT
BEGIN:STANDARD
TZOFFSETFROM:+0200
TZOFFSETTO:+0100
TZNAME:CET
DTSTART:20241027T010000
END:STANDARD
BEGIN:DAYLIGHT
TZOFFSETFROM:+0100
TZOFFSETTO:+0200
TZNAME:CEST
DTSTART:20250330T010000
END:DAYLIGHT
BEGIN:STANDARD
TZOFFSETFROM:+0200
TZOFFSETTO:+0100
TZNAME:CET
DTSTART:20251026T010000
END:STANDARD
BEGIN:DAYLIGHT
TZOFFSETFROM:+0100
TZOFFSETTO:+0200
TZNAME:CEST
DTSTART:20260329T010000
END:DAYLIGHT
BEGIN:STANDARD
TZOFFSETFROM:+0200
TZOFFSETTO:+0100
TZNAME:CET
DTSTART:20261025T010000
END:STANDARD
BEGIN:DAYLIGHT
TZOFFSETFROM:+0100
TZOFFSETTO:+0200
TZNAME:CEST
DTSTART:20270328T010000
END:DAYLIGHT
BEGIN:STANDARD
TZOFFSETFROM:+0200
TZOFFSETTO:+0100
TZNAME:CET
DTSTART:20271031T010000
END:STANDARD
END:VTIMEZONE
BEGIN:VEVENT
DTSTART;TZID=Europe/Vienna:20260122T190000
DTEND;TZID=Europe/Vienna:20260122T220000
DTSTAMP:20260423T124352
CREATED:20251122T044012Z
LAST-MODIFIED:20260118T060719Z
UID:10001462-1769108400-1769119200@bpw.at
SUMMARY:BPW Linz-Wels: "Rabenmutter neu denken" Projektion&Würde\, Mythos&Kultur
DESCRIPTION:„Rabenmutter neu denken: zwischen Projektion und Würde. Mutterschaft zwischen Mythos und Kultur” \nWas macht das Bild der „Rabenmutter“ mit uns – und warum ist es so wirkmächtig? \nIn unserer Gesellschaft gilt sie als abschreckendes Beispiel: eine Frau\, die nicht genügt\, die zu viel arbeitet\, ihre eigenen Bedürfnisse wahrnimmt\, die ihren Kindern angeblich nicht gerecht wird. Doch was steckt wirklich hinter diesem Wort? \n  \nDer Rabe – in Natur und Mythologie – steht für Fürsorge\, Weisheit und Verbundenheit. In meinem Vortrag spanne ich den Bogen von der abwertenden Zuschreibung zur symbolischen Kraftfigur. Ich zeige\, wie wir Sprache und Bilder zurückerobern können – und warum es gerade heute wichtig ist\, Mutterschaft\, Care-Arbeit und Weiblichkeit neu zu denken. \nEin Impuls für Frauen\, die ihre eigene Geschichte zurückholen – und ihre Stärke darin finden. \n  \n \nMein Name ist Gisela Rahberger. Ich bin gelernte Hauswirtschafterin\, Coachin für Familienunterstützung und als Unternehmerin im sozialen Bereich tätig. Als alleinerziehende Mutter kenne ich die Herausforderungen von Care-Arbeit und Vereinbarkeit aus eigener Erfahrung – und bringe diese Perspektive in meine Arbeit und meine Vorträge ein. \nMich begeistert es\, patriarchale Zuschreibungen kritisch zu hinterfragen und weibliche Stärke neu sichtbar zu machen. Symbole wie der Rabe\, der in unserer Kultur oft abgewertet wird\, sehe ich als kraftvolle Bilder für Fürsorge\, Weisheit und Autonomie. Mit meinen Impulsen möchte ich Frauen ermutigen\, ihre eigenen Geschichten zurückzuerobern und ihre Rollen jenseits enger Erwartungen neu zu gestalten. \nFoto: Gisela Rahberger \nTitelbild: Canva AI \n  \nDu kannst dich ab sofort zur Veranstaltung anmelden – die (verbindliche) Anmeldung findest du unten! \nDer Eintritt für Clubmitglieder ist im Clubbeitrag inkludiert. Für Interessent:innen gilt: Zahle\, was es dir Wert ist! \n  \nBei der Veranstaltung gibt es die Möglichkeit\, aus der exzellenten Speisekarte des Hotel Alexandra/Bayrischer Hof zu wählen und gemeinsam zu essen. \n  \n  \nDiese Veranstaltung richtet sich an: junge Frauen\, BPW Young Professionals\, BPW-Mitglieder und an alle Interessierte. Sie ist Teil des Projekts “BPW Young Professionals” und wird mit freundlicher Unterstützung des Frauenreferates des Landes OÖ durchgeführt.
URL:https://bpw.at/event/bpw-linz-wels-safe-the-date-gisela-rahberger-rabenmutter-neu-denken-mutterschaft-zwischen-mythos-und-kultur/
LOCATION:Hotel Alexandra\, Dr. Schauer-Str. 41\, Wels\, Oberösterreich\, 4600\, Österreich
CATEGORIES:Linz-Wels
ATTACH;FMTTYPE=image/jpeg:https://bpw.at/wp/wp-content/uploads/2025/11/Rabe-und-Mutter-bpw-by-canvas-AI.jpeg
ORGANIZER;CN="BPW Club Linz-Wels":MAILTO:wels@bpw.at
END:VEVENT
BEGIN:VEVENT
DTSTART;TZID=Europe/Vienna:20250924T190000
DTEND;TZID=Europe/Vienna:20250924T220000
DTSTAMP:20260423T124352
CREATED:20250119T104954Z
LAST-MODIFIED:20250814T075706Z
UID:10001361-1758740400-1758751200@bpw.at
SUMMARY:BPW Linz-Wels: We can play - Frauen die die Welt veränderten
DESCRIPTION:🌟 BPW Netzwerkabend: Spielend inspirierende Frauen entdecken! 🌟 \n  \nLust auf einen Abend voller Inspiration\, Lachen und guter Gespräche? \nBeim nächsten BPW-Networking-Event spielen wir u.a. „We Can Play“ – das Kartenspiel\, bei dem starke Frauen der Geschichte im Mittelpunkt stehen. \n  \nWährend wir uns kennenlernen und austauschen\, entdecken wir mutige Pionierinnen\, beeindruckende Lebenswege und spannende historische Ereignisse – verpackt in ein dynamisches\, strategisches Spiel\, das jede Menge Spaß verspricht. \n  \nOb du gewinnen oder einfach nur eine gute Zeit haben möchtest – dieser Abend ist die perfekte Gelegenheit\, um neue Kontakte zu knüpfen\, dich inspirieren zu lassen und BPW kennenzulernen. \n  \nSei dabei – und spiel dich durch die Geschichte!
URL:https://bpw.at/event/safe-the-date-bpw-linz-wels-we-can-play-frauen-die-die-welt-veraenderten/
LOCATION:Hotel Alexandra\, Dr. Schauer-Str. 41\, Wels\, Oberösterreich\, 4600\, Österreich
CATEGORIES:Linz-Wels
ATTACH;FMTTYPE=image/jpeg:https://bpw.at/wp/wp-content/uploads/2025/01/linkedin-sales-solutions-IjkIOe-2fF4-unsplash-scaled.jpg
ORGANIZER;CN="BPW Club Linz-Wels":MAILTO:wels@bpw.at
END:VEVENT
BEGIN:VEVENT
DTSTART;TZID=Europe/Vienna:20250507T183000
DTEND;TZID=Europe/Vienna:20250507T220000
DTSTAMP:20260423T124352
CREATED:20240913T081010Z
LAST-MODIFIED:20250504T190902Z
UID:10001319-1746642600-1746655200@bpw.at
SUMMARY:BPW Linz-Wels: WORKSHOP „Allen alles recht gemacht!?! Raus aus dem Stress!“
DESCRIPTION:Für den Chef noch schnell die Präsentation fertig machen\,  \ndas jüngere Kind vom Kindergarten abholen\,  \nmit dem größeren Kind Hausaufgaben machen  \nund die Fenster gehören auch endlich geputzt… \nAll das kann sich nicht perfekt und in Harmonie ausgehen. Übrigens musst du das alles nicht alleine machen. \nWas dich antreibt\, \nwarum du vielleicht bei einigen Punkten übertreibst und \nwie du das ändern kannst\, das erarbeitest du in diesem Workshop. \n  \nInhalte des Workshops: \n\nStressmuster erkennen\nVeränderungsmöglichkeiten kennenlernen\nnach Hause gehen mit deiner persönlichen Gebrauchsanweisung\n\n  \nLeitung des Workshops: Mag.a Cornelia Pessenlehner \nwww.corneliapessenlehner.at \nCornelia hat ihre eigene Erfahrung mit der Unvereinbarkeit von Familie und Karriere\, die mit 40 Jahren in einem Burnout endete. Diese Krise betrachtet sie im Nachhinein als Geschenk. Führte sie sie doch zu ihrem Herzensthema\, der Prävention. Cornelia hält Seminare zur Burnout Prävention in Firmen\, denen ihre Mitarbeitenden das wert sind. Außerdem leitet sie Ayurveda Kochworkshops als Teamevents in Wels und Linz. \n  \nWir treffen uns ab 18:30 zum Netzwerken. Der Workshop startet um 19:00. Anschließend leiten wir zum gemeinsamen Abendessen und gemütlicher Unterhaltung über. \nWir freuen uns auf augenöffnende Aha-Erlebnisse mit hilfreiche Impulse von unserer Clubkollegin Cornelia und auf dich! \nFür Clubmitglieder ist die Veranstaltung kostenfrei. Gäste zahlen (bar vorort oder Überweisung nach der Veranstaltung)\, was es ihnen Wert ist. \nTitelfoto: shutterstock \nProfilbild: Isabella Schmidbauer \n 
URL:https://bpw.at/event/bpw-linz-wels-clubabend/
LOCATION:Hotel Alexandra\, Dr. Schauer-Str. 41\, Wels\, Oberösterreich\, 4600\, Österreich
CATEGORIES:Linz-Wels
ATTACH;FMTTYPE=image/jpeg:https://bpw.at/wp/wp-content/uploads/2024/09/Titelbild-gross-scaled.jpg
END:VEVENT
BEGIN:VEVENT
DTSTART;TZID=Europe/Vienna:20250116T190000
DTEND;TZID=Europe/Vienna:20250116T220000
DTSTAMP:20260423T124352
CREATED:20240824T082601Z
LAST-MODIFIED:20241217T103645Z
UID:10001314-1737054000-1737064800@bpw.at
SUMMARY:BPW Linz-Wels: Neujahrsempfang
DESCRIPTION:Liebe Mitglieder und Freundinnen des BPW Linz-Wels\, \nwir möchten dich ganz herzlich zu unserem festlichen Neujahrsempfang einladen. Lass uns gemeinsam auf ein Jahr voller Höhepunkte zurückblicken und unsere wunderbare Gemeinschaft feiern. \nDatum: 16. Januar 2025\nUhrzeit: 19:00 – 22:00 Uhr\nOrt: Hotel Alexandra\, Dr. Schauer-Str. 41\, Wels\, Oberösterreich\, Österreich \nUnter dem Motto „Ich brauche – ich gebe“ hast du die Möglichkeit\, nach vorheriger Anmeldung\, einen 15-minütigen Slot zu nutzen\, um deine Wünsche oder Produkte vorzustellen. Nutze diese Gelegenheit\, um deine Ideen und Projekte zu teilen. \nWir freuen uns auf einen Abend voller inspirierender Gespräche\, wertvoller Verbindungen und gemeinsamer Freude. Es wird eine wunderbare Gelegenheit sein\, alte Freundschaften zu pflegen und neue zu knüpfen. \nBitte bestätige deine Teilnahme bis zum 10. Januar 2025 und melde dich wie gewohnt auf unserer Homepage an. \nMit festlichen Grüßen und voller Vorfreude\,\nDein BPW Linz-Wels Team \n—- \nAlles Liebe und bis bald\,\nYvonne
URL:https://bpw.at/event/bpw-linz-wels-neujahrsempfang/
LOCATION:Hotel Alexandra\, Dr. Schauer-Str. 41\, Wels\, Oberösterreich\, 4600\, Österreich
CATEGORIES:Linz-Wels
ATTACH;FMTTYPE=image/jpeg:https://bpw.at/wp/wp-content/uploads/2021/03/Banner_Blumen.jpg
END:VEVENT
BEGIN:VEVENT
DTSTART;TZID=Europe/Vienna:20240703T190000
DTEND;TZID=Europe/Vienna:20240703T220000
DTSTAMP:20260423T124352
CREATED:20240522T204611Z
LAST-MODIFIED:20240613T180840Z
UID:10001270-1720033200-1720044000@bpw.at
SUMMARY:BPW Linz-Wels: MISS ERFOLG
DESCRIPTION:Was wäre\, wenn ausgerechnet im Scheitern mein Potenzial steckt? \nWas wäre\, wenn Misserfolg in Wahrheit meine größte Stärke ist? \nBrauche ich dann noch Angst vom Versagen haben? \n  \nWir laden Dich herzlich zur “Miss Erfolg”-Veranstaltung ein. An diesem Abend wollen wir gemeinsam über unsere Misserfolge sprechen\, von ihnen lernen und neue Perspektiven gewinnen. \n  \n \n19:00 Uhr: Begrüßung und Einführung \n19:30 Uhr: Geschichten von euch über persönlichen Rückschläge und wie ihr damit umgegangen seid. Vom Misserfolg zu Miss Erfolg 😉 \n20:30 Uhr: Offene Diskussionsrunde mit unserer Moderatorin Dr.in Margit Bergmair-Ambach\, Entwicklungsberaterin aus Bad Goisern. \nAnschließend gemeinsames Abendessen und Austausch. \n  \n  \nVerhaltensregeln:\n1. Offenheit und Ehrlichkeit: Wir schaffen eine vertrauensvolle Atmosphäre\, in der wir ohne Scheu über unsere Misserfolge sprechen können.\n2. Respekt und Empathie: Jede hat unterschiedliche Erfahrungen gemacht. Wir hören aufmerksam zu und respektieren die Gefühle anderer.\n3. Positiver Fokus: Wir konzentrieren uns auf das Lernen aus Fehlern und die Chancen\, die sich daraus ergeben.\n4. Vertraulichkeit: Was in der “Miss Erfolg”-Veranstaltung besprochen wird\, bleibt unter uns. Der Abend ist nur für BPW Mitgliedsdamen. \n  \nDu hast dich aus einer Krise herausentwickelt und möchtest uns davon erzählen? Dann trete bitte bis 22. Juni mit Yvonne Obermayr in Kontakt.
URL:https://bpw.at/event/bpw-linz-wels-miss-erfolg/
LOCATION:Hotel Alexandra\, Dr. Schauer-Str. 41\, Wels\, Oberösterreich\, 4600\, Österreich
CATEGORIES:Linz-Wels
ATTACH;FMTTYPE=image/jpeg:https://bpw.at/wp/wp-content/uploads/2024/05/inspiration-1514296_1280.jpg
END:VEVENT
BEGIN:VEVENT
DTSTART;TZID=Europe/Vienna:20240321T190000
DTEND;TZID=Europe/Vienna:20240321T220000
DTSTAMP:20260423T124352
CREATED:20240117T192934Z
LAST-MODIFIED:20240214T183111Z
UID:10001201-1711047600-1711058400@bpw.at
SUMMARY:Frauen und Finanzen - Der Aha-Effekt oder das Ende der „guten Jahre“
DESCRIPTION:Der Aha-Effekt oder das Ende der „guten Jahre“\nImpulse für mehr Geld UND Leben \nWie oft schielst du auf dein Pensionskonto? \nWie viel Geld kannst du erwarten oder hast auch du eine Pensionslücke zu befürchten? \nUnsere zu erwartende Pension resultiert daraus\, wie viel wir während unserer gesamten Erwerbstätigkeit einbezahlen\, die Summe aus 45 Jahren! Die Verdienstkurve verläuft bei Frauen selten kontinuierlich. Kindererziehungs- oder Pflegezeiten\, Teilzeitarbeit\, längere Studienzeiten\, Bildungskarenz oder auch die bewusste Gewinnminimierung in der Bilanz verursachen eine Verringerung des Pensionsanspruchs von vielen Frauen.\nWas können wir tun\, damit wir heute für die Zukunft vorsorgen und uns „nebenbei“ ein finanzielles Polster schaffen? Das verrät die Expertin und Clubkollegin Martina Roither aus Wels. Sie erklärt das komplexe Thema Pensionssystem\, Finanzvorsorge und Kapitalaufbau verständlich und sympathisch. \nReferentin:\nMartina Roither\nGründerin NULLDREI\nEXPERTIN FÜR FINANZBILDUNG UND VORSORGEBERATUNG\nSTAATLICH GEPRÜFTE VERSICHERUNGSAGENTIN\nREFERENTIN & SPEAKERIN \nwww.nulldrei.team \n  \nVerbindliche Anmeldung über die Homepage ist erforderlich! \nIneressent:innen sind herzlich Willkommen! \nFür Clubmitglieder ist die Veranstaltung kostenlos. Für Interessent:innen: zahle\, was es dir Wert ist.  \n 
URL:https://bpw.at/event/frauen-und-finanzen/
LOCATION:Hotel Alexandra\, Dr. Schauer-Str. 41\, Wels\, Oberösterreich\, 4600\, Österreich
CATEGORIES:Linz-Wels
ATTACH;FMTTYPE=image/jpeg:https://bpw.at/wp/wp-content/uploads/2024/01/Bild-Martina-Roithner.jpeg
END:VEVENT
BEGIN:VEVENT
DTSTART;TZID=Europe/Vienna:20240124T190000
DTEND;TZID=Europe/Vienna:20240124T230000
DTSTAMP:20260423T124352
CREATED:20231125T150806Z
LAST-MODIFIED:20231217T071236Z
UID:10001165-1706122800-1706137200@bpw.at
SUMMARY:Lesung Dr. Stefanie Brodmann "Frauen\, die schreiben\, blühen auf"
DESCRIPTION:Exklusive Buchlesung unserer Clubkollegin Dr. Stefanie Brodmann!\nIm Rahmen des Clubabends bekommen wir exklusiv erste Einblicke in ihr Buch “Frauen\, die schreiben\, blühen auf”. \n  \nDr. Stefanie Brodmann ist Schreibtrainerin und Mentorin für intuitives und autobiographisches Schreiben und unterstützt in ihren Writing Flow Circles und Schreibworkshops vor allem Frauen darin\, ihre innere Stimme wieder zu finden und sich neu zu entdecken. \nDie promovierte Ökonomin arbeitet seit fast 15 Jahren in ihrem Traumjob bei der Weltbank in der internationalen Entwicklungszusammenarbeit und verkörperte dabei die „Woman can have it all“- Mentalität: Reisen um die Welt\, Beruf\, Mutterschaft\, Ehemann. Ihr Versuch\, alles zu haben\, war erfolgreich\, aber sie brannte aus und ihr Lebensfeuer verblühte. Auf der Suche nach ihrer Leidenschaft und Freude im Leben war sie kurz davor\, auf eine Insel zu flüchten\, aber buchte stattdessen ein Jahresprogramm für kreatives Schreiben: Passion Writing! \nKurze Zeit später war nichts mehr wie vorher. Sie blühte wieder auf. Vom drohenden Burn-out und innerer Leere zur strahlenden Frau mit Träumen und der Energie\, sie zu verwirklichen. Heute ist Stefanie Brodmann überzeugt: Schreiben ist magisch! \nIm Dezember 2023 erschien ihr Buch: „Frauen\, die schreiben\, blühen auf – Mit 23 Schreibinspirationen für eine Reise zu dir“\, das neben 23 inspirierende Schreibimpulsen auch sehr persönliche Einblicke in den Wandlungs- und Heilungsprozess der Autorin enthält. \nNach über 20 Jahren im nicht-deutschsprachigen Ausland lebt die gebürtige Deutsche mit ihrem Mann und ihren beiden Kindern in Oberösterreich. \nKontakt: \nhttps://thewritingflow.com \nstefanie@thewritingflow.com \nDas Buch kann folgend erworben werden. \n  \nFür Clubmitglieder ist die Veranstaltung kostenlos. Für Interessent:innen: zahle\, was es dir Wert ist! \nAnmeldung über unsere Webpage.
URL:https://bpw.at/event/lesung-dr-stefanie-brodmann-frauen-die-schreiben-bluehen-auf/
LOCATION:Hotel Alexandra\, Dr. Schauer-Str. 41\, Wels\, Oberösterreich\, 4600\, Österreich
CATEGORIES:Linz-Wels
ATTACH;FMTTYPE=image/jpeg:https://bpw.at/wp/wp-content/uploads/2023/11/Steffie_51.jpg
END:VEVENT
BEGIN:VEVENT
DTSTART;TZID=Europe/Vienna:20231213T180000
DTEND;TZID=Europe/Vienna:20231213T230000
DTSTAMP:20260423T124352
CREATED:20221229T141955Z
LAST-MODIFIED:20231125T143938Z
UID:10000904-1702490400-1702508400@bpw.at
SUMMARY:Weihnachtsfeier und Generalversammlung Wels-Hausruck
DESCRIPTION:Generalversammlung mit (Neu)Wahl des Vorstands und anschließende Weihnachtsfeier. \n  \nWir laden alle ordentlichen Mitglieder sehr herzlich zur Generalversammlung mit der Wahl des Vorstandes ein! Wir starten mit einem Glühwein und Maroni/Keksen. Danach geht es weiter zur Generalversammlung. \n  \nDie Einladung dazu erfolgt persönlich per Mail. \n  \nWir treffen uns ab 18.00 Uhr und starten um 18.30 Uhr mit der Generalversammlung. \nAnmeldung bitte über die Homepage.
URL:https://bpw.at/event/weihnachtsfeier-und-generalversammlung-wels-hausruck-2/
LOCATION:Hotel Alexandra\, Dr. Schauer-Str. 41\, Wels\, Oberösterreich\, 4600\, Österreich
CATEGORIES:Linz-Wels
END:VEVENT
BEGIN:VEVENT
DTSTART;TZID=Europe/Vienna:20230509T184500
DTEND;TZID=Europe/Vienna:20230509T230000
DTSTAMP:20260423T124352
CREATED:20221108T083643Z
LAST-MODIFIED:20230509T070731Z
UID:10001056-1683657900-1683673200@bpw.at
SUMMARY:Clubabend Wels-Hausruck "bpw.directory-Mitgliederverzeichnis"
DESCRIPTION:bpw.directory und BPW Mitgliederverzeichnis:\nJede BPW hat eine eigene Profilseite auf der Homepage\, doch viele nutzen sie nicht. Dabei ist dieses Mitgliederverzeichnis ein wichtiges Vernetzungstool! Du suchst eine Architektin in Salzburg\, eine Immobilienmaklerin in Tirol\, eine Ärztin in Wien oder Projektmanagerin in der Steiermark und bevorzugt eine BPW? Wenn alle ihre Profilseite vervollständigen\, ist diese Suche ein Klacks!\nUnd das bpw.directory ist ein neues Angebot von BPW Europe – sei gespannt\, was es alles kann!\n\nAktuelles von BPW Europe und Bericht aus Brüssel\n\nIch will – Ich brauche – (Ich biete an)\n\nDu brauchst in einem Thema Unterstützung? Suchst eine Wohnung\, einen neuen Job? Hier hat es Platz! Und wenn du im Gegenzug etwas anbieten kannst\, sehr gerne und wenn nicht\, ist das auch okay!\n\nVorstandswahlen BPW Austria und BPW Wels-Hausruck\nIm November wählen wir einen neuen Vorstand für BPW Austria und im Dezember dann auch für BPW Wels-Hausruck\nNähere Infos zur BPW Austria Vorstandswahl findest du hier: https://bpw.at/vorstandswahl/\nWenn dich die Vorstandsarbeit interessiert\, egal ob auf Österreich oder regionaler Ebene – wir freuen uns! Gib uns Bescheid und löchere uns mit Fragen – die Karten werden neu gemischt und wir freuen uns auf viele neue Gesichter im Vorstand 2024!\nWir treffen uns ab 18:45 Uhr und starten um 19:00 Uhr \nTeilnahme auch für Kurzentschlossene noch möglich\, bitte um kurze Mail an wels@bpw.at
URL:https://bpw.at/event/clubabend-wels-hausruck-2/
LOCATION:Hotel Alexandra\, Dr. Schauer-Str. 41\, Wels\, Oberösterreich\, 4600\, Österreich
CATEGORIES:Linz-Wels
ATTACH;FMTTYPE=image/jpeg:https://bpw.at/wp/wp-content/uploads/2023/04/bpw-directory.jpg
END:VEVENT
BEGIN:VEVENT
DTSTART;TZID=Europe/Vienna:20220921T180000
DTEND;TZID=Europe/Vienna:20220921T230000
DTSTAMP:20260423T124352
CREATED:20220116T184239Z
LAST-MODIFIED:20220913T063709Z
UID:10000987-1663783200-1663801200@bpw.at
SUMMARY:Clubabend Wels-Hausruck "Mindwriting für Frauen"
DESCRIPTION:Schreibworkshop \n„Von Pflichten\, Erwartungen und Sehnsüchten – Mindwriting für Frauen“ \nFrauen sind stark. Sie brechen Rollenmuster auf\, machen Karriere und nehmen ihr Leben in die Hand. Wenn da nicht das schlechte Gewissen wäre! Bin ich eine Rabenmutter\, wenn ich wieder rasch in meinen Beruf einsteige und die Kinder in Betreuung gebe? Kann ich meinem Mann zumuten\, abends alleine zu sein\, weil ich mich mit Freundinnen treffe oder eine neue Ausbildung beginne? Bin ich eine schlechte Tochter\, wenn ich meine Eltern in Pflege gebe? \nDie Erwartungen an Frauen sind hoch. Die Vereinbarkeit von Beruf und Familie ein Spagat. \nDiese Schreibnacht lädt zum Nachdenken ein – über Selbstausbeutung und Bescheidenheit\, Sehnsüchte und Wünsche. \nIn einem Mix aus Schreibübungen\, Austauschrunden und Gruppenübungen analysieren wir unseren Alltag\, gehen unseren Wünschen und Bedürfnissen auf den Grund und spielen mit Veränderungsmöglichkeiten. \n21.09.2022\, 18:00 – ca. 21:30 Uhr \nWir haben dieses Mal keine Zeit für ein gemeinsames Essen eingeplant\, aber Fingerfood bestellt\, damit niemand hungrig bleiben muss! \nHotel Bayrischer Hof\, Dr. Schauer-Straße 21-23\, A-4600 Wels https://www.bayrischerhof.at/ \nKosten: der Workshop ist kostenlos\, das Hotel verrechnet 18€ für die Verpflegung\, exkl.Getränke. Wenn keine Verpflegung gewünscht ist\, gib das bitte bei der Anmeldung an. \nGäste – Damen und Herren! Herzlich Willkommen! \n  \nLisa Fuchs ist Führungskraft\, systemischer Coach und Schreibtrainerin in Ausbildung. Sie begleitet mit Leidenschaft Menschen bei der Entfaltung ihrer Potenziale und Talente. Dabei ermöglicht das kreative Schreiben Selbstreflexion\, Innehalten und Neuausrichtung.
URL:https://bpw.at/event/clubabend-wels-hausruck-mindwriting-fuer-frauen/
LOCATION:Hotel Alexandra\, Dr. Schauer-Str. 41\, Wels\, Oberösterreich\, 4600\, Österreich
CATEGORIES:Linz-Wels
END:VEVENT
BEGIN:VEVENT
DTSTART;TZID=Europe/Vienna:20220510T183000
DTEND;TZID=Europe/Vienna:20220510T220000
DTSTAMP:20260423T124352
CREATED:20220116T182949Z
LAST-MODIFIED:20220509T105326Z
UID:10000842-1652207400-1652220000@bpw.at
SUMMARY:Clubabend Wels-Hausruck "Workshop Vereinbarkeit"
DESCRIPTION:Wie können wir in Oberösterreich die Vereinbarkeit von Familie und Beruf voranbringen? \nIn einem Workshop werden wir gemeinsam erarbeiten\, was es braucht\, um die Vereinbarkeit von Familie und Beruf\, speziell in Oberösterreich\, zu verbessern bzw. zu ermöglichen. Reicht es aus\, Kinderbetreuungsplätze anzubieten oder braucht es vielleicht etwas ganz anderes? \nDie Ergebnisse werden wir in weiterer Folge bei LRin Christine Haberlander vorbringen und mit ihr besprechen. \nWir treffen uns um 18.30 Uhr zum Get-together und starten um 19.00 Uhr mit dem Workshop im Kaminzimmer des Hotel Alexandra in Wels! \n(verbindliche) Anmeldung bis 09.Mai 2022 erforderlich. \nGäste – Damen wie Herren\, herzlich Willkommen! \nGästebeitrag: 15€; Die Anmeldung ist nach Kontoeingang (VKB Wels\, AT38 1860 0000 1707 9617) des Beitrags fixiert. Spontane Gäst*innen zahlen bitte bar direkt am 10.Mai.
URL:https://bpw.at/event/clubabend-wels-hausruck-workshop-vereinbarkeit/
LOCATION:Hotel Alexandra\, Dr. Schauer-Str. 41\, Wels\, Oberösterreich\, 4600\, Österreich
CATEGORIES:Linz-Wels
END:VEVENT
END:VCALENDAR