BEGIN:VCALENDAR
VERSION:2.0
PRODID:-//Business and Professional Women Austria - ECPv6.15.20//NONSGML v1.0//EN
CALSCALE:GREGORIAN
METHOD:PUBLISH
X-ORIGINAL-URL:https://bpw.at
X-WR-CALDESC:Veranstaltungen für Business and Professional Women Austria
REFRESH-INTERVAL;VALUE=DURATION:PT1H
X-Robots-Tag:noindex
X-PUBLISHED-TTL:PT1H
BEGIN:VTIMEZONE
TZID:Europe/Vienna
BEGIN:DAYLIGHT
TZOFFSETFROM:+0100
TZOFFSETTO:+0200
TZNAME:CEST
DTSTART:20200329T010000
END:DAYLIGHT
BEGIN:STANDARD
TZOFFSETFROM:+0200
TZOFFSETTO:+0100
TZNAME:CET
DTSTART:20201025T010000
END:STANDARD
BEGIN:DAYLIGHT
TZOFFSETFROM:+0100
TZOFFSETTO:+0200
TZNAME:CEST
DTSTART:20210328T010000
END:DAYLIGHT
BEGIN:STANDARD
TZOFFSETFROM:+0200
TZOFFSETTO:+0100
TZNAME:CET
DTSTART:20211031T010000
END:STANDARD
BEGIN:DAYLIGHT
TZOFFSETFROM:+0100
TZOFFSETTO:+0200
TZNAME:CEST
DTSTART:20220327T010000
END:DAYLIGHT
BEGIN:STANDARD
TZOFFSETFROM:+0200
TZOFFSETTO:+0100
TZNAME:CET
DTSTART:20221030T010000
END:STANDARD
BEGIN:DAYLIGHT
TZOFFSETFROM:+0100
TZOFFSETTO:+0200
TZNAME:CEST
DTSTART:20230326T010000
END:DAYLIGHT
BEGIN:STANDARD
TZOFFSETFROM:+0200
TZOFFSETTO:+0100
TZNAME:CET
DTSTART:20231029T010000
END:STANDARD
END:VTIMEZONE
BEGIN:VEVENT
DTSTART;TZID=Europe/Vienna:20220928T180000
DTEND;TZID=Europe/Vienna:20220928T220000
DTSTAMP:20260422T104128
CREATED:20220827T193808Z
LAST-MODIFIED:20220922T104905Z
UID:10001036-1664388000-1664402400@bpw.at
SUMMARY:Vortrag: Benachteiligung von Frauen in Einkommen und Pension –
DESCRIPTION:BPW Villach_Einladung \nEinladung zum BPW Clubabend \nBenachteiligung von Frauen in Einkommen und Pension –\neine volks- und sozialwissenschaftliche Auseinandersetzung mit dem Gender Pay und Pension Gap \nDatum & Uhrzeit: 28.09.2022\, 18:00\nOrt: Karawankenhof\nAdresse: Kadischenallee 27\, 9504 Villach \nDas Thema \nVon sozialer Ungleichheit sind unterschiedliche gesellschaftliche Gruppen betroffen\, wie zum Beispiel Menschen im Alter oder auch Frauen. Nicht selten sind es besonders Frauen im Alter\, die Benachteiligung bei Einkommen und Pension erfahren. Am Alternsforschungszentrum der Fachhochschule Kärnten (IARA – Institute for Applied Research on Ageing) wird soziale Ungleichheit im Kontext von Alter in unterschiedlichen Zusammenhängen beforscht und diskutiert.\nDieser Vortrag widmet sich der sozialen und ökonomischen Benachteiligung von Frauen mit Fokus auf den Gender Pay Gap und den Gender Pension Gap. \nVortragende \nFH-Prof.in Dr.in Birgit Aigner-Walder ist seit 2014 Professorin für Volkswirtschaftslehre am Studienbereich Wirtschaft und Management der Fachhochschule Kärnten und leitet seit 2016 das Department Demographic Change and Regional Development (DCRD) des Institute for Applied Research on Ageing (IARA). Sie forscht seit 2008 zu den Auswirkungen der Alterung der Bevölkerung auf die Wirtschaft\, insbesondere auf den Arbeitsmarkt\, die Nachfrageentwicklung und die Daseinsvorsorge. Bereits im Rahmen ihrer Promotion im Jahre 2012 beschäftigte sie sich mit Einkommen- und Konsumunterschieden von Haushalten über den Lebenszyklus. \nDr.in Christine Pichler\, Bakk MA\, ist promovierte Soziologin\, seit 2016 an der Fachhochschule Kärnten tätig und hat die Professur für Soziologie der Disability and Diversity Studies im Studiengang Disability and Diversity Studies inne. Seit September 2021 leitet sie das Department\nfor Intergenerational Solidarity\, Activity and Civil Society (ISAC) des Institute of Applied Research on Ageing (IARA) an der FH Kärnten. Ihre Forschungs- und Lehrschwerpunkte sind Alter/Altern\, Lebensqualität\, Faktoren sozialer Ungleichheit\, quantitative und qualitative Sozialforschung\, soziale Teilhabe und Bildung. \nWir freuen uns auf einen spannenden Vortrag mit euch und einen wundervollen Netzwerk-Abend! \nAuch Partner und Interessierte sind herzlich willkommen. Nach dem Vortrag wird es bei alkoholfreien Getränken und kleinen Häppchen die Möglichkeit zum Austausch geben. Dafür bitten wir um einen Unkostenbeitrag von 15€. \nBITTE An/Abmeldung bis spätestens Freitag\, den 23. September 2022 bei unserer BPW-Schriftführerin Alya Khoury-Miles per Email: alya.khoury.miles@gmail.com \nBis dahin wünschen wir euch eine schöne Zeit! \nDas Vorstandsteam des BPW Club Villach\nMelanie\, Kristina\, Evelin\, Alya\, Ulrike\, Zheng
URL:https://bpw.at/event/vortrag-benachteiligung-von-frauen-in-einkommen-und-pension/
LOCATION:Karawankenhof Warmbad\, Kadischenallee 27\, Warmbad-Villach\, Kärnten\, 9504\, Österreich
CATEGORIES:Villach
END:VEVENT
BEGIN:VEVENT
DTSTART;TZID=Europe/Vienna:20220126T180000
DTEND;TZID=Europe/Vienna:20220126T213000
DTSTAMP:20260422T104128
CREATED:20220123T123237Z
LAST-MODIFIED:20220123T123237Z
UID:10000992-1643220000-1643232600@bpw.at
SUMMARY:BPW KERZENLICHT-FEIER\, Villach
DESCRIPTION:Wir freuen uns sehr darauf\, dich beim BPW-Clubabend im Jänner zur KERZENLICHT-FEIER 2022 begrüßen zu dürfen! An diesem Abend feiern wir die weltweite Verbundenheit aller BPW-Mitgliederfrauen\, die sich für eine wichtige Vision einsetzen: Gleichberechtigung auf allen Ebenen für Frauen und Männer. \nUnser Ziel ist es\, allen das Dabeisein trotz Turbulenzen zu ermöglichen. Vor Ort ist das unter Einhaltung der 2G-Regel möglich. Wir bemühen uns auch um eine ONLINE-Möglichkeit für jene\, die nicht kommen können und trotzdem dabei sein möchten. Lass uns bitte über deine Anmeldung wissen\, ob wir dir einen ONLINE-Zugang schicken sollen. DANKE! \nAufgrund der sich aktuell immer wieder sehr schnell verändernden Rahmenbedingungen\, bleiben wir in Sachen Dinner diesmal bei unserer bewährten à-la-carte-Auswahl vor Ort (statt Vorauswahl). \nAuf etwaige Änderungen der aktuellen Situation müssen wir uns auch weiterhin ein kurzfristiges Reagieren vorbehalten. Vielen Dank für dein Verständnis und deine anhaltende Flexibilität! \nPROGRAMM: \n18:00 Uhr: Empfang und Vernetzung bei einem Willkommens-Cocktail  \n18:45 Uhr: Begrüßung und Infos von Präsidentin Mag.a Kristina Waltritsch & entspanntes Netzwerken beim Abendessen \n20:00 Uhr: BPW-KERZENLICHTFEIER unter dem Motto: „Frauen*Vernetzung*aktiv*leben“ – regional\, national\, international verbunden sein. \nWir freuen uns auf dein Kommen! \nBITTE um verbindliche An-/Abmeldung – auf Wunsch mit Hinweis „ONLINE“ – bis Freitag\, 21. Jänner 2022 bei unserer BPW Villach-Schriftführerin Zheng Ye-Rechenmacher per Email: zrechenmacher@gmx.net . \n … und BITTE auch gleich VORMERKEN:  Clubabend am Dienstag\, 22. Februar 2022: GV und Wahl des neuen Vorstandes . \nEine schöne Zeit und vorfreudige Grüße\, \ndas Vorstandsteam des BPW Club Villach:\nKristina\, Melanie\, Zheng\, Alya\, Evelin & Ulli
URL:https://bpw.at/event/bpw-kerzenlicht-feier-villach/
LOCATION:Karawankenhof Warmbad\, Kadischenallee 27\, Warmbad-Villach\, Kärnten\, 9504\, Österreich
CATEGORIES:Villach
END:VEVENT
BEGIN:VEVENT
DTSTART;TZID=Europe/Vienna:20211027T180000
DTEND;TZID=Europe/Vienna:20211027T210000
DTSTAMP:20260422T104128
CREATED:20211018T200832Z
LAST-MODIFIED:20211018T200832Z
UID:10000962-1635357600-1635368400@bpw.at
SUMMARY:BPW Villach u. FiW Netzwerk-Clubabend
DESCRIPTION:Business &Professional Women Villach und Frau in der Wirtschaft Villach laden zum Netzwerk-Abend ein.\n \nMiteinander statt gegeneinander: Die Zukunft gemeinsam gestalten! \nGemeinsam gestalten\, kooperativ zusammenarbeiten und Stärken bündeln macht nicht nur mehr Freude\, sondern führt auch zu größeren Erfolgen. \nDeshalb haben sich Frau in der Wirtschaft Villach (FiW Villach) und der Frauenclub „Business & Professional Women“ Villach (BPW Villach) auch heuer wieder zusammengefunden und laden alle Frauen-Organisationen und Einzelinitiativen im Raum Villach-Stadt und Villach-Land\, die sich speziell für Frauen stark machen\, zum gegenseitigen Kennenlernen und Netzwerken ein. \nMittwoch\, 27. Oktober 2021\, Beginn: 18:00 Uhr\nKARAWANKENHOF\, Warmbad-Villach\, Kadischenallee 27 \nNach der Begrüßung von Mag.a Kristina Waltritsch (Präsidentin BPW Villach) und Lisa Moser (Vorsitzende Frau in der Wirtschaft Villach)\, haben alle anwesenden Frauen-Organisationen und Frauen-Initiativen die Möglichkeit\, ihre Vision & Mission\, sowie ihre aktuellen Themenschwerpunkte vorzustellen. \nDas vorrangige Ziel dieses Abends ist es\, die vielfältigen Beiträge und aktuelle Projekte bzw. Projektideen von engagierten Frauen-Initiativen bewusst und sichtbar zu machen – und Gemeinsamkeiten zu entdecken. \nAnmeldung diesmal bitte an: Sabine Inschick\, sabine.inschick@wkk.or.at oder 06764044144 \nLisa Moser                                                Mag.a Kristina Waltritsch\nBezirksvorsitzende FiW Villach                     Präsidentin BPW Villach \nAuf der Veranstaltung werden Bilder und Videos gemacht. Die Teilnehmerinnen erklären sich ausdrücklich damit einverstanden\, dass diese persönlichen Bilder der Wirtschaftskammer Kärnten und dem Business & Professional Women Club Villach für die Veröffentlichung auf Webseiten\, Social Media und Printmedien verwendet werden dürfen. \nWir bitten weiterhin folgende COVID-19-Schutzmaßnahmen zu beachten: \n\nWir setzen auf die 3G Regel: geimpft\, getestet oder genesen.\nAbstand halten und eine FFP2-Maske sind weiterhin wichtig – bitte achte darauf und bring deine Maske mit.\n\nWir freuen uns auf ein gegenseitiges Kennenlernen\, spannendes Updaten & reges Vernetzen!\nHerzliche Grüße und eine gesunde\, gute Zeit\, \neuer BPW Villach Vorstand:\nKristina\, Melanie\, Zheng\, Alya\, Evelin & Ulrike
URL:https://bpw.at/event/bpw-villach-u-fiw-netzwerk-clubabend/
LOCATION:Karawankenhof Warmbad\, Kadischenallee 27\, Warmbad-Villach\, Kärnten\, 9504\, Österreich
CATEGORIES:Villach
END:VEVENT
BEGIN:VEVENT
DTSTART;TZID=Europe/Vienna:20210929T180000
DTEND;TZID=Europe/Vienna:20210929T220000
DTSTAMP:20260422T104128
CREATED:20210917T102246Z
LAST-MODIFIED:20210926T183234Z
UID:10000956-1632938400-1632952800@bpw.at
SUMMARY:BPW Villach Clubabend
DESCRIPTION:Gleichbehandlung\, Gender Mainstreaming und Frauenförderung \nWie Kärnten Frauen stark macht! \nWas genau darunter zu verstehen ist\, welche Vision und welche „Mission possible“ das Tun im Referat für Frauen- und Gleichbehandlung beflügeln\, wie die Neuorientierung gelingt und welche Schwerpunktthemen aktuell und künftig gesetzt werden – davon berichtet Mag.a Martina Gabriel\, die seit 2018 als Frauen- und Gleichbehandlungsbeauftragte des Landes Kärnten im Einsatz ist. \nZUR PERSON:\n Mag.a Martina Gabriel war bereits von 2009 bis 2013 im Frauenreferat tätig und arbeitete zuletzt als Kunsthistorikerin im Ausstellungsmanagement des Museums Moderner Kunst. Gleichstellung und soziale Gerechtigkeit sind – neben ihrer Liebe zur Kunst – besonders wichtige Themen für sie. \nDEINE VORBEREITUNG: \nWir bitten dich weiterhin folgende COVID-19-Schutzmaßnahmen bei unserem BPW Clubabend zu beachten: \n\nWir setzen auf die 3G Regel: geimpft\, getestet oder genesen.\n\n\nAbstand halten und eine FFP2-Maske sind weiterhin wichtig – bitte achte darauf und bring deine Maske mit.\n\n PROGRAMM: \n18:00 Uhr: Ankommen\, Essen\, Netzwerken \n19:00 Uhr: Begrüßung und Infos vom BPW Villach Vorstand\, \ndann: Impulsvortrag von Mag.a Martina Gabriel und gemeinsamer Austausch \n BITTE um An-/Abmeldung bis Montag\, 27. September 2021 bei unserer BPW Villach-Schriftführerin Zheng Ye-Rechenmacher per E-Mail: zrechenmacher@gmx.net .
URL:https://bpw.at/event/bpw-villach-clubabend/
LOCATION:Karawankenhof Warmbad\, Kadischenallee 27\, Warmbad-Villach\, Kärnten\, 9504\, Österreich
CATEGORIES:Villach
END:VEVENT
END:VCALENDAR