BEGIN:VCALENDAR
VERSION:2.0
PRODID:-//Business and Professional Women Austria - ECPv6.15.20//NONSGML v1.0//EN
CALSCALE:GREGORIAN
METHOD:PUBLISH
X-ORIGINAL-URL:https://bpw.at
X-WR-CALDESC:Veranstaltungen für Business and Professional Women Austria
REFRESH-INTERVAL;VALUE=DURATION:PT1H
X-Robots-Tag:noindex
X-PUBLISHED-TTL:PT1H
BEGIN:VTIMEZONE
TZID:Europe/Vienna
BEGIN:DAYLIGHT
TZOFFSETFROM:+0100
TZOFFSETTO:+0200
TZNAME:CEST
DTSTART:20250330T010000
END:DAYLIGHT
BEGIN:STANDARD
TZOFFSETFROM:+0200
TZOFFSETTO:+0100
TZNAME:CET
DTSTART:20251026T010000
END:STANDARD
BEGIN:DAYLIGHT
TZOFFSETFROM:+0100
TZOFFSETTO:+0200
TZNAME:CEST
DTSTART:20260329T010000
END:DAYLIGHT
BEGIN:STANDARD
TZOFFSETFROM:+0200
TZOFFSETTO:+0100
TZNAME:CET
DTSTART:20261025T010000
END:STANDARD
BEGIN:DAYLIGHT
TZOFFSETFROM:+0100
TZOFFSETTO:+0200
TZNAME:CEST
DTSTART:20270328T010000
END:DAYLIGHT
BEGIN:STANDARD
TZOFFSETFROM:+0200
TZOFFSETTO:+0100
TZNAME:CET
DTSTART:20271031T010000
END:STANDARD
END:VTIMEZONE
BEGIN:VEVENT
DTSTART;TZID=Europe/Vienna:20260702T190000
DTEND;TZID=Europe/Vienna:20260702T200000
DTSTAMP:20260421T134157
CREATED:20241121T163551Z
LAST-MODIFIED:20251120T155403Z
UID:10001337-1783018800-1783022400@bpw.at
SUMMARY:Erfolgsteams 2026 by BPW - Abschluss-Event
DESCRIPTION:Bei diesem Abschluss-Event könnt ihr eure Erfahrungen teilen\, voneinander lernen und euch vernetzen. Jede von euch hat in den letzten Monaten hart an ihren Zielen gearbeitet\, sei es mehr Sichtbarkeit\, mehr Kundinnen oder mehr Know-how in Social Media. \nWir freuen uns darauf zu erfahren\, wie es euch im Prozess der Zielformulierung ergangen ist\, wie ihr euch gegenseitig unterstützt habt\, welche Ergebnisse erzielt wurden und welche Ziele auf euch noch in der Zukunft warten. \nNeben den individuellen Präsentationen der Erfolgsteams wird es im Anschluss die Möglichkeit geben\, sich in Breakout-Rooms näher über die Arbeitsweise in Erfolgsteams zu informieren. Wir freuen uns auf anregende Gespräche und den Austausch von Erfahrungen. \nZum Abschluss wollen wir gemeinsam auf die erreichten Erfolge anstoßen – virtuell mit einem Gläschen in der Hand. \nFalls ihr Anregungen und Verbesserungsvorschläge zu den Erfolgsteams habt\, dann sendet diese bitte an eva.frank @ bpw.at. Vielen Dank! \nKennt ihr eine Freundin\, die auch von einem Erfolgsteam profitieren möchte? Ende 2026/Anfang 2027 werden wir wieder zur Bildung von neuen Erfolgsteams einladen. \nWir freuen uns auf ein inspirierendes und fröhliches Treffen!
URL:https://bpw.at/event/erfolgsteams2026-by-bpw-abschluss-event/
LOCATION:Online über Zoom\, Der Link für Zoom wird in der Anmeldebestätigung zugesandt
CATEGORIES:BPW Austria
ATTACH;FMTTYPE=image/jpeg:https://bpw.at/wp/wp-content/uploads/2024/11/erfolgsteam.jpg
ORGANIZER;CN="BPW Austria":MAILTO:bpw.austria@bpw.at
END:VEVENT
BEGIN:VEVENT
DTSTART;TZID=Europe/Vienna:20260908T190000
DTEND;TZID=Europe/Vienna:20260908T203000
DTSTAMP:20260421T134157
CREATED:20250122T145947Z
LAST-MODIFIED:20260316T063541Z
UID:10001366-1788894000-1788899400@bpw.at
SUMMARY:Speed-Networking online im DACH-Raum
DESCRIPTION:Erweitere dein Netzwerk im DACH-Raum – Speed-Networking einmal anders \nBPW ist ein überregionales Netzwerk. Lasst uns aktiv Netzwerken!\nMit Speed-Networking richten wir in den nächsten Monaten mehr Fokus auf unsere vielen Mitglieds-Frauen – auf die Menschen dahinter. \nSpeed-Networking? Wie geht das?\nEine Frage\, zwei Frauen\, fünf Minuten. So lernst du in einer Stunde rund 10 Frauen kennen.\nSeid ihr euch sympathisch?\nDann trefft ihr euch danach noch einmal\, zum vertieften Austausch. \nDas Speed-Networking ist eine besondere Möglichkeit\, einander besser kennenzulernen. Keine langen Elevator-Sprüche\, keine „Was machst du?“.\nWir machen es anders. Spannend. Lustig. Denn echtes Netzwerken beginnt mit der Verbindung von Menschen. \nBist du dabei? \nWann: Dienstag\, 08.09.2026 – 19:00 – 20:30 Uhr\nWo: Online per Zoom\, der Link für Zoom wird per Mail zugesandt.\nWer begleitet dich: Eva Laspas\, Birgit Bruckmüller\nAchtung: Die Teilnehmerinnenzahl ist begrenzt! \n 
URL:https://bpw.at/event/speed-networking-online-im-dach-raum-2/
LOCATION:Online über Zoom\, Der Link für Zoom wird in der Anmeldebestätigung zugesandt
CATEGORIES:BPW Austria
ATTACH;FMTTYPE=image/jpeg:https://bpw.at/wp/wp-content/uploads/2024/07/image003.jpg
ORGANIZER;CN="BPW Austria":MAILTO:bpw.austria@bpw.at
END:VEVENT
END:VCALENDAR