BEGIN:VCALENDAR
VERSION:2.0
PRODID:-//Business and Professional Women Austria - ECPv6.15.20//NONSGML v1.0//EN
CALSCALE:GREGORIAN
METHOD:PUBLISH
X-ORIGINAL-URL:https://bpw.at
X-WR-CALDESC:Veranstaltungen für Business and Professional Women Austria
REFRESH-INTERVAL;VALUE=DURATION:PT1H
X-Robots-Tag:noindex
X-PUBLISHED-TTL:PT1H
BEGIN:VTIMEZONE
TZID:Europe/Vienna
BEGIN:DAYLIGHT
TZOFFSETFROM:+0100
TZOFFSETTO:+0200
TZNAME:CEST
DTSTART:20220327T010000
END:DAYLIGHT
BEGIN:STANDARD
TZOFFSETFROM:+0200
TZOFFSETTO:+0100
TZNAME:CET
DTSTART:20221030T010000
END:STANDARD
BEGIN:DAYLIGHT
TZOFFSETFROM:+0100
TZOFFSETTO:+0200
TZNAME:CEST
DTSTART:20230326T010000
END:DAYLIGHT
BEGIN:STANDARD
TZOFFSETFROM:+0200
TZOFFSETTO:+0100
TZNAME:CET
DTSTART:20231029T010000
END:STANDARD
BEGIN:DAYLIGHT
TZOFFSETFROM:+0100
TZOFFSETTO:+0200
TZNAME:CEST
DTSTART:20240331T010000
END:DAYLIGHT
BEGIN:STANDARD
TZOFFSETFROM:+0200
TZOFFSETTO:+0100
TZNAME:CET
DTSTART:20241027T010000
END:STANDARD
BEGIN:DAYLIGHT
TZOFFSETFROM:+0100
TZOFFSETTO:+0200
TZNAME:CEST
DTSTART:20250330T010000
END:DAYLIGHT
BEGIN:STANDARD
TZOFFSETFROM:+0200
TZOFFSETTO:+0100
TZNAME:CET
DTSTART:20251026T010000
END:STANDARD
BEGIN:DAYLIGHT
TZOFFSETFROM:+0100
TZOFFSETTO:+0200
TZNAME:CEST
DTSTART:20260329T010000
END:DAYLIGHT
BEGIN:STANDARD
TZOFFSETFROM:+0200
TZOFFSETTO:+0100
TZNAME:CET
DTSTART:20261025T010000
END:STANDARD
END:VTIMEZONE
BEGIN:VEVENT
DTSTART;TZID=Europe/Vienna:20250322T101500
DTEND;TZID=Europe/Vienna:20250322T170000
DTSTAMP:20260426T005943
CREATED:20250303T081744Z
LAST-MODIFIED:20250316T170343Z
UID:10001388-1742638500-1742662800@bpw.at
SUMMARY:Erweiterte Vorstandssitzung - Members only
DESCRIPTION:Liebe Clubpräsidentin\, liebe Vorständin\, liebes Clubmitglied \nUnter dem Motto “Sichtbar\, mutig vernetzt – Empowerment mit Wirkung!” lädt BPW Austria zur erweiterten Vorstandsitzung in Salzburg ein. \nFür zwei Mitgliedsfrauen je Club wird die Seminarpauschale übernommen. Die Seminarpauschale beinhaltet eine Vor- und Nachmittagsjause inkl. Kaffee und ein Mittagsmenü mit zwei alkoholfreien Getränken sowie Getränke im Seminarraum.  \nDie Seminargebühr beträgt EUR 79\,– / TN\, für Young BPW (Jahrgang 1989 und jünger) beträgt die Gebühr EUR 69\,– \nWir treffen uns ab 9:45 – Kaffee und Jause stehen dann bereit. \nDu willst gerne teilnehmen? Bitte sprich deine Club-Präsidentin darauf an\, wenn du Interesse hast dabei zu sein! \nWir freuen uns über deine Anmeldung bis 16. März 2025 \nDein BPW Austria Vorstand \nRita\, Christine und Maria \n \nDer Vorstand von BPW Austria: Maria Eisl\, Rita Volgger\, Christine Schwarz-Fuchs
URL:https://bpw.at/event/sitzung-erweiterter-vorstand-exklusiv-fuer-bpw/
LOCATION:Parkhotel Brunauer\, Elisabethstraße 45A\, Salzburg\, 5020\, Österreich
CATEGORIES:BPW Austria
ATTACH;FMTTYPE=image/jpeg:https://bpw.at/wp/wp-content/uploads/2023/11/Header_Sitzung_erweiterter_Vorstand.jpg
ORGANIZER;CN="BPW Austria":MAILTO:bpw.austria@bpw.at
END:VEVENT
BEGIN:VEVENT
DTSTART;TZID=Europe/Vienna:20240612T180000
DTEND;TZID=Europe/Vienna:20240612T220000
DTSTAMP:20260426T005943
CREATED:20240423T161642Z
LAST-MODIFIED:20240604T132305Z
UID:10001253-1718215200-1718229600@bpw.at
SUMMARY:Europa der Frauen
DESCRIPTION:Europa der Frauen?\nWas lässt das Ergebnis der EU-Wahl erwarten?\nEine Analyse der IST-Situation mit möglichen Szenarien und Strategien für Frauen in der nächsten Legestlaturperiode. \n  \nReferentin:  MMag. Dr. Doris Wydra  \nDoris Wydra (PostDoc und Koordinatorin des Salzburg Centres of European Union Studies) studierte Politikwissenschaft und Rechtswissenschaften an der Universität Salzburg. Ihr Forschungsschwerpunkt liegt im Bereich der Förderung von Demokratie und Menschenrechten durch die Europäische Union als Teil der Europäischen Außenpolitik\, der Europäischen Nachbarschaftspolitik und den Beziehungen zwischen der Europäischen Union und Russland. \n  \nWann:\nMittwoch\, 12.06.2024\nab 18:00 Uhr Vernetzung\nab 19:30 Uhr Veranstaltungsbeginn \n  \nACHTUNG: geänderter Veranstaltungsort\nParkhotel Brunauer\nElisabethstraße 45A\n5020 Salzburg \nBPWs: gratis \nGästebetrag: € 15\,00 \nWährend und nach der Veranstaltung wird fotografiert. Die Fotos werden auf unserer Homepage www.bpw.at/salzburgveröffentlicht und in unserem Gästebuch eingeklebt und sind als Erinnerung und Nachlese gedacht. Mit der Teilnahme am Clubabend erklärt Ihr Euch damit einverstanden.
URL:https://bpw.at/event/bpw-salzburg-europa-der-frauen/
LOCATION:Parkhotel Brunauer\, Elisabethstraße 45A\, Salzburg\, 5020\, Österreich
CATEGORIES:Salzburg
ATTACH;FMTTYPE=image/jpeg:https://bpw.at/wp/wp-content/uploads/2024/04/2024_06_Teaser_Frau-und-Europa_2.jpg
ORGANIZER;CN="BPW Club Salzburg":MAILTO:salzburg@bpw.at
END:VEVENT
BEGIN:VEVENT
DTSTART;TZID=Europe/Vienna:20240309T101500
DTEND;TZID=Europe/Vienna:20240309T170000
DTSTAMP:20260426T005943
CREATED:20231128T124235Z
LAST-MODIFIED:20240211T200714Z
UID:10001176-1709979300-1710003600@bpw.at
SUMMARY:Sitzung Erweiterter Vorstand - Exklusiv für BPW
DESCRIPTION:Liebe Clubpräsidentin\, liebe Vorständin\, liebes Clubmitglied \nUnter dem Motto “gemeinsam stark” lädt BPW Austria zur erweiterten Vorstandsitzung in Salzburg ein. \nFür zwei Mitgliedsfrauen je Club wird die Seminarpauschale übernommen. Die Seminarpauschale beinhaltet eine Vor- und Nachmittagsjause inkl. Kaffee und ein Mittagsmenü mit zwei alkoholfreien Getränken sowie Getränke im Seminarraum.  \nDie Seminargebühr beträgt EUR 69\,– / TN\, für Young BPW (Jahrgang 1989 und jünger) beträgt die Gebühr EUR 59\,– \nWir treffen uns ab 9:45 – Kaffee und Jause stehen dann bereit. \nDu willst gerne teilnehmen? Bitte sprich deine Club-Präsidentin darauf an\, wenn du Interesse hast dabei zu sein! \nWir freuen uns über deine Anmeldung bis 25. Februar 2024 \nDein BPW Austria Vorstand \nRita\, Christine und Maria \n \nDer Vorstand von BPW Austria: Maria Eisl\, Rita Volgger\, Christine Schwarz-Fuchs
URL:https://bpw.at/event/erweiterte-vorstandssitzung-2024/
LOCATION:Parkhotel Brunauer\, Elisabethstraße 45A\, Salzburg\, 5020\, Österreich
CATEGORIES:BPW Austria
ATTACH;FMTTYPE=image/jpeg:https://bpw.at/wp/wp-content/uploads/2023/11/Header_Sitzung_erweiterter_Vorstand.jpg
ORGANIZER;CN="BPW Austria":MAILTO:bpw.austria@bpw.at
END:VEVENT
BEGIN:VEVENT
DTSTART;TZID=Europe/Vienna:20230325T101500
DTEND;TZID=Europe/Vienna:20230325T170000
DTSTAMP:20260426T005943
CREATED:20230124T210301Z
LAST-MODIFIED:20231128T122728Z
UID:10001082-1679739300-1679763600@bpw.at
SUMMARY:Erweiterte Vorstandssitzung - Members Only
DESCRIPTION:Liebe Clubpräsidentinnen\, liebe Vorständinnen\, liebe Clubmitglieder\, \nauch heuer wird #thefutureisequal den Themenkreis der erweiterten Vorstandssitzung prägen – sei dabei – … gestalte mit! \nBPW Austria lädt zur erweiterten Vorstandsitzung ein: \nTagespauschale EUR 59\,– pro Person\n(Begrüßungscafé mit Snack\,  Lunch inklusive alkoholfreier Getränke\, Nachmittagspause\, Wasser im Raum)\nYoung BPW zahlen EUR 45\,– \nGet-to-gether ab 9:45 Uhr bei Begrüßungskaffe mit Snacks \nPro Club übernimmt BPW Austria zwei TeilnehmerInnen – bitte sprich deine Club-Präsidentin gerne an\, wenn du Interesse hast dabei zu sein! \nWir freuen uns über deine Anmeldung bis 10. März 2023 \nDein BPW Austria Vorstand \nCornelia\, Kathrin\, Daniela und Doris \n \n  \n  \n  \n  \n  \n  \n  \n  \n  \n  \n  \n  \n  \n  \n  \n  \nDaniela Edlinger\, Cornelia Pessenlehner\, Kathrin Neunteufel-Steyer\, Doris Mayer
URL:https://bpw.at/event/erweiterte-vorstandssitzung-2023/
LOCATION:Parkhotel Brunauer\, Elisabethstraße 45A\, Salzburg\, 5020\, Österreich
CATEGORIES:BPW Austria
ATTACH;FMTTYPE=image/jpeg:https://bpw.at/wp/wp-content/uploads/2021/12/Diversity-scaled.jpg
ORGANIZER;CN="BPW Austria":MAILTO:bpw.austria@bpw.at
END:VEVENT
END:VCALENDAR