BEGIN:VCALENDAR
VERSION:2.0
PRODID:-//Business and Professional Women Austria - ECPv6.15.20//NONSGML v1.0//EN
CALSCALE:GREGORIAN
METHOD:PUBLISH
X-WR-CALNAME:Business and Professional Women Austria
X-ORIGINAL-URL:https://bpw.at
X-WR-CALDESC:Veranstaltungen für Business and Professional Women Austria
REFRESH-INTERVAL;VALUE=DURATION:PT1H
X-Robots-Tag:noindex
X-PUBLISHED-TTL:PT1H
BEGIN:VTIMEZONE
TZID:Europe/Vienna
BEGIN:DAYLIGHT
TZOFFSETFROM:+0100
TZOFFSETTO:+0200
TZNAME:CEST
DTSTART:20180325T010000
END:DAYLIGHT
BEGIN:STANDARD
TZOFFSETFROM:+0200
TZOFFSETTO:+0100
TZNAME:CET
DTSTART:20181028T010000
END:STANDARD
BEGIN:DAYLIGHT
TZOFFSETFROM:+0100
TZOFFSETTO:+0200
TZNAME:CEST
DTSTART:20190331T010000
END:DAYLIGHT
BEGIN:STANDARD
TZOFFSETFROM:+0200
TZOFFSETTO:+0100
TZNAME:CET
DTSTART:20191027T010000
END:STANDARD
BEGIN:DAYLIGHT
TZOFFSETFROM:+0100
TZOFFSETTO:+0200
TZNAME:CEST
DTSTART:20200329T010000
END:DAYLIGHT
BEGIN:STANDARD
TZOFFSETFROM:+0200
TZOFFSETTO:+0100
TZNAME:CET
DTSTART:20201025T010000
END:STANDARD
BEGIN:DAYLIGHT
TZOFFSETFROM:+0100
TZOFFSETTO:+0200
TZNAME:CEST
DTSTART:20210328T010000
END:DAYLIGHT
BEGIN:STANDARD
TZOFFSETFROM:+0200
TZOFFSETTO:+0100
TZNAME:CET
DTSTART:20211031T010000
END:STANDARD
END:VTIMEZONE
BEGIN:VTIMEZONE
TZID:Europe/Berlin
BEGIN:DAYLIGHT
TZOFFSETFROM:+0100
TZOFFSETTO:+0200
TZNAME:CEST
DTSTART:20170326T010000
END:DAYLIGHT
BEGIN:STANDARD
TZOFFSETFROM:+0200
TZOFFSETTO:+0100
TZNAME:CET
DTSTART:20171029T010000
END:STANDARD
BEGIN:DAYLIGHT
TZOFFSETFROM:+0100
TZOFFSETTO:+0200
TZNAME:CEST
DTSTART:20180325T010000
END:DAYLIGHT
BEGIN:STANDARD
TZOFFSETFROM:+0200
TZOFFSETTO:+0100
TZNAME:CET
DTSTART:20181028T010000
END:STANDARD
BEGIN:DAYLIGHT
TZOFFSETFROM:+0100
TZOFFSETTO:+0200
TZNAME:CEST
DTSTART:20190331T010000
END:DAYLIGHT
BEGIN:STANDARD
TZOFFSETFROM:+0200
TZOFFSETTO:+0100
TZNAME:CET
DTSTART:20191027T010000
END:STANDARD
BEGIN:DAYLIGHT
TZOFFSETFROM:+0100
TZOFFSETTO:+0200
TZNAME:CEST
DTSTART:20200329T010000
END:DAYLIGHT
BEGIN:STANDARD
TZOFFSETFROM:+0200
TZOFFSETTO:+0100
TZNAME:CET
DTSTART:20201025T010000
END:STANDARD
END:VTIMEZONE
BEGIN:VEVENT
DTSTART;TZID=Europe/Vienna:20200310T183000
DTEND;TZID=Europe/Vienna:20200310T223000
DTSTAMP:20260426T045721
CREATED:20191215T161522Z
LAST-MODIFIED:20200222T101823Z
UID:10000679-1583865000-1583879400@bpw.at
SUMMARY:Clubabend - Frauen und Geld
DESCRIPTION:Frauen und Geld – eine gute Kombination!  \nBeim Clubabend im März werden wir hören\, dass Frauen im Grunde die besseren Anleger sind\, wenn es darum geht\, Geld sicher\, aber auch ertragreich zu veranlagen. Frau Mag.a Carolin Mack\, Leiterin des Marketings der VKB Oberösterreich\, wird uns an diesem Abend ihr Herzensprojekt “Frauen gestalten Leben” vorstellen und uns auch über einige\, für Frauen in allen Lebenslagen maßgeschneiderte\, Produkte informieren. \n\nNatürlich sprechen wir auch über den Equal Pay Day 2020\, der wieder ein Stück weg vom 10.März gerückt ist – auf den 25. Februar.  \n  \nZur Referentin: Mag.a Carolin Mack\, Marketing-Expertin mit langjähriger Erfahrung im Medien-\, Agentur- und Lebensmittelbereich\, ist als Quereinsteigerin seit zwei Jahren Bereichsdirektorin Marketing der Volkskreditbank AG. \n 
URL:https://bpw.at/event/frauen-und-geld/
LOCATION:Parkhotel Stroissmüller\, Badstraße 2\, Bad Schallerbach\, Oberösterreich\, 4701\, Österreich
CATEGORIES:Linz-Wels
ATTACH;FMTTYPE=image/jpeg:https://bpw.at/wp/wp-content/uploads/2020/02/rote-Tasche.jpg
ORGANIZER;CN="BPW Club Linz-Wels":MAILTO:wels@bpw.at
END:VEVENT
BEGIN:VEVENT
DTSTART;TZID=Europe/Vienna:20200114T183000
DTEND;TZID=Europe/Vienna:20200114T223000
DTSTAMP:20260426T045721
CREATED:20191215T160714Z
LAST-MODIFIED:20191216T181757Z
UID:10000676-1579026600-1579041000@bpw.at
SUMMARY:Clubabend-Mit Ayurveda entspannt ins Neue Jahr
DESCRIPTION:Du bist oft überfordert\, müde und erschöpft? Du bist gehetzt und unter Zeitdruck und hast keine Zeit für ein ruhiges Gespräch oder gar für Nichtstun? Dann hilft dir vielleicht die ayurvedische Lehre\, das Wissen vom Leben\, weiter. In diesem Vortrag beschäftigen wir uns mit den Grundlagen des Ayurveda\, einem gesunden Lebensstil\, der uns hilft\, mit unserem Stress klarzukommen\, mit gesunder Ernährung\, der Wichtigkeit regelmäßiger Bewegung und Entspannung. Grundlagen-Wissen\, Tipps und Tricks\, die uns mit unserem täglichen Stress besser umgehen lassen. \n  \nTrainerin: Mag.a Cornelia Pessenlehner \nVor 8 Jahren hat Cornelia Pessenlehner ihre Management-Karriere beendet und widmet sich seither aus tiefster Überzeugung der Prävention: als Seminarleiterin in Firmen der Burnout Prävention und für Teams und Privatpersonen in Kochkursen als Ayurveda Köchin. Als Expertin für Stressmanagement und aufgrund ihrer eigenen Erfahrungen gibt sie gerne ihr Wissen in praxisbezogenen Workshops und in ihren mit Liebe geleiteten Kochkursen weiter. http://www.corneliapessenlehner.at/
URL:https://bpw.at/event/clubabend-mit-ayurveda-entspannt-ins-neue-jahr/
LOCATION:Parkhotel Stroissmüller\, Badstraße 2\, Bad Schallerbach\, Oberösterreich\, 4701\, Österreich
CATEGORIES:Linz-Wels
ORGANIZER;CN="BPW Club Linz-Wels":MAILTO:wels@bpw.at
END:VEVENT
BEGIN:VEVENT
DTSTART;TZID=Europe/Vienna:20191008T183000
DTEND;TZID=Europe/Vienna:20191008T223000
DTSTAMP:20260426T045721
CREATED:20190929T082733Z
LAST-MODIFIED:20190929T082733Z
UID:10000643-1570559400-1570573800@bpw.at
SUMMARY:SOCIAL MEDIA 4 BUSINESS
DESCRIPTION:Social Media ist ein fixer Bestandteil unseres täglichen Lebens geworden und auch aus moderner Unternehmenskommunikation nicht mehr wegzudenken. Mit dem Smartphone als ständigen Begleiter sind deine (potenziellen) Kunden fast 24/7 erreichbar. \nAber: welche Themen sind für Social Media interessant\, welche Posts werden gelesen? \nReferentin: Ingrid Rochelt\, FOOCUS MEHRWERT MARKETING\, (www.foocus.at) \n 
URL:https://bpw.at/event/social-media-4-business/
LOCATION:Parkhotel Stroissmüller\, Badstraße 2\, Bad Schallerbach\, Oberösterreich\, 4701\, Österreich
CATEGORIES:Linz-Wels
ORGANIZER;CN="BPW Club Linz-Wels":MAILTO:wels@bpw.at
END:VEVENT
BEGIN:VEVENT
DTSTART;TZID=Europe/Vienna:20190910T180000
DTEND;TZID=Europe/Vienna:20190910T233000
DTSTAMP:20260426T045721
CREATED:20190819T055541Z
LAST-MODIFIED:20190819T055541Z
UID:10000747-1568138400-1568158200@bpw.at
SUMMARY:Wir für uns Abend - Members only
DESCRIPTION:Der Clubabend am 10.09.2019 steht ganz im Zeichen der Zukunft von BPW Wels-Hausruck und ist deshalb nur für die Mitglieder offen. \nDer ursprünglich geplante und im Folder angekündigte “Working Mum Talk” wird zu einem anderen Zeitpunkt statt finden.
URL:https://bpw.at/event/wir-fuer-uns-abend-members-only/
LOCATION:Parkhotel Stroissmüller\, Badstraße 2\, Bad Schallerbach\, Oberösterreich\, 4701\, Österreich
CATEGORIES:Linz-Wels
END:VEVENT
BEGIN:VEVENT
DTSTART;TZID=Europe/Berlin:20190611T183000
DTEND;TZID=Europe/Berlin:20190611T223000
DTSTAMP:20260426T045721
CREATED:20190409T100240Z
LAST-MODIFIED:20190527T081747Z
UID:10000601-1560277800-1560292200@bpw.at
SUMMARY:"Big Data - Big Chance?"
DESCRIPTION:Datum: Dienstag\, 11. Juni 2019 – 18:30 bis 22:30\nBPW Club: Wels-Hausruck\nOrt: Parkhotel Stroissmüller\, Badstraße 2\, Bad Schallerbach \n„Big Data – Big Chance?!“\nZum Handlungsfeld „Personal Leadership“ \nWie sich auch mit wenig Mitteln viel aus den Kundendaten herausholen lässt. Und wie es mit der Ethik beim Daten-Sammeln aussieht. \nDr.in Julia Zukrigl\, Daten Analystin und Marketing Spezialistin \nCome together 18.30 mit Essen\, Start 19.30 \nPreis: Gäste: 15\,-\nAnmeldung: wels@bpw.at
URL:https://bpw.at/event/big-data-big-chance/
LOCATION:Parkhotel Stroissmüller\, Badstraße 2\, Bad Schallerbach\, Oberösterreich\, 4701\, Österreich
CATEGORIES:Linz-Wels
END:VEVENT
BEGIN:VEVENT
DTSTART;TZID=Europe/Berlin:20190409T183000
DTEND;TZID=Europe/Berlin:20190409T223000
DTSTAMP:20260426T045721
CREATED:20190409T103645Z
LAST-MODIFIED:20190412T140528Z
UID:10000618-1554834600-1554849000@bpw.at
SUMMARY:"Mit BPW in Bewegung!"
DESCRIPTION:Datum: Dienstag\, 9. April 2019 – 18:30 bis 22:30\nBPW Club: Wels-Hausruck\nOrt: Parkhotel Stroissmüller\, Badstraße 2\, Bad Schallerbach \nMit BPW in Bewegung!\nZum Handlungsfeld „Personal Balance“ \nGemeinsam bewegen wir etwas\, gemeinsam wollen wir uns bewegen. Zumba ist das richtige Mittel um bewegt zu bleiben! \nDaniela Mittelmann \nCome together 18.30\, Start 19.00h\, Essen im Anschluss \nnähere Infos und Details folgen! \nPreis: Gäste: 15\,-\nAnmeldung: wels@bpw.at
URL:https://bpw.at/event/mit-bpw-in-bewegung/
LOCATION:Parkhotel Stroissmüller\, Badstraße 2\, Bad Schallerbach\, Oberösterreich\, 4701\, Österreich
CATEGORIES:Linz-Wels
END:VEVENT
BEGIN:VEVENT
DTSTART;TZID=Europe/Berlin:20190321T183000
DTEND;TZID=Europe/Berlin:20190321T223000
DTSTAMP:20260426T045721
CREATED:20190409T104103Z
LAST-MODIFIED:20190412T140547Z
UID:10000621-1553193000-1553207400@bpw.at
SUMMARY:"Reden wir übers Geld!"
DESCRIPTION:Datum: Donnerstag\, 21. März 2019 – 18:30 bis 22:30\nBPW Club: Wels-Hausruck\nOrt: Parkhotel Stroissmüller\, Badstraße 2\, Bad Schallerbach \n„Reden wir übers Geld“\nZum Handlungsfeld „Gleicher Lohn für gleiche Arbeit“ \nGerade Frauen sprechen darüber oft nicht gerne\, obwohl es ratsam wäre. Wir wollen daher erörtern\, welche vermögensrechtlichen Ansprüche und rechtlichen Möglichkeiten zur Absicherung während und bei Auflösung von Lebensgemeinschaft und Ehe bestehen und welche Gestaltungsmöglichkeiten das Erbrecht zur Vermögensweitergabe bietet. \nACHTUNG! Dieses Mal der dritte Donnerstag im Monat! \nnähere Infos und Details folgen! \nPreis: Gäste: 15\,-\nAnmeldung: wels@bpw.at
URL:https://bpw.at/event/reden-wir-uebers-geld/
LOCATION:Parkhotel Stroissmüller\, Badstraße 2\, Bad Schallerbach\, Oberösterreich\, 4701\, Österreich
CATEGORIES:Linz-Wels
END:VEVENT
BEGIN:VEVENT
DTSTART;TZID=Europe/Berlin:20190108T183000
DTEND;TZID=Europe/Berlin:20190108T220000
DTSTAMP:20260426T045721
CREATED:20190411T145428Z
LAST-MODIFIED:20190412T141444Z
UID:10000696-1546972200-1546984800@bpw.at
SUMMARY:Clubabend "Richtiges Verdauen will gelernt sein"
DESCRIPTION:Datum: Dienstag\, 8. Januar 2019 – 18:30 bis 22:00\nBPW Club: Wels-Hausruck\nOrt: Parkhotel Stroissmüller\, Badstraße 2\, Bad Schallerbach \n„Richtiges Verdauen will gelernt sein“\nZum Handlungsfeld „Personal Balance“\nDie Neujahrsvorsätze schlagen sich auf den Magen? Dann freuen Sie sich auf einen unterhaltsamen Abend mit praktischen Tipps und Tricks und garantierten Aha-Effekten!\nMag.a Tanja Anzengruber\, Dipl. Ernährungsberaterin\, www.nahrtour.at \nPreis: 15\,- für Gäste\nAnmeldung: wels@bpw.at\nDatei: Einladung Clubabend_Jänner 2019.docx_.pdf
URL:https://bpw.at/event/clubabend-richtiges-verdauen-will-gelernt-sein/
LOCATION:Parkhotel Stroissmüller\, Badstraße 2\, Bad Schallerbach\, Oberösterreich\, 4701\, Österreich
CATEGORIES:Linz-Wels
END:VEVENT
BEGIN:VEVENT
DTSTART;TZID=Europe/Berlin:20181009T183000
DTEND;TZID=Europe/Berlin:20181009T220000
DTSTAMP:20260426T045721
CREATED:20190411T144846Z
LAST-MODIFIED:20190412T143302Z
UID:10000694-1539109800-1539122400@bpw.at
SUMMARY:Clubabend "Lustvoll Lösungen entwickeln"
DESCRIPTION:Datum: Dienstag\, 9. Oktober 2018 – 18:30 bis 22:00\nBPW Club: Wels-Hausruck\nOrt: Parkhotel Stroissmüller\, Badstraße 2\, Bad Schallerbach \n„Lustvoll Lösungen entwickeln“\nZum Handlungsfeld „Personal Leadership“\nDas tägliche Multitasking\, Job\, Haushalt und Familie unter einen Hut bringen – manchmal sieht frau den Wald vor lauter Bäumen nicht. In solchen Situationen ist es oft schwierig\, innovative Lösungen zu finden. Mag.a Ulrike Würzburger hilft uns an diesem Abend dabei!\nMag.a Ulrike Würzburger\, stv. Geschäftsführerin B7 Arbeit und Leben\nwww.arbeit-b7.at\nDetails folgen! \nPreis: 15\,- für Gäste\nAnmeldung: wels@bpw.at\nDatei: Einladung Clubabend Oktober 2018.pdf
URL:https://bpw.at/event/clubabend-lustvoll-loesungen-entwickeln/
LOCATION:Parkhotel Stroissmüller\, Badstraße 2\, Bad Schallerbach\, Oberösterreich\, 4701\, Österreich
CATEGORIES:Linz-Wels
END:VEVENT
BEGIN:VEVENT
DTSTART;TZID=Europe/Berlin:20180911T193000
DTEND;TZID=Europe/Berlin:20180911T200000
DTSTAMP:20260426T045721
CREATED:20190411T144643Z
LAST-MODIFIED:20190412T143515Z
UID:10000693-1536694200-1536696000@bpw.at
SUMMARY:Vorstellung BPW Mentoring
DESCRIPTION:Datum: Dienstag\, 11. September 2018 – 19:30 bis 20:00\nBPW Club: Wels-Hausruck\nOrt: Parkhotel Stroissmüller\, Badstraße 2\, Bad Schallerbach \nBPW Mentoring\nIm Zuge des “Working Mum Talk” stellten wir auch unser Mentoring vor! Nähere Informationen finden sich im Informationsblatt!\nDatei: Mentoring by BPW Wels Hausruck.docx_.pdf
URL:https://bpw.at/event/vorstellung-bpw-mentoring/
LOCATION:Parkhotel Stroissmüller\, Badstraße 2\, Bad Schallerbach\, Oberösterreich\, 4701\, Österreich
CATEGORIES:Linz-Wels
END:VEVENT
BEGIN:VEVENT
DTSTART;TZID=Europe/Berlin:20180911T183000
DTEND;TZID=Europe/Berlin:20180911T220000
DTSTAMP:20260426T045721
CREATED:20190411T144412Z
LAST-MODIFIED:20190412T143525Z
UID:10000692-1536690600-1536703200@bpw.at
SUMMARY:NACHLESE Clubabend "Working Mum Talk - Mut zu Familie und Karriere"
DESCRIPTION:Datum: Dienstag\, 11. September 2018 – 18:30 bis 22:00\nBPW Club: Wels-Hausruck\nOrt: Parkhotel Stroissmüller\, Badstraße 2\, Bad Schallerbach \nEinladung zum Clubabend „Working Mum Talk“ \n„Mut zu Familie und Karriere“\nzu den BPW Handlungsfeldern „Vereinbarkeit von Beruf und Familie“ und „Karriere“ \nTrotz schwieriger Rahmenbedingungen lohnt es sich\, mutig zu sein! Karriere muss nicht immer gleich der Manager-Job im ATX Unternehmen sein. Karriere kann bedeuten\, zu tun\, was man liebt und/oder gelernt hat – trotz bzw. gerade als Mutter. Was der Spagat zwischen Familie und Beruf auch an Positivem bringen kann\, haben wir an diesem Abend diskutiert. \nIhre Erfahrungen teilte mit uns DI(FH) Bettina Wächter MA – angestellte Projekt- und Organisationsentwicklerin und selbstständige Beraterin im Prozessmanagement und Datenschutz\, Mutter 2er Kinder. \nDatei: Nachlese September Clubabend 2018.pdf
URL:https://bpw.at/event/nachlese-clubabend-working-mum-talk-mut-zu-familie-und-karriere/
LOCATION:Parkhotel Stroissmüller\, Badstraße 2\, Bad Schallerbach\, Oberösterreich\, 4701\, Österreich
CATEGORIES:Linz-Wels
END:VEVENT
END:VCALENDAR