BEGIN:VCALENDAR
VERSION:2.0
PRODID:-//Business and Professional Women Austria - ECPv6.15.20//NONSGML v1.0//EN
CALSCALE:GREGORIAN
METHOD:PUBLISH
X-WR-CALNAME:Business and Professional Women Austria
X-ORIGINAL-URL:https://bpw.at
X-WR-CALDESC:Veranstaltungen für Business and Professional Women Austria
REFRESH-INTERVAL;VALUE=DURATION:PT1H
X-Robots-Tag:noindex
X-PUBLISHED-TTL:PT1H
BEGIN:VTIMEZONE
TZID:Europe/Vienna
BEGIN:DAYLIGHT
TZOFFSETFROM:+0100
TZOFFSETTO:+0200
TZNAME:CEST
DTSTART:20250330T010000
END:DAYLIGHT
BEGIN:STANDARD
TZOFFSETFROM:+0200
TZOFFSETTO:+0100
TZNAME:CET
DTSTART:20251026T010000
END:STANDARD
BEGIN:DAYLIGHT
TZOFFSETFROM:+0100
TZOFFSETTO:+0200
TZNAME:CEST
DTSTART:20260329T010000
END:DAYLIGHT
BEGIN:STANDARD
TZOFFSETFROM:+0200
TZOFFSETTO:+0100
TZNAME:CET
DTSTART:20261025T010000
END:STANDARD
BEGIN:DAYLIGHT
TZOFFSETFROM:+0100
TZOFFSETTO:+0200
TZNAME:CEST
DTSTART:20270328T010000
END:DAYLIGHT
BEGIN:STANDARD
TZOFFSETFROM:+0200
TZOFFSETTO:+0100
TZNAME:CET
DTSTART:20271031T010000
END:STANDARD
END:VTIMEZONE
BEGIN:VEVENT
DTSTART;TZID=Europe/Vienna:20260428T183000
DTEND;TZID=Europe/Vienna:20260428T220000
DTSTAMP:20260420T225044
CREATED:20260420T081237Z
LAST-MODIFIED:20260420T082112Z
UID:10001548-1777401000-1777413600@bpw.at
SUMMARY:BPW Tirol Clubabend - Das war unsere 25 Jahrfeier
DESCRIPTION:Unsere 25 Jahrfeier war ein besonderes Event mit vielen BPW Gästinnen aus Nah und Fern. Begonnen hat unser Fest am Freitag bei strahlendem Sonnenschein mit einem Treffen auf der Hungerburg und einem Abendessen im Stiftskeller. Am Samstag wurden die Frauen durch Innsbruck geführt und am späten Nachmittag haben wir uns mit Sekt auf einen unterhaltsamen Abend eingestimmt. Es wurde viel geredet und noch mehr gelacht. Die Feier wurde erst zu später Nachtstunde beendet. Mit vielen Glückwünschen von den angereisten BPW Frauen haben sich dann am Sonntag noch einige zu einem Brunch im Hotel Innsbruck getroffen. \nWir vom BPW Vorstand sind überglücklich\, dass unsere Feier so großen Anklang gefunden hat. Nun wollen wir uns bei den vielen helfenden Händen bedanken. Kommt am Dienstag zu diesem Clubabend\, der ganz speziell dem fleißigen Organisations-Team gewidmet ist. \nDa wir viele Geschenke von unseren Gästinnen erhalten haben\, wollen wir an diesem Abend auch beschließen\, wie wir diese verwenden und aufteilen.
URL:https://bpw.at/event/bpw-tirol-clubabend-das-war-unsere-25-jahrfeier/
LOCATION:RUFI’S Restaurant\, Fischnalerstraße 28\, Innsbruck\, Tirol\, 6020\, Austria
CATEGORIES:Tirol
ATTACH;FMTTYPE=image/jpeg:https://bpw.at/wp/wp-content/uploads/2026/02/Innsbruck-Foto-von-Ola-Fruehwirth.jpg
END:VEVENT
END:VCALENDAR