BEGIN:VCALENDAR
VERSION:2.0
PRODID:-//Business and Professional Women Austria - ECPv6.15.20//NONSGML v1.0//EN
CALSCALE:GREGORIAN
METHOD:PUBLISH
X-WR-CALNAME:Business and Professional Women Austria
X-ORIGINAL-URL:https://bpw.at
X-WR-CALDESC:Veranstaltungen für Business and Professional Women Austria
REFRESH-INTERVAL;VALUE=DURATION:PT1H
X-Robots-Tag:noindex
X-PUBLISHED-TTL:PT1H
BEGIN:VTIMEZONE
TZID:Europe/Vienna
BEGIN:DAYLIGHT
TZOFFSETFROM:+0100
TZOFFSETTO:+0200
TZNAME:CEST
DTSTART:20180325T010000
END:DAYLIGHT
BEGIN:STANDARD
TZOFFSETFROM:+0200
TZOFFSETTO:+0100
TZNAME:CET
DTSTART:20181028T010000
END:STANDARD
BEGIN:DAYLIGHT
TZOFFSETFROM:+0100
TZOFFSETTO:+0200
TZNAME:CEST
DTSTART:20190331T010000
END:DAYLIGHT
BEGIN:STANDARD
TZOFFSETFROM:+0200
TZOFFSETTO:+0100
TZNAME:CET
DTSTART:20191027T010000
END:STANDARD
BEGIN:DAYLIGHT
TZOFFSETFROM:+0100
TZOFFSETTO:+0200
TZNAME:CEST
DTSTART:20200329T010000
END:DAYLIGHT
BEGIN:STANDARD
TZOFFSETFROM:+0200
TZOFFSETTO:+0100
TZNAME:CET
DTSTART:20201025T010000
END:STANDARD
BEGIN:DAYLIGHT
TZOFFSETFROM:+0100
TZOFFSETTO:+0200
TZNAME:CEST
DTSTART:20210328T010000
END:DAYLIGHT
BEGIN:STANDARD
TZOFFSETFROM:+0200
TZOFFSETTO:+0100
TZNAME:CET
DTSTART:20211031T010000
END:STANDARD
END:VTIMEZONE
BEGIN:VEVENT
DTSTART;TZID=Europe/Vienna:20200108T180000
DTEND;TZID=Europe/Vienna:20200108T220000
DTSTAMP:20260424T212347
CREATED:20200103T090936Z
LAST-MODIFIED:20200116T091254Z
UID:10000683-1578506400-1578520800@bpw.at
SUMMARY:Gesellschaft in Balance
DESCRIPTION:Matriarchale Kulturen in Vergangenheit und Gegenwart\nMatriarchale Gesellschaften sind in allen Bereichen des Lebens geprägt von einer Balance der Geschlechter\, den Generationen sowie von Natur und Mensch. Durch die Erkenntnisse der modernen Matriarchatsforschung eröffnen sich neue Perspektiven auf Leben\, Kultur\, Gesellschaft\, Geschichte und Spiritualität. Daraus lassen sich vielfältige\, konstruktive Lösungsansätze für ein Leben in friedlicher Gleichwertigkeit auf persönlicher und gesellschaftlicher Ebene entwickeln. \n \n   \n  \nRenate Fuchs-Haberl\, Referentin für moderne Matriarchatsforschung der int. Akademie Hagia | Landschaftsmythologin und Ritualfrau | Natur- und Landschaftsvermittlung | Systemisch-rituelle Räucherkunde | Praxis für Benaudira-Hörtraining | www.wildmohnfrau.at \n  \n  \nVernetzung ab: 18:00 Uhr Vortragsbeginn: 19:30 Uhr \nBPW´s: gratis  Gästebeitrag: €  15\,– \nWährend und nach der Veranstaltung wird fotografiert. Die Fotos werden auf unserer Homepage www.bpw.at/salzburg veröffentlicht und in unserem Gästebuch eingeklebt und sind als Erinnerung und Nachlese gedacht. Mit der Teilnahme am Clubabend erklärt Ihr Euch damit einverstanden.
URL:https://bpw.at/event/bpw-salzburg-clubabend-7/
LOCATION:Salzburg Airport W. A. Mozart\, Restaurant Jedermann\, Innsbrucker Bundesstr. 95\, Salzburg\, Salzburg\, 5020\, Österreich
CATEGORIES:Salzburg
ATTACH;FMTTYPE=image/jpeg:https://bpw.at/wp/wp-content/uploads/2020/01/MosuoUscha-Dagmar-DanielaWEB-1.jpg
ORGANIZER;CN="BPW Club Salzburg":MAILTO:salzburg@bpw.at
END:VEVENT
BEGIN:VEVENT
DTSTART;TZID=Europe/Vienna:20191210T180000
DTEND;TZID=Europe/Vienna:20191210T220000
DTSTAMP:20260424T212347
CREATED:20190521T194548Z
LAST-MODIFIED:20190905T205518Z
UID:10000620-1576000800-1576015200@bpw.at
SUMMARY:BPW Salzburg Weihnachtsfeier
DESCRIPTION:Details folgen
URL:https://bpw.at/event/weihnachtsfeier-bpw-club-salzburg/
LOCATION:Salzburg Airport W. A. Mozart\, Restaurant Jedermann\, Innsbrucker Bundesstr. 95\, Salzburg\, Salzburg\, 5020\, Österreich
CATEGORIES:Salzburg
ATTACH;FMTTYPE=image/jpeg:https://bpw.at/wp/wp-content/uploads/2019/05/20181212_190717.jpg
ORGANIZER;CN="BPW Club Salzburg":MAILTO:salzburg@bpw.at
END:VEVENT
BEGIN:VEVENT
DTSTART;TZID=Europe/Vienna:20191114T180000
DTEND;TZID=Europe/Vienna:20191114T220000
DTSTAMP:20260424T212347
CREATED:20190522T083014Z
LAST-MODIFIED:20191008T183923Z
UID:10000700-1573754400-1573768800@bpw.at
SUMMARY:„Flughafen Salzburg\, der charmante Airlebnisport“ Bettina Ganghofer\, MA\, GF des Salzburger Flughafens
DESCRIPTION:Die Geschäftsführerin des Flughafens Salzburg und unser BPW Club Salzburg Host: eine erfolgreiche Frau bei uns zu Gast: \n \nBettina Ganghofer\, MA\, GF des Salzburger Flughafens \nVernetzung ab: 18:00 Uhr Vortragsbeginn: 19:30 Uhr \nBPW´s: gratis  Gästebeitrag: €  15\,– \nWährend und nach der Veranstaltung wird fotografiert. Die Fotos werden auf unserer Homepage www.bpw.at/salzburg veröffentlicht und in unserem Gästebuch eingeklebt und sind als Erinnerung und Nachlese gedacht. Mit der Teilnahme am Clubabend erklärt Ihr Euch damit einverstanden.
URL:https://bpw.at/event/clubabend-4/
LOCATION:Salzburg Airport W. A. Mozart\, Restaurant Jedermann\, Innsbrucker Bundesstr. 95\, Salzburg\, Salzburg\, 5020\, Österreich
CATEGORIES:Salzburg
ATTACH;FMTTYPE=image/jpeg:https://bpw.at/wp/wp-content/uploads/2019/05/CEO-Flughafen-Salzburg-Bettina-Ganghofer.jpg
ORGANIZER;CN="BPW Club Salzburg":MAILTO:salzburg@bpw.at
END:VEVENT
BEGIN:VEVENT
DTSTART;TZID=Europe/Vienna:20191009T180000
DTEND;TZID=Europe/Vienna:20191009T220000
DTSTAMP:20260424T212347
CREATED:20190522T082856Z
LAST-MODIFIED:20191027T144719Z
UID:10000699-1570644000-1570658400@bpw.at
SUMMARY:BPW Salzburg Clubabend "Frauen führen anders" mit Hermine Meissl
DESCRIPTION:“Frauen führen anders” \nGerne mache ich mit Ihnen einen Ausflug in Meissl´s Schirmwelt und meinen Führungsalltag in einer männerdominierten Branche. \nHermine Meissl führt das Unternehmen in zweiter Generation und beschäftigt aktuell 51 Mitarbeiter. \nDer Name Meissl steht längst nicht mehr für unterschiedliche Schirmformate\, sondern auch für individuelle \nGroßflächenüberdachungen und mobile Windschutzwände. \n \nHermine Meissl\, Geschäftsführung J. Meissl GmbH\, Schirmbar und Wetterschutzkonzepte \n        \n      \nVernetzung ab: 18:00 Uhr Vortragsbeginn: 19:30 Uhr \nBPW´s: gratis  Gästebeitrag: €  15\,– \nWährend und nach der Veranstaltung wird fotografiert. Die Fotos werden auf unserer Homepage www.bpw.at/salzburg veröffentlicht und in unserem Gästebuch eingeklebt und sind als Erinnerung und Nachlese gedacht. Mit der Teilnahme am Clubabend erklärt Ihr Euch damit einverstanden.
URL:https://bpw.at/event/clubabend-3/
LOCATION:Salzburg Airport W. A. Mozart\, Restaurant Jedermann\, Innsbrucker Bundesstr. 95\, Salzburg\, Salzburg\, 5020\, Österreich
CATEGORIES:Salzburg
ATTACH;FMTTYPE=image/jpeg:https://bpw.at/wp/wp-content/uploads/2019/05/Hermine-Meisslxxx.jpg
ORGANIZER;CN="BPW Club Salzburg":MAILTO:salzburg@bpw.at
END:VEVENT
BEGIN:VEVENT
DTSTART;TZID=Europe/Vienna:20190910T180000
DTEND;TZID=Europe/Vienna:20190910T220000
DTSTAMP:20260424T212347
CREATED:20190522T085429Z
LAST-MODIFIED:20190905T205833Z
UID:10000701-1568138400-1568152800@bpw.at
SUMMARY:BPW Salzburg Clubabend "European Forum Alpbach – 2019" mit Dr. iur Maria Ganauser
DESCRIPTION:European Forum Alpbach – 2019 \nUnternehmer aus dem In- und Ausland\, Persönlichkeiten aus Politik und Forschung\, sowie Verfechter von neuen Ideen traten in den freien Dialog\, der Generationen und Ideologien überschreitet. Wie vertragen sich die menschlichen Wünsche nach Freiheit und Sicherheit? Die Welt ist im Umbruch – wo steht da Europa? Wird es zwischen den Blöcken USA und China noch Luft zum Atmen haben? \nIch brenne darauf\, Euch einen Überblick über meine Erfahrungen und Erkenntnisse bei diesem tollen Symposium in Alpbach zu geben. \nKeine Sorge – es gibt Grund zu Optimismus! Nur Optimisten bringen etwas weiter! \n  \nDr. iur Maria Ganauser \nVernetzung ab: 18:00 Uhr Vortragsbeginn: 19:30 Uhr \nBPW´s: gratis  Gästebeitrag: €  15\,– \nWährend und nach der Veranstaltung wird fotografiert. Die Fotos werden auf unserer Homepage www.bpw.at/salzburg veröffentlicht und in unserem Gästebuch eingeklebt und sind als Erinnerung und Nachlese gedacht. Mit der Teilnahme am Clubabend erklärt Ihr Euch damit einverstanden.
URL:https://bpw.at/event/clubabend-5/
LOCATION:Salzburg Airport W. A. Mozart\, Restaurant Jedermann\, Innsbrucker Bundesstr. 95\, Salzburg\, Salzburg\, 5020\, Österreich
CATEGORIES:Salzburg
ATTACH;FMTTYPE=image/jpeg:https://bpw.at/wp/wp-content/uploads/2019/05/20190828_134522.jpg
ORGANIZER;CN="BPW Club Salzburg":MAILTO:salzburg@bpw.at
END:VEVENT
BEGIN:VEVENT
DTSTART;TZID=Europe/Vienna:20190808T180000
DTEND;TZID=Europe/Vienna:20190808T220000
DTSTAMP:20260424T212347
CREATED:20190522T082213Z
LAST-MODIFIED:20190727T094225Z
UID:10000698-1565287200-1565301600@bpw.at
SUMMARY:"Der Salzburger Frauenrat" Wer wir sind
DESCRIPTION:“Der Salzburger Frauenrat” Wer wir sind \n\n\n\n\n\n\n\nWir sind überparteilich\, vielfältig und engagiert für viele Lebenslagen: Der Salzburger Frauenrat besteht aus Fraueninitiativen\, -gruppen\, -projekten\, -beauftragten und -referentinnen\, Frauensprecherinnen der Parteien sowie autonomen Frauen. Wir setzen uns für die Veränderung und Verbesserung der Lebenssituation von Frauen ein und fühlen uns Fraueninteressen verpflichtet. \nWir engagieren uns für eine gerechte Gesellschaft auf Basis des Menschenrechtskatalogs und internationaler\, nationaler und regionaler Gleichstellungsziele. Der Salzburger Frauenrat ist die Basis für frauenpolitische Vernetzung\, Diskussionen und Meinungsaustausch im Bundesland Salzburg. \n  \nMag.a Ines Grössenberger (Soziologin)\, Arbeiterkammer Salzburg \n \nDaniela Wallinger\, BA. BA. (Erziehungs- und Politikwissenschafterin)\, Studentin “Gender\, Kultur und sozialer Wandel” \n  \nMag.a Birgit Thaler-Haag (Juristin)\, Frauenhaus Salzburg \n\n\n\n\n\n\n\nVernetzung ab: 18:00 Uhr Vortragsbeginn: 19:30 Uhr \nBPW´s: gratis  Gästebeitrag: €  15\,– \nWährend und nach der Veranstaltung wird fotografiert. Die Fotos werden auf unserer Homepage www.bpw.at/salzburg veröffentlicht und in unserem Gästebuch eingeklebt und sind als Erinnerung und Nachlese gedacht. Mit der Teilnahme am Clubabend erklärt Ihr Euch damit einverstanden.
URL:https://bpw.at/event/clubabend-2/
LOCATION:Salzburg Airport W. A. Mozart\, Restaurant Jedermann\, Innsbrucker Bundesstr. 95\, Salzburg\, Salzburg\, 5020\, Österreich
CATEGORIES:Salzburg
ATTACH;FMTTYPE=image/jpeg:https://bpw.at/wp/wp-content/uploads/2019/05/frauenrat-logo-fr-300-1.jpg
ORGANIZER;CN="BPW Club Salzburg":MAILTO:salzburg@bpw.at
END:VEVENT
BEGIN:VEVENT
DTSTART;TZID=Europe/Vienna:20190710T180000
DTEND;TZID=Europe/Vienna:20190710T220000
DTSTAMP:20260424T212347
CREATED:20190522T081907Z
LAST-MODIFIED:20190723T063943Z
UID:10000697-1562781600-1562796000@bpw.at
SUMMARY:„Der Weg zur Resilienz – innen und außen“ von Mag.a pharm. Michaela Mandl\, Pharmazeutin und Resilienztrainerin NLR®\, Salzburg
DESCRIPTION:„Der Weg zur Resilienz – innen und außen“ \nResilienz – im Außen und im Inneren \nDie Neurowissenschaft bestätigt: Resilienz ist erlernbar und einer der wichtigsten Eigenschaften von erfolgreichen Menschen. Die Art und Weise\, wie wir über uns und die Welt da draußen denken\, beeinflusst unser Wohlbefinden massiv. Ein gesunder Körper\, ausgewogene Ernährung\, die richtigen Vitamine und Spurenelemente nähren einen resilienten Geist. \nWas macht SINN und was ist Unsinn am Weg zur Resilienz? Das ist die Frage\, auf die wir am 10. Juli gemeinsam Antworten suchen. \nMaga pharm. Michaela Mandl\, Pharmazeutin und Resilienztrainerin NLR®\, Salzburg \nVernetzung ab: 18:00 Uhr Vortragsbeginn: 19:30 Uhr \nsdr \nsdr \n   \nBPW´s: gratis  Gästebeitrag: €  15\,– \nWährend und nach der Veranstaltung wird fotografiert. Die Fotos werden auf unserer Homepage www.bpw.at/salzburg veröffentlicht und in unserem Gästebuch eingeklebt und sind als Erinnerung und Nachlese gedacht. Mit der Teilnahme am Clubabend erklärt Ihr Euch damit einverstanden.
URL:https://bpw.at/event/clubabend/
LOCATION:Salzburg Airport W. A. Mozart\, Restaurant Jedermann\, Innsbrucker Bundesstr. 95\, Salzburg\, Salzburg\, 5020\, Österreich
CATEGORIES:Salzburg
ATTACH;FMTTYPE=image/jpeg:https://bpw.at/wp/wp-content/uploads/2019/05/Vortragende-Michaela-Mandl.jpg
ORGANIZER;CN="BPW Club Salzburg":MAILTO:salzburg@bpw.at
END:VEVENT
BEGIN:VEVENT
DTSTART;TZID=Europe/Vienna:20190604T180000
DTEND;TZID=Europe/Vienna:20190604T220000
DTSTAMP:20260424T212347
CREATED:20190521T194735Z
LAST-MODIFIED:20190721T091411Z
UID:10000623-1559671200-1559685600@bpw.at
SUMMARY:BPW Salzburg aktuell
DESCRIPTION:Die neue BPW Homepage:  was ist neu\, wie funktioniert sie (Informationen\, Profile erstellen/ändern\, Mitgliederlisten\, etc.). Praktische Infos zu Facebook z. B. wie präsentieren sich BPW Austria und andere BPW  Clubs. Was sollten wir tun?\n25 Jahr Jubiläum BPW Salzburg im nächsten Jahr und Equal Pay Day 2020:Ergebnisse des letzten Clubabends\,  Arbeitsgruppen\, weitere Ideen \n\n16th European BPW Conference in Galway\, Irland: Informationen\, Eindrücke und Bilder\n Speed Dating Teil 2\n\nVernetzung ab: 18:00 Uhr Vortragsbeginn: 19:30 Uhr \nBPW´s: gratis  Gäste: € 15\,– \nWährend und nach der Veranstaltung wird fotografiert. Die Fotos werden auf unserer Homepage www.bpw.at/salzburg veröffentlicht und in unserem Gästebuch eingeklebt und sind als Erinnerung und Nachlese gedacht. Mit der Teilnahme am Clubabend erklärt Ihr Euch damit einverstanden.
URL:https://bpw.at/event/digital-leader-its-all-about-people-nicht-die-technik-sondern-der-mensch-macht-den-erfolg/
LOCATION:Salzburg Airport W. A. Mozart\, Restaurant Jedermann\, Innsbrucker Bundesstr. 95\, Salzburg\, Salzburg\, 5020\, Österreich
CATEGORIES:Salzburg
ATTACH;FMTTYPE=image/jpeg:https://bpw.at/wp/wp-content/uploads/2019/05/rose-verkleinert.jpg
ORGANIZER;CN="BPW Club Salzburg":MAILTO:salzburg@bpw.at
END:VEVENT
BEGIN:VEVENT
DTSTART;TZID=Europe/Vienna:20190410T193000
DTEND;TZID=Europe/Vienna:20190410T210000
DTSTAMP:20260424T212347
CREATED:20190522T091943Z
LAST-MODIFIED:20190721T094507Z
UID:10000702-1554924600-1554930000@bpw.at
SUMMARY:„WHO IS WHO“
DESCRIPTION:Vernetzen nehmen wir als Ausgangspunkt\, um uns über unseren aktuellen beruflichen Status\, unsere Aktivitäten und Bedürfnisse zu informieren. Neue Möglichkeiten\, spontane Ideen sollen Lust und Anregungen für neue Kooperationen und gemeinsame Projekte schaffen. \nWHO IS WHO? Uns kennen zu lernen\, Wissen auf-frischen\, Fragen stellen auf dem Hintergrund von:\nWer bin ich\, was kann ich bieten\, was brauche ich?\nWo kann ich mir vorstellen\, aktiv zu werden? \nVernetzung ab: 18:00 Uhr Vortragsbeginn: 19:30 Uhr \nBPW´s: gratis  Gästebeitrag: €  15\,– \nWährend und nach der Veranstaltung wird fotografiert. Die Fotos werden auf unserer Homepage www.bpw.at/salzburg veröffentlicht und in unserem Gästebuch eingeklebt und sind als Erinnerung und Nachlese gedacht. Mit der Teilnahme am Clubabend erklärt Ihr Euch damit einverstanden.
URL:https://bpw.at/event/who-is-who/
LOCATION:Salzburg Airport W. A. Mozart\, Restaurant Jedermann\, Innsbrucker Bundesstr. 95\, Salzburg\, Salzburg\, 5020\, Österreich
CATEGORIES:Salzburg
ATTACH;FMTTYPE=image/png:https://bpw.at/wp/wp-content/uploads/2019/05/whoiswho-april-2019.png
ORGANIZER;CN="BPW Club Salzburg":MAILTO:salzburg@bpw.at
END:VEVENT
END:VCALENDAR